Workbook

Sheet Instructions
A1: Election Reconciliation Report (13-15-113 MCA)
A2: Federal Primary 2026
A4: Column Explanation / Instructions
A6: Column | B6: Sub Category | C6: Explanation
A7: Precinct | C7: List of County Precincts.
A8: Registered Voters | C8: Active and inactive voters for the election. This calculation is made at 5:00 pm on the Monday after the election, after Provisional and remaining ballots have been counted.
B9: Total | C9: Total of all active and inactive voters for the election.
B10: Election Day | C10: Count of voters with registration updates on election day including newly registered voters and voters transferring counties or precincts.
A11: Ballot Issued | C11: This is the number of all ballots issued for the election including ballots later voided ballots.
B12: Poll | C12: The number of all ballots issued at a polling place for the election
B13: Absentee | C13: The number of all absentee ballots issued for the election including replacement ballots. This includes the total number of UOCAVA ballots issued.
B14: Provisional | C14: The number of all provisional ballots issued for the election. This does NOT include the unresolved absentee ballots handled like provisional ballots per 13-13-245(3) MCA
B15: UOCAVA (included in Absentee Totals) | C15: The number of all ballots issued to a UOCAVA voter. This total is included in the Absentee total
B16: Total | C16: Total of Poll, Absentee, and Provisional ballots issued
A17: Ballots Accepted | C17: The number of all ballots that were accepted to be counted.
B18: Poll | C18: The number of ballots accepted for counting at a polling place. This does NOT include absentee ballots dropped off at the polling place or Provisional ballots issued at the polling place.
B19: Absentee accepted | C19: The number of absentee ballots accepted for the election. This number does include the number of accepted UOCAVA ballots for the same timeframe.
B20: Provisional | C20: The number of Provisional ballots that were resolved and accepted for counting. This does NOT include the unresolved absentee ballots handled like provisional ballots per 13-13-245(3) MCA
B21: UOCAVA (included in Absentee Totals) | C21: The number of UOCAVA ballots accepted. This number will be included in the Absentee ballot accepted total.
B22: Total | C22: This is the total of Poll, the two absentee categories, and provisional.
A23: Ballots Rejected | C23: Total number of Rejected ballots for any reason
B24: Poll | C24: Total number of polling place ballots rejected for any reason.
B25: Absentee | C25: Total number of Absentee ballots rejected for any reason. This includes the total of number of UOCAVA ballots rejected
B26: Provisional | C26: Total number of Provisional ballots rejected. This does NOT include the rejected absentee ballots handled like provisional ballots per 13-13-245(3) MCA
B27: UOCAVA (Included in Absentee Totals) | C27: Total number of UOCAVA rejected. This number is included in the Absentee rejected Total.
B28: Total Rejected - No Voter Credit Assigned | C28: Total ballots rejected before absentee preparation is performed.
B29: Rejected by Prep Team - Post Voter Credit | C29: Additional ballots rejected after absentee preparation is completed. Examples - No ballot or multiple ballots in the secrecy envelope
B30: Total Ballots Voided | C30: Total of ballots voided for any reason. Example - issued absentee ballot is voided because a replacement ballot was requested.
A31: Votes Cast (Ballots Counted) | C31: Total number of ballots counted
B32: Total Ballots Accepted - sent to count | C32: This is the total number of ballots prepared for counting on election day and also for ballots counted after 3:00 pm on the Monday after the election. This is nominally the number of accepted ballots minus the ballots rejected by the prep team and rejected at the polling place.
B33: Poll | C33: Total number of polling place ballots counted
B34: Absentee | C34: Total number of absentee ballots counted. This will include UOCAVA ballots and resolved absentee ballots handled as provisional ballots.
B35: Provisional | C35: This is the number of Provisional ballots that were resolved and able to be counted. This does NOT include the absentee ballots that were resolved after 8:00 pm on election day and handle as a provisional ballot.
B36: Subtotal of counted ballots | C36: This is the total of counted poll, absentee, and provisional ballots
B37: Total ballots counted - entered from tabulator / hand count report | C37: This column is the number of total counted ballots as shown on the tabulator(s) reports and/or hand count reports. This should match the "subtotal of counted ballots" column
B38: UOCAVA (included in Absentee Totals) | C38: Total of UOCAVA ballots counted. This number is included in the total number of absentee ballots counted.
A40: Test Ballots | C40: Test deck ballots totals. This area does not apply to counties that hand-count ballots and therefore do not test a tabulator.
B41: Total Printed | C41: Total ballots printed for testing
B42: Used for Testing | C42: Total ballots used for testing
B43: Counted | C43: Total ballots counted during public test.
...

Sheet State
A1: 2026 Primary Election Reconciliation Report - State of Montana
B2: Registered Voters | D2: Ballots Issued | I2: Ballots Accepted | N2: Ballots Rejected | U2: Votes Cast (Ballots Counted) | AB2: Test Ballots | AE2: Reconciled | AF2: Comments / Explanations
A3: County | B3: Total | C3: Election Day | D3: Poll | E3: Absentee | F3: Provisional | G3: UOCAVA (included in Absentee Totals) | H3: Total | I3: Poll | J3: Absentee | K3: Provisional | L3: UOCAVA (included in Absentee Totals) | M3: Total | N3: Poll | O3: Absentee | P3: Provisional | Q3: UOCAVA (Included in Absentee Totals) | R3: Total Rejected - No Voter Credit Assigned | S3: Rejected by Prep Team - Post Voter Credit | T3: Total Ballots Voided | U3: Total Ballots Accepted - sent to count | V3: Poll | W3: Absentee | X3: Provisional | Y3: Subtotal of Counted Ballots | Z3: Total ballots counted - entered from tabulator / hand count report | AA3: UOCAVA (included in Absentee Totals) | AB3: Total Printed | AC3: Used for Testing | AD3: Counted | AE3: Y/N? | AF3: Note significant variance and / or discrepancies
A4: BEAVERHEAD | B4: =Beaverhead!B20 -> 7205 | C4: =Beaverhead!C20 -> 2 | D4: =Beaverhead!D20 -> 701 | E4: =Beaverhead!E20 -> 3995 | F4: =Beaverhead!F20 -> 25 | G4: =Beaverhead!G20 -> 7 | H4: =Beaverhead!H20 -> 4721 | I4: =Beaverhead!I20 -> 671 | ... AD4: =Beaverhead!AD20 -> 656 | AE4: Yes
A5: BIG HORN | B5: ='Big Horn'!B27 -> 7479 | C5: ='Big Horn'!C27 -> 27 | D5: ='Big Horn'!D27 -> 1088 | E5: ='Big Horn'!E27 -> 2932 | F5: ='Big Horn'!F27 -> 102 | G5: ='Big Horn'!G27 -> 2 | H5: ='Big Horn'!H27 -> 4122 | I5: ='Big Horn'!I27 -> 829 | ... AD5: ='Big Horn'!AD27 -> 0 | AE5: Yes* | AF5: County reported unvoted primary ballots in voted ballot boxes. See county tab
A6: BLAINE | B6: =Blaine!B12 -> 4047 | C6: =Blaine!C12 -> 1 | D6: =Blaine!D12 -> 395 | E6: =Blaine!E12 -> 2067 | F6: =Blaine!F12 -> 13 | G6: =Blaine!G12 -> 5 | H6: =Blaine!H12 -> 2475 | I6: =Blaine!I12 -> 400 | ... AD6: =Blaine!AD12 -> 82 | AE6: Yes
A7: BROADWATER | B7: =Broadwater!B9 -> 6211 | C7: =Broadwater!C9 -> 7 | D7: =Broadwater!D9 -> 294 | E7: =Broadwater!E9 -> 3735 | F7: =Broadwater!F9 -> 7 | G7: =Broadwater!G9 -> 8 | H7: =Broadwater!H9 -> 4036 | I7: =Broadwater!I9 -> 287 | ... AD7: =Broadwater!AD9 -> 47 | AE7: Yes
A8: CARBON | B8: =Carbon!B17 -> 9130 | C8: =Carbon!C17 -> 2 | D8: =Carbon!D17 -> 797 | E8: =Carbon!E17 -> 5626 | F8: =Carbon!F17 -> 22 | G8: =Carbon!G17 -> 27 | H8: =Carbon!H17 -> 6445 | I8: =Carbon!I17 -> 797 | ... AD8: =Carbon!AD17 -> 0 | AE8: Yes
A9: CARTER | B9: =Carter!B8 -> 1003 | C9: =Carter!C8 -> 1 | D9: =Carter!D8 -> 280 | E9: =Carter!E8 -> 466 | F9: =Carter!F8 -> 0 | G9: =Carter!G8 -> 0 | H9: =Carter!H8 -> 746 | I9: =Carter!I8 -> 278 | ... AD9: =Carter!AD8 -> 40 | AE9: Yes
A10: CASCADE | B10: =Cascade!B30 -> 51616 | C10: =Cascade!C30 -> 48 | D10: =Cascade!D30 -> 890 | E10: =Cascade!E30 -> 36038 | F10: =Cascade!F30 -> 29 | G10: =Cascade!G30 -> 94 | H10: =Cascade!H30 -> 36957 | I10: =Cascade!I30 -> 897 | ... AD10: =Cascade!AD30 -> 650 | AE10: Yes
A11: CHOUTEAU | B11: =Chouteau!B13 -> 3670 | C11: =Chouteau!C13 -> 4 | D11: =Chouteau!D13 -> 390 | E11: =Chouteau!E13 -> 2264 | F11: =Chouteau!F13 -> 21 | G11: =Chouteau!G13 -> 8 | H11: =Chouteau!H13 -> 2675 | I11: =Chouteau!I13 -> 386 | ... AD11: =Chouteau!AD13 -> 270 | AE11: Yes
A12: CUSTER | B12: =Custer!B16 -> 7412 | C12: =Custer!C16 -> 10 | D12: =Custer!D16 -> 770 | E12: =Custer!E16 -> 3809 | F12: =Custer!F16 -> 22 | G12: =Custer!G16 -> 11 | H12: =Custer!H16 -> 4601 | I12: =Custer!I16 -> 770 | ... AD12: =Custer!AD16 -> 120 | AE12: Yes
A13: DANIELS | B13: =Daniels!B8 -> 1145 | C13: =Daniels!C8 -> 1 | D13: =Daniels!D8 -> 198 | E13: =Daniels!E8 -> 553 | F13: =Daniels!F8 -> 0 | G13: =Daniels!G8 -> 0 | H13: =Daniels!H8 -> 751 | I13: =Daniels!I8 -> 198 | ... AD13: =Daniels!AD8 -> 0 | AE13: Yes
A14: DAWSON | B14: =Dawson!B11 -> 5647 | C14: =Dawson!C11 -> 8 | D14: =Dawson!D11 -> 462 | E14: =Dawson!E11 -> 3779 | F14: =Dawson!F11 -> 7 | G14: =Dawson!G11 -> 5 | H14: =Dawson!H11 -> 4248 | I14: =Dawson!I11 -> 459 | ... AD14: =Dawson!AD11 -> 828 | AE14: Yes
A15: DEER LODGE | B15: ='Deer Lodge'!B10 -> 6179 | C15: ='Deer Lodge'!C10 -> 7 | D15: ='Deer Lodge'!D10 -> 321 | E15: ='Deer Lodge'!E10 -> 4110 | F15: ='Deer Lodge'!F10 -> 26 | G15: ='Deer Lodge'!G10 -> 8 | H15: ='Deer Lodge'!H10 -> 4457 | I15: ='Deer Lodge'!I10 -> 311 | ... AD15: ='Deer Lodge'!AD10 -> 204 | AE15: Yes
A16: FALLON | B16: =Fallon!B5 -> 1804 | C16: =Fallon!C5 -> 0 | D16: =Fallon!D5 -> 133 | E16: =Fallon!E5 -> 1273 | F16: =Fallon!F5 -> 0 | G16: =Fallon!G5 -> 1 | H16: =Fallon!H5 -> 1406 | I16: =Fallon!I5 -> 133 | ... AD16: =Fallon!AD5 -> 0 | AE16: Yes
A17: FERGUS | B17: =Fergus!B20 -> 8108 | C17: =Fergus!C20 -> 1 | D17: =Fergus!D20 -> 662 | E17: =Fergus!E20 -> 5190 | F17: =Fergus!F20 -> 0 | G17: =Fergus!G20 -> 14 | H17: =Fergus!H20 -> 5852 | I17: =Fergus!I20 -> 662 | ... AD17: =Fergus!AD20 -> 239 | AE17: Yes
A18: FLATHEAD | B18: =Flathead!B61 -> 85683 | C18: =Flathead!C61 -> 100 | D18: =Flathead!D61 -> 3949 | E18: =Flathead!E61 -> 52359 | F18: =Flathead!F61 -> 345 | G18: =Flathead!G61 -> 154 | H18: =Flathead!H61 -> 56653 | I18: =Flathead!I61 -> 3949 | ... AD18: =Flathead!AD61 -> 1360 | AE18: Yes
A19: GALLATIN | B19: =Gallatin!B50 -> 96618 | C19: =Gallatin!C50 -> 163 | D19: =Gallatin!D50 -> 1351 | E19: =Gallatin!E50 -> 64617 | F19: =Gallatin!F50 -> 288 | G19: =Gallatin!G50 -> 251 | H19: =Gallatin!H50 -> 66256 | I19: =Gallatin!I50 -> 1321 | ... AD19: =Gallatin!AD50 -> 1840 | AE19: Yes
A20: GARFIELD | B20: =Garfield!B8 -> 864 | C20: =Garfield!C8 -> 4 | D20: =Garfield!D8 -> 127 | E20: =Garfield!E8 -> 508 | F20: =Garfield!F8 -> 0 | G20: =Garfield!G8 -> 0 | H20: =Garfield!H8 -> 635 | I20: =Garfield!I8 -> 127 | ... AD20: =Garfield!AD8 -> 0 | AE20: Yes
A21: GLACIER | B21: =Glacier!B20 -> 7793 | C21: =Glacier!C20 -> 76 | D21: =Glacier!D20 -> 553 | E21: =Glacier!E20 -> 4328 | F21: =Glacier!F20 -> 43 | G21: =Glacier!G20 -> 2 | H21: =Glacier!H20 -> 4924 | I21: =Glacier!I20 -> 553 | ... AD21: =Glacier!AD20 -> 146 | AE21: Yes
A22: GOLDEN VALLEY | B22: ='Golden Valley'!B6 -> 605 | C22: ='Golden Valley'!C6 -> 1 | D22: ='Golden Valley'!D6 -> 37 | E22: ='Golden Valley'!E6 -> 418 | F22: ='Golden Valley'!F6 -> 0 | G22: ='Golden Valley'!G6 -> 1 | H22: ='Golden Valley'!H6 -> 455 | I22: ='Golden Valley'!I6 -> 37 | ... AD22: ='Golden Valley'!AD6 -> 0 | AE22: Yes
A23: GRANITE | B23: =Granite!B8 -> 2750 | C23: =Granite!C8 -> 1 | D23: =Granite!D8 -> 350 | E23: =Granite!E8 -> 1570 | F23: =Granite!F8 -> 3 | G23: =Granite!G8 -> 4 | H23: =Granite!H8 -> 1923 | I23: =Granite!I8 -> 349 | ... AD23: =Granite!AD8 -> 100 | AE23: Yes
A24: HILL | B24: =Hill!B21 -> 9242 | C24: =Hill!C21 -> 9 | D24: =Hill!D21 -> 369 | E24: =Hill!E21 -> 5636 | F24: =Hill!F21 -> 20 | G24: =Hill!G21 -> 9 | H24: =Hill!H21 -> 6025 | I24: =Hill!I21 -> 342 | ... AD24: =Hill!AD21 -> 284 | AE24: Yes | AF24: Possible 10 vote difference in votes cast subtotals for Precinct #10
A25: JEFFERSON | B25: =Jefferson!B16 -> 10131 | C25: =Jefferson!C16 -> 5 | D25: =Jefferson!D16 -> 564 | E25: =Jefferson!E16 -> 6707 | F25: =Jefferson!F16 -> 2 | G25: =Jefferson!G16 -> 27 | H25: =Jefferson!H16 -> 7273 | I25: =Jefferson!I16 -> 560 | ... AD25: =Jefferson!AD16 -> 257 | AE25: Yes
A26: JUDITH BASIN | B26: ='Judith Basin'!B8 -> 1572 | C26: ='Judith Basin'!C8 -> 1 | D26: ='Judith Basin'!D8 -> 197 | E26: ='Judith Basin'!E8 -> 967 | F26: ='Judith Basin'!F8 -> 0 | G26: ='Judith Basin'!G8 -> 3 | H26: ='Judith Basin'!H8 -> 1164 | I26: ='Judith Basin'!I8 -> 196 | ... AD26: ='Judith Basin'!AD8 -> 120 | AE26: Yes
A27: LAKE | B27: =Lake!B26 -> 22513 | C27: =Lake!C26 -> 27 | D27: =Lake!D26 -> 1222 | E27: =Lake!E26 -> 14201 | F27: =Lake!F26 -> 118 | G27: =Lake!G26 -> 25 | H27: =Lake!H26 -> 15541 | I27: =Lake!I26 -> 1225 | ... AD27: =Lake!AD26 -> 528 | AE27: Yes
A28: LEWIS AND CLARK | B28: ='Lewis and Clark'!B36 -> 53031 | C28: ='Lewis and Clark'!C36 -> 48 | D28: ='Lewis and Clark'!D36 -> 2217 | E28: ='Lewis and Clark'!E36 -> 37591 | F28: ='Lewis and Clark'!F36 -> 152 | G28: ='Lewis and Clark'!G36 -> 121 | H28: ='Lewis and Clark'!H36 -> 39960 | I28: ='Lewis and Clark'!I36 -> 2217 | ... AD28: ='Lewis and Clark'!AD36 -> 768 | AE28: Yes
A29: LIBERTY | B29: =Liberty!B8 -> 1176 | C29: =Liberty!C8 -> 3 | D29: =Liberty!D8 -> 127 | E29: =Liberty!E8 -> 773 | F29: =Liberty!F8 -> 0 | G29: =Liberty!G8 -> 5 | H29: =Liberty!H8 -> 900 | I29: =Liberty!I8 -> 127 | ... AD29: =Liberty!AD8 -> 40 | AE29: Yes
A30: LINCOLN | B30: =Lincoln!B20 -> 14840 | C30: =Lincoln!C20 -> 34 | D30: =Lincoln!D20 -> 1561 | E30: =Lincoln!E20 -> 8961 | F30: =Lincoln!F20 -> 40 | G30: =Lincoln!G20 -> 24 | H30: =Lincoln!H20 -> 10562 | I30: =Lincoln!I20 -> 1561 | ... AD30: =Lincoln!AD20 -> 145 | AE30: Yes* | AF30: Count of ballots rejected when opening secrecy envelopes and count of ballot by type was not reported. See county tab.
A31: MADISON | B31: =Madison!B15 -> 7793 | C31: =Madison!C15 -> 6 | D31: =Madison!D15 -> 840 | E31: =Madison!E15 -> 4975 | F31: =Madison!F15 -> 1 | G31: =Madison!G15 -> 31 | H31: =Madison!H15 -> 5816 | I31: =Madison!I15 -> 836 | ... AD31: =Madison!AD15 -> 330 | AE31: Yes
A32: MCCONE | B32: =McCone!B7 -> 1249 | C32: =McCone!C7 -> 0 | D32: =McCone!D7 -> 277 | E32: =McCone!E7 -> 620 | F32: =McCone!F7 -> 0 | G32: =McCone!G7 -> 0 | H32: =McCone!H7 -> 897 | I32: =McCone!I7 -> 293 | ... AD32: =McCone!AD7 -> 0 | AE32: Yes* | AF32: Count of ballot by type not reported. See county tab.
A33: MEAGHER | B33: =Meagher!B5 -> 1437 | C33: =Meagher!C5 -> 3 | D33: =Meagher!D5 -> 64 | E33: =Meagher!E5 -> 1001 | F33: =Meagher!F5 -> 0 | G33: =Meagher!G5 -> 0 | H33: =Meagher!H5 -> 1065 | I33: =Meagher!I5 -> 64 | ... AD33: =Meagher!AD5 -> 0 | AE33: Yes
A34: MINERAL | B34: =Mineral!B10 -> 4056 | C34: =Mineral!C10 -> 20 | D34: =Mineral!D10 -> 427 | E34: =Mineral!E10 -> 2364 | F34: =Mineral!F10 -> 32 | G34: =Mineral!G10 -> 5 | H34: =Mineral!H10 -> 2823 | I34: =Mineral!I10 -> 427 | ... AD34: =Mineral!AD10 -> 110 | AE34: Yes
A35: MISSOULA | B35: =Missoula!B69 -> 91314 | C35: =Missoula!C69 -> 272 | D35: =Missoula!D69 -> 2129 | E35: =Missoula!E69 -> 65292 | F35: =Missoula!F69 -> 393 | G35: =Missoula!G69 -> 253 | H35: =Missoula!H69 -> 67814 | I35: =Missoula!I69 -> 2130 | ... AD35: =Missoula!AD69 -> 1950 | AE35: Yes
A36: MUSSELSHELL | B36: =Musselshell!B10 -> 3832 | C36: =Musselshell!C10 -> 4 | D36: =Musselshell!D10 -> 494 | E36: =Musselshell!E10 -> 2364 | F36: =Musselshell!F10 -> 6 | G36: =Musselshell!G10 -> 0 | H36: =Musselshell!H10 -> 2864 | I36: =Musselshell!I10 -> 484 | ... AD36: =Musselshell!AD10 -> 60 | AE36: Yes* | AF36: Count of ballots rejected when opening secrecy envelopes not fully reported. See county tab.
A37: PARK | B37: =Park!B16 -> 14531 | C37: =Park!C16 -> 13 | D37: =Park!D16 -> 811 | E37: =Park!E16 -> 8862 | F37: =Park!F16 -> 51 | G37: =Park!G16 -> 51 | H37: =Park!H16 -> 9724 | I37: =Park!I16 -> 811 | ... AD37: =Park!AD16 -> 360 | AE37: Yes
A38: PETROLEUM | B38: =Petroleum!B5 -> 368 | C38: =Petroleum!C5 -> 5 | D38: =Petroleum!D5 -> 37 | E38: =Petroleum!E5 -> 239 | F38: =Petroleum!F5 -> 0 | G38: =Petroleum!G5 -> 0 | H38: =Petroleum!H5 -> 276 | I38: =Petroleum!I5 -> 37 | ... AD38: =Petroleum!AD5 -> 15 | AE38: Yes
A39: PHILLIPS | B39: =Phillips!B8 -> 2632 | C39: =Phillips!C8 -> 4 | D39: =Phillips!D8 -> 138 | E39: =Phillips!E8 -> 2016 | F39: =Phillips!F8 -> 0 | G39: =Phillips!G8 -> 9 | H39: =Phillips!H8 -> 2154 | I39: =Phillips!I8 -> 137 | ... AD39: =Phillips!AD8 -> 86 | AE39: Yes
A40: PONDERA | B40: =Pondera!B12 -> 3782 | C40: =Pondera!C12 -> 0 | D40: =Pondera!D12 -> 252 | E40: =Pondera!E12 -> 2601 | F40: =Pondera!F12 -> 17 | G40: =Pondera!G12 -> 5 | H40: =Pondera!H12 -> 2870 | I40: =Pondera!I12 -> 234 | ... AD40: =Pondera!AD12 -> 360 | AE40: Yes
...

Sheet Beaverhead
A1: 2026 Primary Election Reconciliation Report - Beaverhead County
B2: Registered Voters | D2: Ballots Issued | I2: Ballots Accepted | N2: Ballots Rejected | U2: Votes Cast (Ballots Counted) | AB2: Test Ballots | AE2: Reconciled | AF2: Comments / Explanations
A3: Precinct | B3: Total | C3: Election Day | D3: Poll | E3: Absentee | F3: Provisional | G3: UOCAVA (included in Absentee Totals) | H3: Total | I3: Poll | J3: Absentee | K3: Provisional | L3: UOCAVA (included in Absentee Totals) | M3: Total | N3: Poll | O3: Absentee | P3: Provisional | Q3: UOCAVA (Included in Absentee Totals) | R3: Total Rejected - No Voter Credit Assigned | S3: Rejected by Prep Team - Post Voter Credit | T3: Total Ballots Voided | U3: Total Ballots Accepted - sent to count | V3: Poll | W3: Absentee | X3: Provisional | Y3: Subtotal of Counted Ballots | Z3: Total ballots counted - entered from tabulator / hand count report | AA3: UOCAVA (included in Absentee Totals) | AB3: Total Printed | AC3: Used for Testing | AD3: Counted | AE3: Y/N? | AF3: Note any variance and / or discrepancies
A4: PREC 01 | B4: 526 | C4: 0 | D4: 33 | E4: 271 | F4: 2 | G4: 0 | H4: 306 | I4: 31 | J4: 128 | K4: 2 | L4: 0 | M4: 161 | N4: 0 | O4: 1 | P4: 0 | R4: 1 | S4: 6 | T4: 8 | U4: 155 | V4: 31 | W4: 122 | X4: 2 | Y4: 155 | Z4: 155 | AA4: 0 | AB4: 75 | AC4: 34 | AD4: 41
A5: PREC 02 | B5: 1095 | C5: 0 | D5: 92 | E5: 625 | F5: 2 | G5: 3 | H5: 719 | I5: 89 | J5: 380 | K5: 2 | L5: 2 | M5: 471 | O5: 6 | P5: 1 | R5: 7 | S5: 11 | T5: 2 | U5: 460 | V5: 89 | W5: 369 | X5: 2 | Y5: 460 | Z5: 460 | AA5: 2 | AB5: 75 | AC5: 34 | AD5: 41
A6: PREC 03 | B6: 1102 | C6: 0 | D6: 107 | E6: 639 | F6: 2 | G6: 1 | H6: 748 | I6: 104 | J6: 382 | K6: 2 | L6: 0 | M6: 488 | O6: 3 | P6: 2 | R6: 5 | S6: 9 | T6: 5 | U6: 479 | V6: 104 | W6: 373 | X6: 2 | Y6: 479 | Z6: 479 | AA6: 0 | AB6: 75 | AC6: 34 | AD6: 41
A7: PREC 04 | B7: 261 | C7: 0 | D7: 20 | E7: 163 | F7: 2 | G7: 0 | H7: 185 | I7: 18 | J7: 99 | K7: 2 | L7: 0 | M7: 119 | O7: 4 | P7: 2 | R7: 6 | S7: 3 | T7: 1 | U7: 116 | V7: 18 | W7: 96 | X7: 2 | Y7: 116 | Z7: 116 | AA7: 0 | AB7: 75 | AC7: 34 | AD7: 41
A8: PREC 05 | B8: 190 | C8: 0 | D8: 15 | E8: 133 | F8: 0 | G8: 0 | H8: 148 | I8: 15 | J8: 77 | K8: 0 | L8: 0 | M8: 92 | N8: 0 | O8: 1 | P8: 0 | R8: 1 | S8: 0 | T8: 1 | U8: 92 | V8: 15 | W8: 77 | X8: 0 | Y8: 92 | Z8: 92 | AA8: 0 | AB8: 75 | AC8: 34 | AD8: 41
A9: PREC 06 | B9: 679 | C9: 1 | D9: 45 | E9: 346 | F9: 2 | G9: 0 | H9: 393 | I9: 44 | J9: 199 | K9: 2 | L9: 0 | M9: 245 | N9: 0 | O9: 2 | P9: 1 | R9: 3 | S9: 11 | T9: 5 | U9: 234 | V9: 44 | W9: 188 | X9: 2 | Y9: 234 | Z9: 234 | AA9: 0 | AB9: 75 | AC9: 34 | AD9: 41
A10: PREC 07 | B10: 395 | C10: 0 | D10: 49 | E10: 207 | F10: 0 | G10: 0 | H10: 256 | I10: 49 | J10: 132 | K10: 0 | L10: 0 | M10: 181 | N10: 0 | O10: 0 | P10: 0 | R10: 0 | S10: 3 | T10: 0 | U10: 178 | V10: 49 | W10: 129 | X10: 0 | Y10: 178 | Z10: 178 | AA10: 0 | AB10: 75 | AC10: 34 | AD10: 41
A11: PREC 08 | B11: 94 | C11: 0 | D11: 15 | E11: 40 | F11: 0 | G11: 0 | H11: 55 | I11: 15 | J11: 21 | K11: 0 | L11: 0 | M11: 36 | N11: 0 | O11: 0 | P11: 0 | R11: 0 | S11: 0 | T11: 1 | U11: 36 | V11: 15 | W11: 21 | X11: 0 | Y11: 36 | Z11: 36 | AA11: 0 | AB11: 75 | AC11: 34 | AD11: 41
A12: PREC 09 | B12: 593 | C12: 0 | D12: 62 | E12: 354 | F12: 3 | G12: 1 | H12: 419 | I12: 59 | J12: 221 | K12: 3 | L12: 0 | M12: 283 | N12: 0 | O12: 0 | P12: 0 | R12: 0 | S12: 7 | T12: 2 | U12: 276 | V12: 59 | W12: 214 | X12: 3 | Y12: 276 | Z12: 276 | AA12: 0 | AB12: 75 | AC12: 34 | AD12: 41
A13: PREC 12 | B13: 710 | C13: 0 | D13: 81 | E13: 397 | F13: 3 | G13: 1 | H13: 481 | I13: 79 | J13: 235 | K13: 3 | L13: 1 | M13: 317 | N13: 0 | O13: 1 | P13: 1 | R13: 2 | S13: 9 | T13: 3 | U13: 308 | V13: 79 | W13: 226 | X13: 3 | Y13: 308 | Z13: 308 | AA13: 1 | AB13: 75 | AC13: 34 | AD13: 41 | AF13: 1 ballot long in PP ballot box/voter may have deposited two ballots in the "voted" ballot sleeve when depositing into the ballot box.
A14: PREC 14 | B14: 695 | C14: 0 | D14: 52 | E14: 331 | F14: 1 | G14: 0 | H14: 384 | I14: 51 | J14: 169 | K14: 1 | L14: 0 | M14: 221 | N14: 0 | O14: 0 | P14: 0 | R14: 0 | S14: 7 | T14: 1 | U14: 214 | V14: 51 | W14: 162 | X14: 1 | Y14: 214 | Z14: 214 | AA14: 0 | AB14: 75 | AC14: 34 | AD14: 41
A15: PREC 17 | B15: 189 | C15: 0 | D15: 16 | E15: 118 | F15: 1 | G15: 0 | H15: 135 | I15: 15 | J15: 62 | K15: 1 | L15: 0 | M15: 78 | N15: 0 | O15: 0 | P15: 0 | R15: 0 | S15: 0 | T15: 2 | U15: 78 | V15: 15 | W15: 62 | X15: 1 | Y15: 78 | Z15: 78 | AA15: 0 | AB15: 75 | AC15: 34 | AD15: 41
A16: PREC 19 | B16: 188 | C16: 0 | D16: 25 | E16: 114 | F16: 1 | G16: 0 | H16: 140 | I16: 23 | J16: 70 | K16: 1 | L16: 0 | M16: 94 | O16: 0 | P16: 0 | R16: 0 | S16: 0 | T16: 3 | U16: 94 | V16: 23 | W16: 70 | X16: 1 | Y16: 94 | Z16: 94 | AA16: 0 | AB16: 75 | AC16: 34 | AD16: 41
A17: PREC 20 | B17: 110 | C17: 0 | D17: 25 | E17: 56 | F17: 2 | G17: 1 | H17: 83 | I17: 23 | J17: 35 | K17: 2 | L17: 1 | M17: 60 | O17: 1 | P17: 0 | R17: 1 | S17: 0 | T17: 0 | U17: 60 | V17: 23 | W17: 35 | X17: 2 | Y17: 60 | Z17: 60 | AA17: 1 | AB17: 75 | AC17: 34 | AD17: 41
A18: PREC 21 | B18: 194 | C18: 1 | D18: 33 | E18: 94 | F18: 0 | G18: 0 | H18: 127 | I18: 33 | J18: 60 | K18: 0 | L18: 0 | M18: 93 | N18: 0 | O18: 0 | P18: 0 | R18: 0 | S18: 2 | T18: 0 | U18: 91 | V18: 33 | W18: 58 | X18: 0 | Y18: 91 | Z18: 91 | AB18: 75 | AC18: 34 | AD18: 41
A19: PREC 23 | B19: 184 | C19: 0 | D19: 31 | E19: 107 | F19: 4 | G19: 0 | H19: 142 | I19: 23 | J19: 65 | K19: 4 | L19: 0 | M19: 92 | O19: 0 | P19: 0 | R19: 0 | S19: 3 | T19: 0 | U19: 89 | V19: 23 | W19: 62 | X19: 4 | Y19: 89 | Z19: 89 | AB19: 75 | AC19: 34 | AD19: 41
A20: Total | B20: =SUM(B4:B19) -> 7205 | C20: =SUM(C4:C19) -> 2 | D20: =SUM(D4:D19) -> 701 | E20: =SUM(E4:E19) -> 3995 | F20: =SUM(F4:F19) -> 25 | G20: =SUM(G4:G19) -> 7 | H20: =SUM(H4:H19) -> 4721 | I20: =SUM(I4:I19) -> 671 | ... AD20: =SUM(AD4:AD19) -> 656

Sheet Big Horn
A1: 2026 Primary Election Reconciliation Report - Big Horn County
B2: Registered Voters | D2: Ballots Issued | I2: Ballots Accepted | N2: Ballots Rejected | U2: Votes Cast (Ballots Counted) | AB2: Test Ballots | AE2: Reconciled | AF2: Comments / Explanations
A3: Precinct | B3: Total | C3: Election Day | D3: Poll | E3: Absentee | F3: Provisional | G3: UOCAVA (included in Absentee Totals) | H3: Total | I3: Poll | J3: Absentee | K3: Provisional | L3: UOCAVA (included in Absentee Totals) | M3: Total | N3: Poll | O3: Absentee | P3: Provisional | Q3: UOCAVA (Included in Absentee Totals) | R3: Total Rejected - No Voter Credit Assigned | S3: Rejected by Prep Team - Post Voter Credit | T3: Total Ballots Voided | U3: Total Ballots Accepted - sent to count | V3: Poll | W3: Absentee | X3: Provisional | Y3: Subtotal of Counted Ballots | Z3: Total ballots counted - entered from tabulator / hand count report | AA3: UOCAVA (included in Absentee Totals) | AB3: Total Printed | AC3: Used for Testing | AD3: Counted | AE3: Y/N? | AF3: Note any variance and / or discrepancies
A4: PRECINCT #1 | B4: 127 | C4: 0 | D4: 22 | E4: 53 | F4: 0 | G4: 0 | H4: 75 | I4: 22 | J4: 29 | K4: 0 | L4: 0 | M4: 51 | N4: 0 | O4: 2 | P4: 0 | Q4: 0 | R4: 2 | S4: 4 | T4: 0 | U4: 47 | V4: 22 | W4: 25 | X4: 0 | Y4: 47 | Z4: 47 | AA4: 0 | AB4: 30 | AC4: 30 | AD4: 0 | AE4: Y
A5: PRECINCT #10 | B5: 86 | C5: 0 | D5: 13 | E5: 48 | F5: 2 | G5: 0 | H5: 63 | I5: 8 | J5: 27 | K5: 2 | L5: 0 | M5: 37 | N5: 0 | O5: 0 | P5: 0 | Q5: 0 | R5: 0 | S5: 4 | T5: 1 | U5: 38 | V5: 13 | W5: 23 | X5: 2 | Y5: 38 | Z5: 38 | AA5: 0 | AB5: 30 | AC5: 30 | AD5: 0 | AE5: N | AF5: 5 people voted two ballots.
A6: PRECINCT #11 | B6: 259 | C6: 2 | D6: 42 | E6: 79 | F6: 9 | G6: 1 | H6: 130 | I6: 34 | J6: 34 | K6: 7 | L6: 0 | M6: 75 | N6: 0 | O6: 0 | P6: 2 | Q6: 0 | R6: 2 | S6: 8 | T6: 1 | U6: 73 | V6: 42 | W6: 26 | X6: 7 | Y6: 75 | Z6: 73 | AA6: 0 | AB6: 30 | AC6: 30 | AD6: 0 | AE6: N | AF6: Off by 2 people who voted provisionally in Precinct 25, 4 people voted 3 ballots
A7: PRECINCT #12 | B7: 211 | C7: 0 | D7: 23 | E7: 69 | F7: 3 | G7: 0 | H7: 95 | I7: 20 | J7: 23 | K7: 3 | L7: 0 | M7: 46 | N7: 0 | O7: 0 | P7: 0 | Q7: 0 | R7: 0 | S7: 4 | T7: 0 | U7: 45 | V7: 23 | W7: 19 | X7: 3 | Y7: 45 | Z7: 45 | AA7: 0 | AB7: 30 | AC7: 30 | AD7: 0 | AE7: N | AF7: 3 people voted two ballots.
A8: PRECINCT #14 | B8: 323 | C8: 2 | D8: 53 | E8: 119 | F8: 12 | G8: 1 | H8: 184 | I8: 48 | J8: 30 | K8: 12 | L8: 0 | M8: 90 | N8: 0 | O8: 1 | P8: 0 | Q8: 0 | R8: 1 | S8: 13 | T8: 0 | U8: 80 | V8: 53 | W8: 17 | X8: 12 | Y8: 82 | Z8: 80 | AA8: 0 | AB8: 30 | AC8: 30 | AD8: 0 | AE8: N | AF8: 5 people voted two ballots.
A9: PRECINCT #15 | B9: 507 | C9: 2 | D9: 247 | E9: 141 | F9: 0 | G9: 0 | H9: 388 | I9: 74 | J9: 35 | K9: 0 | L9: 0 | M9: 109 | N9: 0 | O9: 1 | P9: 0 | Q9: 0 | R9: 1 | S9: 4 | T9: 0 | U9: 278 | V9: 247 | W9: 31 | X9: 0 | Y9: 278 | Z9: 278 | AA9: 0 | AB9: 30 | AC9: 30 | AD9: 0 | AE9: N | AF9: All voters at the polls received all three ballots and voted them, and we had 8 voters not logged in register who voted 3 ballots and had one voter who voted two ballots.
A10: PRECINCT #16 | B10: 152 | C10: 1 | D10: 24 | E10: 43 | F10: 1 | G10: 0 | H10: 68 | I10: 20 | J10: 17 | K10: 2 | L10: 0 | M10: 39 | N10: 0 | O10: 0 | P10: 0 | Q10: 0 | R10: 0 | S10: 5 | T10: 0 | U10: 38 | V10: 24 | W10: 12 | X10: 2 | Y10: 38 | Z10: 38 | AA10: 0 | AB10: 30 | AC10: 30 | AD10: 0 | AE10: N | AF10: 2 People voted three ballots.
A11: PRECINCT #17 | B11: 590 | C11: 6 | D11: 45 | E11: 276 | F11: 5 | G11: 0 | H11: 326 | I11: 38 | J11: 130 | K11: 2 | L11: 0 | M11: 170 | N11: 0 | O11: 2 | P11: 0 | Q11: 0 | R11: 2 | S11: 11 | T11: 2 | U11: 168 | V11: 45 | W11: 119 | X11: 2 | Y11: 166 | Z11: 168 | AA11: 0 | AB11: 30 | AC11: 30 | AD11: 0 | AE11: N | AF11: 2 Provisional voters had polling place credit had to remove. 3 people double voted, 1 person voted all three ballots.
A12: PRECINCT #18 | B12: 527 | C12: 4 | D12: 45 | E12: 255 | F12: 6 | G12: 0 | H12: 306 | I12: 45 | J12: 137 | K12: 5 | L12: 0 | M12: 187 | N12: 0 | O12: 0 | P12: 1 | Q12: 0 | R12: 1 | S12: 7 | T12: 3 | U12: 179 | V12: 45 | W12: 130 | X12: 5 | Y12: 180 | Z12: 179 | AA12: 0 | AB12: 30 | AC12: 30 | AD12: 0 | AE12: Y
A13: PRECINCT #19 | B13: 746 | C13: 3 | D13: 53 | E13: 373 | F13: 7 | G13: 0 | H13: 433 | I13: 41 | J13: 206 | K13: 6 | L13: 0 | M13: 253 | N13: 0 | O13: 4 | P13: 1 | Q13: 0 | R13: 5 | S13: 16 | T13: 4 | U13: 248 | V13: 53 | W13: 190 | X13: 6 | Y13: 249 | Z13: 248 | AA13: 0 | AB13: 30 | AC13: 30 | AD13: 0 | AE13: N | AF13: 6 people triple voted.
A14: PRECINCT #2 | B14: 268 | C14: 1 | D14: 18 | E14: 132 | F14: 1 | G14: 0 | H14: 151 | I14: 13 | J14: 44 | K14: 1 | L14: 0 | M14: 58 | N14: 0 | O14: 0 | P14: 0 | Q14: 0 | R14: 0 | S14: 4 | T14: 1 | U14: 59 | V14: 18 | W14: 40 | X14: 1 | Y14: 59 | Z14: 59 | AA14: 0 | AB14: 30 | AC14: 30 | AD14: 0 | AE14: N | AF14: 5 People voted two ballots.
A15: PRECINCT #20 | B15: 225 | C15: 2 | D15: 19 | E15: 123 | F15: 0 | G15: 0 | H15: 142 | I15: 16 | J15: 70 | K15: 0 | L15: 0 | M15: 86 | N15: 0 | O15: 0 | P15: 0 | Q15: 0 | R15: 0 | S15: 7 | T15: 1 | U15: 82 | V15: 19 | W15: 63 | X15: 0 | Y15: 82 | Z15: 82 | AA15: 0 | AB15: 30 | AC15: 30 | AD15: 0 | AE15: N | AF15: 3 people voted two ballots.
A16: PRECINCT #21 | B16: 760 | C16: 1 | D16: 150 | E16: 261 | F16: 18 | G16: 0 | H16: 429 | I16: 143 | J16: 102 | K16: 14 | L16: 0 | M16: 259 | N16: 0 | O16: 1 | P16: 1 | Q16: 0 | R16: 2 | S16: 24 | T16: 5 | U16: 244 | V16: 150 | W16: 78 | X16: 14 | Y16: 242 | Z16: 244 | AA16: 0 | AB16: 30 | AC16: 30 | AD16: 0 | AE16: N | AF16: 3 people voted all three ballots , and one absentee counted as poll vote.
A17: PRECINCT #25 | B17: 101 | C17: 0 | D17: 21 | E17: 44 | F17: 0 | G17: 0 | H17: 65 | I17: 14 | J17: 14 | K17: 0 | L17: 0 | M17: 28 | N17: 0 | O17: 0 | P17: 0 | Q17: 0 | R17: 0 | S17: 7 | T17: 0 | U17: 31 | V17: 21 | W17: 7 | X17: 0 | Y17: 28 | Z17: 31 | AA17: 0 | AB17: 30 | AC17: 30 | AD17: 0 | AE17: N | AF17: 4 Provisionals issued for non precinct voters, 3 absentees opened and run through machine given poll credit not absentee credit.
A18: PRECINCT #26 | B18: 461 | C18: 0 | D18: 50 | E18: 166 | F18: 8 | G18: 0 | H18: 224 | I18: 48 | J18: 44 | K18: 13 | L18: 0 | M18: 105 | N18: 0 | O18: 0 | P18: 0 | Q18: 0 | R18: 0 | S18: 7 | T18: 0 | U18: 95 | V18: 50 | W18: 37 | X18: 13 | Y18: 100 | Z18: 95 | AA18: 0 | AB18: 30 | AC18: 30 | AD18: 0 | AE18: N | AF18: 1 person voted three ballots.
A19: PRECINCT #3 | B19: 106 | C19: 0 | D19: 8 | E19: 64 | F19: 0 | G19: 0 | H19: 72 | I19: 7 | J19: 41 | K19: 0 | L19: 0 | M19: 48 | N19: 0 | O19: 0 | P19: 0 | Q19: 0 | R19: 0 | S19: 4 | T19: 0 | U19: 45 | V19: 8 | W19: 37 | X19: 0 | Y19: 45 | Z19: 45 | AA19: 0 | AB19: 30 | AC19: 30 | AD19: 0 | AE19: N | AF19: 1 Extra ballot cast at polls.
A20: PRECINCT #4 | B20: 110 | C20: 0 | D20: 3 | E20: 75 | F20: 0 | G20: 0 | H20: 78 | I20: 3 | J20: 47 | K20: 0 | L20: 0 | M20: 50 | N20: 0 | O20: 0 | P20: 0 | Q20: 0 | R20: 0 | S20: 1 | T20: 0 | U20: 49 | V20: 3 | W20: 46 | X20: 0 | Y20: 49 | Z20: 49 | AA20: 0 | AB20: 30 | AC20: 30 | AD20: 0 | AE20: Y
A21: PRECINCT #4N | B21: 207 | C21: 0 | D21: 16 | E21: 139 | F21: 0 | G21: 0 | H21: 155 | I21: 15 | J21: 90 | K21: 0 | L21: 0 | M21: 105 | N21: 0 | O21: 0 | P21: 0 | Q21: 0 | R21: 0 | S21: 2 | T21: 2 | U21: 104 | V21: 16 | W21: 88 | X21: 0 | Y21: 104 | Z21: 104 | AA21: 0 | AB21: 30 | AC21: 30 | AD21: 0 | AE21: N | AF21: 1 Person voted two ballots.
A22: PRECINCT #5 | B22: 243 | C22: 1 | D22: 40 | E22: 71 | G22: 0 | H22: 111 | I22: 36 | J22: 26 | K22: 5 | L22: 0 | M22: 67 | N22: 0 | O22: 1 | P22: 0 | Q22: 0 | R22: 1 | S22: 5 | T22: 0 | U22: 66 | V22: 40 | W22: 21 | X22: 5 | Y22: 66 | Z22: 66 | AA22: 0 | AB22: 30 | AC22: 30 | AD22: 0 | AE22: N | AF22: 2 People voted three ballots.
A23: PRECINCT #6 | B23: 61 | C23: 0 | D23: 9 | E23: 25 | F23: 0 | G23: 0 | H23: 34 | I23: 9 | J23: 8 | K23: 0 | L23: 0 | M23: 17 | N23: 0 | O23: 1 | P23: 0 | Q23: 0 | R23: 1 | S23: 0 | T23: 0 | U23: 17 | V23: 9 | W23: 8 | X23: 0 | Y23: 17 | Z23: 17 | AA23: 0 | AB23: 30 | AC23: 30 | AD23: 0 | AE23: Y
A24: PRECINCT #7 | B24: 1010 | C24: 2 | D24: 138 | E24: 235 | F24: 21 | G24: 0 | H24: 394 | I24: 130 | J24: 45 | K24: 21 | L24: 0 | M24: 196 | N24: 0 | O24: 3 | P24: 0 | Q24: 0 | R24: 3 | S24: 14 | T24: 0 | U24: 189 | V24: 138 | W24: 31 | X24: 21 | Y24: 190 | Z24: 189 | AA24: 0 | AB24: 30 | AC24: 30 | AD24: 0 | AE24: N | AF24: 4 People voted all three ballots.
A25: PRECINCT #8 | B25: 168 | C25: 0 | D25: 16 | E25: 72 | F25: 3 | G25: 0 | H25: 91 | I25: 15 | J25: 27 | K25: 3 | L25: 0 | M25: 45 | N25: 0 | O25: 0 | P25: 0 | Q25: 0 | R25: 0 | S25: 1 | T25: 0 | U25: 45 | V25: 16 | W25: 26 | X25: 3 | Y25: 45 | Z25: 45 | AB25: 30 | AC25: 30 | AD25: 0 | AE25: N | AF25: 1 Voter cast ballot into box but was not a registered voter.
A26: PRECINCT #9 | B26: 231 | C26: 0 | D26: 33 | E26: 69 | F26: 6 | G26: 0 | H26: 108 | I26: 30 | J26: 22 | K26: 4 | L26: 0 | M26: 56 | N26: 0 | O26: 0 | P26: 2 | Q26: 0 | R26: 2 | S26: 7 | T26: 2 | U26: 54 | V26: 33 | W26: 15 | X26: 4 | Y26: 52 | Z26: 54 | AA26: 0 | AB26: 30 | AC26: 30 | AD26: 0 | AE26: N | AF26: 3 People voted two ballots.
A27: Total | B27: 7479 | C27: 27 | D27: 1088 | E27: 2932 | F27: 102 | G27: 2 | H27: 4122 | I27: 829 | J27: 1248 | K27: 100 | L27: 0 | M27: 2177 | N27: 0 | O27: 16 | P27: 7 | Q27: 0 | R27: 23 | S27: 159 | T27: 22 | U27: 2274 | V27: 1088 | W27: 1089 | X27: 100 | Y27: 2277 | Z27: 2274 | AA27: 0 | AB27: 690 | AC27: 690 | AD27: 0

Sheet Blaine
A1: 2026 Primary Election Reconciliation Report - Blaine County
B2: Registered Voters | D2: Ballots Issued | I2: Ballots Accepted | N2: Ballots Rejected | U2: Votes Cast (Ballots Counted) | AB2: Test Ballots | AE2: Reconciled | AF2: Comments / Explanations
A3: Precinct | B3: Total | C3: Election Day | D3: Poll | E3: Absentee | F3: Provisional | G3: UOCAVA (included in Absentee Totals) | H3: Total | I3: Poll | J3: Absentee | K3: Provisional | L3: UOCAVA (included in Absentee Totals) | M3: Total | N3: Poll | O3: Absentee | P3: Provisional | Q3: UOCAVA (Included in Absentee Totals) | R3: Total Rejected - No Voter Credit Assigned | S3: Rejected by Prep Team - Post Voter Credit | T3: Total Ballots Voided | U3: Total Ballots Accepted - sent to count | V3: Poll | W3: Absentee | X3: Provisional | Y3: Subtotal of Counted Ballots | Z3: Total ballots counted - entered from tabulator / hand count report | AA3: UOCAVA (included in Absentee Totals) | AB3: Total Printed | AC3: Used for Testing | AD3: Counted | AE3: Y/N? | AF3: Note any variance and / or discrepancies
A4: BIG FLAT 1 | B4: 309 | C4: 0 | D4: 26 | E4: 202 | F4: 0 | G4: 1 | H4: 228 | I4: 26 | J4: 132 | K4: 0 | L4: 1 | M4: 158 | N4: 0 | O4: 0 | P4: 0 | Q4: 0 | R4: 2 | S4: 0 | T4: 2 | U4: 158 | V4: 26 | W4: 132 | X4: 0 | Y4: 158 | Z4: 158 | AA4: 1 | AB4: 51 | AC4: 11 | AD4: 11 | AE4: Y
A5: CHINOOK 11 | B5: 823 | C5: 0 | D5: 111 | E5: 462 | F5: 0 | G5: 2 | H5: 573 | I5: 111 | J5: 316 | K5: 0 | L5: 2 | M5: 427 | N5: 0 | O5: 3 | P5: 0 | Q5: 0 | R5: 10 | S5: 3 | T5: 13 | U5: 424 | V5: 111 | W5: 313 | X5: 0 | Y5: 424 | Z5: 424 | AA5: 2 | AB5: 49 | AC5: 9 | AD5: 9 | AE5: Y
A6: HARLEM 8 | B6: 451 | C6: 0 | D6: 42 | E6: 253 | F6: 0 | G6: 0 | H6: 295 | I6: 42 | J6: 143 | K6: 0 | L6: 0 | M6: 185 | N6: 0 | O6: 1 | P6: 0 | Q6: 0 | R6: 7 | S6: 1 | T6: 8 | U6: 184 | V6: 42 | W6: 142 | X6: 0 | Y6: 184 | Z6: 184 | AA6: 0 | AB6: 48 | AC6: 8 | AD6: 8 | AE6: Y
A7: NORTH BELKNAP 3 | B7: 630 | C7: 0 | D7: 51 | E7: 270 | F7: 5 | G7: 1 | H7: 326 | I7: 56 | J7: 67 | K7: 5 | L7: 1 | M7: 128 | N7: 0 | O7: 6 | P7: 0 | Q7: 0 | R7: 15 | S7: 6 | T7: 21 | U7: 122 | V7: 56 | W7: 61 | X7: 5 | Y7: 122 | Z7: 122 | AA7: 1 | AB7: 49 | AC7: 9 | AD7: 9 | AE7: N | AF7: Upon inspection of the pollbook and register, it was identified that there were five extra ballots in the voted ballot box versus the actual number of ballots issued. It is possible that voters deposited multiple party ballots into the voted ballot box without the judge realizing. We are unable to determine which ballots were the intended party ballot to be voted on; the ballots were counted and processed accordingly. None of the races are affected by a potential five-vote difference.
A8: NORTH BLAINE 13 | B8: 206 | C8: 0 | D8: 15 | E8: 147 | F8: 7 | G8: 1 | H8: 169 | I8: 15 | J8: 107 | K8: 0 | L8: 0 | M8: 122 | N8: 0 | O8: 3 | P8: 7 | Q8: 0 | R8: 1 | S8: 3 | T8: 11 | U8: 119 | V8: 15 | W8: 104 | X8: 0 | Y8: 119 | Z8: 119 | AA8: 0 | AB8: 49 | AC8: 9 | AD8: 9 | AE8: Y
A9: SOUTH BELKNAP 15 | B9: 807 | C9: 0 | D9: 62 | E9: 320 | F9: 0 | G9: 0 | H9: 382 | I9: 62 | J9: 112 | K9: 0 | L9: 0 | M9: 174 | N9: 0 | O9: 12 | P9: 0 | Q9: 0 | R9: 24 | S9: 12 | T9: 36 | U9: 162 | V9: 62 | W9: 100 | X9: 0 | Y9: 162 | Z9: 162 | AA9: 0 | AB9: 98 | AC9: 18 | AD9: 18 | AE9: Y
A10: SOUTH BLAINE 10 | B10: 542 | C10: 0 | D10: 62 | E10: 308 | F10: 0 | G10: 0 | H10: 370 | I10: 62 | J10: 204 | K10: 0 | L10: 0 | M10: 266 | N10: 0 | O10: 1 | P10: 0 | Q10: 0 | R10: 2 | S10: 1 | T10: 3 | U10: 265 | V10: 62 | W10: 203 | X10: 0 | Y10: 265 | Z10: 265 | AA10: 0 | AB10: 49 | AC10: 9 | AD10: 9 | AE10: Y
A11: SOUTH HARLEM 9 | B11: 279 | C11: 1 | D11: 26 | E11: 105 | F11: 1 | G11: 0 | H11: 132 | I11: 26 | J11: 27 | K11: 1 | L11: 0 | M11: 54 | N11: 0 | O11: 4 | P11: 0 | Q11: 0 | R11: 5 | S11: 4 | T11: 9 | U11: 50 | V11: 26 | W11: 23 | X11: 1 | Y11: 50 | Z11: 50 | AA11: 0 | AB11: 49 | AC11: 9 | AD11: 9 | AE11: Y
A12: Total | B12: =SUM(B4:B11) -> 4047 | C12: =SUM(C4:C11) -> 1 | D12: =SUM(D4:D11) -> 395 | E12: =SUM(E4:E11) -> 2067 | F12: =SUM(F4:F11) -> 13 | G12: =SUM(G4:G11) -> 5 | H12: =SUM(H4:H11) -> 2475 | I12: =SUM(I4:I11) -> 400 | ... AD12: =SUM(AD4:AD11) -> 82

Sheet Broadwater
A1: 2026 Primary Election Reconciliation Report - Broadwater County
B2: Registered Voters | D2: Ballots Issued | I2: Ballots Accepted | N2: Ballots Rejected | U2: Votes Cast (Ballots Counted) | AB2: Test Ballots | AE2: Reconciled | AF2: Comments / Explanations
A3: Precinct | B3: Total | C3: Election Day | D3: Poll | E3: Absentee | F3: Provisional | G3: UOCAVA (included in Absentee Totals) | H3: Total | I3: Poll | J3: Absentee | K3: Provisional | L3: UOCAVA (included in Absentee Totals) | M3: Total | N3: Poll | O3: Absentee | P3: Provisional | Q3: UOCAVA (Included in Absentee Totals) | R3: Total Rejected - No Voter Credit Assigned | S3: Rejected by Prep Team - Post Voter Credit | T3: Total Ballots Voided | U3: Total Ballots Accepted - sent to count | V3: Poll | W3: Absentee | X3: Provisional | Y3: Subtotal of Counted Ballots | Z3: Total ballots counted - entered from tabulator / hand count report | AA3: UOCAVA (included in Absentee Totals) | AB3: Total Printed | AC3: Used for Testing | AD3: Counted | AE3: Y/N? | AF3: Note any variance and / or discrepancies
A4: PRECINCT 1 | B4: 1581 | C4: 1 | D4: 93 | E4: 998 | F4: 4 | G4: 1 | H4: 1095 | I4: 89 | J4: 512 | K4: 2 | L4: 0 | M4: 603 | N4: 0 | O4: 6 | P4: 2 | Q4: 0 | R4: 8 | S4: 13 | T4: 15 | U4: 590 | V4: 89 | W4: 499 | X4: 2 | Y4: 590 | Z4: 590 | AA4: 0 | AB4: 12 | AC4: 12 | AD4: 12 | AF4: NO VARIANCE NO DISCREPANCIES
A5: PRECINCT 7 | B5: 862 | C5: 3 | D5: 53 | E5: 446 | F5: 0 | G5: 2 | H5: 499 | I5: 53 | J5: 238 | L5: 0 | M5: 291 | N5: 0 | O5: 3 | P5: 0 | Q5: 0 | R5: 3 | S5: 8 | T5: 11 | U5: 283 | V5: 53 | W5: 230 | Y5: 283 | Z5: 283 | AA5: 0 | AB5: 9 | AC5: 9 | AD5: 9 | AF5: NO VARIANCE NO DISCREPANCIES
A6: PRECINCT 11 | B6: 1183 | C6: 2 | D6: 61 | E6: 724 | F6: 3 | G6: 5 | H6: 788 | I6: 58 | J6: 430 | K6: 3 | L6: 0 | M6: 491 | N6: 1 | O6: 1 | P6: 0 | Q6: 0 | R6: 2 | S6: 3 | T6: 16 | U6: 488 | V6: 58 | W6: 427 | X6: 3 | Y6: 488 | Z6: 488 | AA6: 0 | AB6: 9 | AC6: 9 | AD6: 9 | AF6: NO VARIANCE NO DISCREPANCIES
A7: PRECINCT 12 | B7: 705 | C7: 1 | D7: 34 | E7: 372 | F7: 0 | G7: 0 | H7: 406 | I7: 34 | J7: 206 | L7: 0 | M7: 240 | N7: 0 | O7: 1 | P7: 0 | Q7: 0 | R7: 1 | S7: 8 | T7: 7 | U7: 232 | V7: 34 | W7: 198 | Y7: 232 | Z7: 232 | AA7: 0 | AB7: 9 | AC7: 9 | AD7: 9 | AF7: NO VARIANCE NO DISCREPANCIES
A8: PRECINCT 13 | B8: 1880 | C8: 0 | D8: 53 | E8: 1195 | F8: 0 | G8: 0 | H8: 1248 | I8: 53 | J8: 486 | L8: 0 | M8: 539 | N8: 0 | O8: 9 | P8: 0 | Q8: 0 | R8: 9 | S8: 5 | T8: 11 | U8: 534 | V8: 53 | W8: 481 | Y8: 534 | Z8: 534 | AA8: 0 | AB8: 8 | AC8: 8 | AD8: 8 | AF8: NO VARIANCE NO DISCREPANCIES
A9: Total | B9: 6211 | C9: 7 | D9: 294 | E9: 3735 | F9: 7 | G9: 8 | H9: 4036 | I9: 287 | J9: 1872 | K9: 5 | L9: 0 | M9: 2164 | N9: 1 | O9: 20 | P9: 2 | Q9: 0 | R9: 23 | S9: 37 | T9: 60 | U9: 2127 | V9: 287 | W9: 1835 | X9: 5 | Y9: 2127 | Z9: 2127 | AA9: 0 | AB9: 47 | AC9: 47 | AD9: 47

Sheet Carbon
A1: 2026 Primary Election Reconciliation Report - Carbon County
B2: Registered Voters | D2: Ballots Issued | I2: Ballots Accepted | N2: Ballots Rejected | U2: Votes Cast (Ballots Counted) | AB2: Test Ballots | AE2: Reconciled | AF2: Comments / Explanations
A3: Precinct | B3: Total | C3: Election Day | D3: Poll | E3: Absentee | F3: Provisional | G3: UOCAVA (included in Absentee Totals) | H3: Total | I3: Poll | J3: Absentee | K3: Provisional | L3: UOCAVA (included in Absentee Totals) | M3: Total | N3: Poll | O3: Absentee | P3: Provisional | Q3: UOCAVA (Included in Absentee Totals) | R3: Total Rejected - No Voter Credit Assigned | S3: Rejected by Prep Team - Post Voter Credit | T3: Total Ballots Voided | U3: Total Ballots Accepted - sent to count | V3: Poll | W3: Absentee | X3: Provisional | Y3: Subtotal of Counted Ballots | Z3: Total ballots counted - entered from tabulator / hand count report | AA3: UOCAVA (included in Absentee Totals) | AB3: Total Printed | AC3: Used for Testing | AD3: Counted | AE3: Y/N? | AF3: Note any variance and / or discrepancies
A4: P 1 ROCKVALE-SILESIA | B4: 735 | D4: 30 | E4: 498 | F4: 1 | G4: 0 | H4: 529 | I4: 30 | J4: 261 | K4: 1 | L4: 0 | M4: 292 | N4: 0 | O4: 6 | P4: 0 | Q4: 0 | R4: 7 | S4: 6 | T4: 7 | U4: 286 | V4: 30 | W4: 255 | X4: 1 | Y4: 286 | Z4: 296 | AA4: 0 | AB4: 30 | AC4: 9 | AD4: Y | AF4: restock error, no races would be affected
A5: P 10 RED LODGE WARD 3 | B5: 645 | C5: 1 | D5: 43 | E5: 386 | F5: 2 | G5: 4 | H5: 431 | I5: 43 | J5: 245 | K5: 2 | L5: 3 | M5: 290 | N5: 0 | O5: 2 | P5: 0 | Q5: 0 | R5: 2 | S5: 1 | T5: 2 | U5: 289 | V5: 43 | W5: 244 | X5: 2 | Y5: 289 | Z5: 287 | AA5: 3 | AB5: 30 | AC5: 9 | AD5: Y | AF5: restock error, no races would be affected. Difference in accepted and counted is due to prep team confusion
A6: P 11 RURAL RED LODGE | B6: 1449 | C6: 1 | D6: 103 | E6: 995 | F6: 0 | G6: 8 | H6: 1098 | I6: 103 | J6: 639 | K6: 0 | L6: 4 | M6: 742 | N6: 0 | O6: 4 | P6: 0 | Q6: 0 | R6: 4 | S6: 14 | T6: 4 | U6: 728 | V6: 103 | W6: 625 | X6: 0 | Y6: 728 | Z6: 720 | AA6: 4 | AB6: 30 | AC6: 12 | AD6: Y | AF6: restock error, no races would be affected
A7: P 15 FROMBERG-EDGAR | B7: 826 | D7: 82 | E7: 509 | F7: 0 | G7: 1 | H7: 591 | I7: 82 | J7: 292 | K7: 0 | L7: 0 | M7: 374 | N7: 0 | O7: 2 | P7: 0 | Q7: 0 | R7: 2 | S7: 10 | T7: 2 | U7: 364 | V7: 82 | W7: 282 | X7: 0 | Y7: 364 | Z7: 364 | AA7: 0 | AB7: 30 | AC7: 9 | AD7: Y | AE7: Y
A8: P 16 LUTHER-ROSCOE | B8: 478 | D8: 47 | E8: 308 | F8: 2 | G8: 3 | H8: 357 | I8: 47 | J8: 198 | K8: 2 | L8: 2 | M8: 247 | N8: 0 | O8: 1 | P8: 0 | Q8: 0 | R8: 1 | S8: 7 | T8: 1 | U8: 240 | V8: 47 | W8: 191 | X8: 2 | Y8: 240 | Z8: 240 | AA8: 2 | AB8: 30 | AC8: 9 | AD8: Y | AE8: Y
A9: P 2 TOWN OF JOLIET | B9: 434 | D9: 46 | E9: 229 | F9: 1 | G9: 0 | H9: 276 | I9: 46 | J9: 116 | K9: 1 | L9: 0 | M9: 163 | N9: 0 | O9: 2 | P9: 0 | Q9: 0 | R9: 1 | S9: 1 | T9: 1 | U9: 162 | V9: 46 | W9: 115 | X9: 1 | Y9: 162 | Z9: 162 | AA9: 0 | AB9: 30 | AC9: 9 | AD9: Y | AE9: Y
A10: P 3 RURAL JOLIET-BOYD | B10: 826 | D10: 94 | E10: 510 | F10: 3 | G10: 1 | H10: 607 | I10: 94 | J10: 293 | K10: 3 | L10: 0 | M10: 390 | N10: 0 | O10: 3 | P10: 0 | Q10: 0 | R10: 3 | S10: 6 | T10: 3 | U10: 384 | V10: 94 | W10: 287 | X10: 3 | Y10: 384 | Z10: 383 | AA10: 0 | AB10: 30 | AC10: 9 | AD10: Y | AF10: Difference in accepted and counted is due to prep team confusion
A11: P 4 TOWN OF BRIDGER | B11: 458 | D11: 51 | E11: 254 | F11: 2 | G11: 0 | H11: 307 | I11: 51 | J11: 125 | K11: 2 | L11: 0 | M11: 178 | N11: 0 | O11: 2 | P11: 0 | Q11: 0 | R11: 2 | S11: 3 | T11: 2 | U11: 175 | V11: 51 | W11: 122 | X11: 2 | Y11: 175 | Z11: 175 | AA11: 0 | AB11: 30 | AC11: 9 | AD11: Y | AE11: Y
A12: P 5 RURAL BRIDGER | B12: 536 | D12: 60 | E12: 304 | F12: 4 | G12: 2 | H12: 368 | I12: 60 | J12: 163 | K12: 4 | L12: 1 | M12: 227 | N12: 0 | O12: 1 | P12: 0 | Q12: 0 | R12: 1 | S12: 3 | T12: 1 | U12: 224 | V12: 60 | W12: 160 | X12: 4 | Y12: 224 | Z12: 224 | AA12: 1 | AB12: 30 | AC12: 9 | AD12: Y | AE12: Y
A13: P 6 BELFRY-BEARCREEK | B13: 525 | D13: 45 | E13: 280 | F13: 1 | G13: 0 | H13: 326 | I13: 45 | J13: 146 | K13: 1 | L13: 0 | M13: 192 | N13: 0 | O13: 1 | P13: 0 | Q13: 0 | R13: 1 | S13: 7 | T13: 1 | U13: 185 | V13: 45 | W13: 139 | X13: 1 | Y13: 185 | Z13: 185 | AA13: 0 | AB13: 30 | AC13: 9 | AD13: Y | AE13: Y
A14: P 7 ROBERTS | B14: 857 | D14: 102 | E14: 494 | F14: 3 | G14: 0 | H14: 599 | I14: 102 | J14: 288 | K14: 3 | L14: 0 | M14: 393 | N14: 0 | O14: 2 | P14: 0 | Q14: 0 | R14: 2 | S14: 4 | T14: 2 | U14: 389 | V14: 102 | W14: 284 | X14: 3 | Y14: 389 | Z14: 389 | AA14: 0 | AB14: 30 | AC14: 9 | AD14: Y | AE14: Y
A15: P 8 RED LODGE WARD 2 | B15: 660 | D15: 42 | E15: 443 | F15: 1 | G15: 4 | H15: 486 | I15: 42 | J15: 296 | K15: 1 | L15: 1 | M15: 339 | N15: 0 | O15: 3 | P15: 0 | Q15: 0 | R15: 3 | S15: 7 | T15: 3 | U15: 332 | V15: 42 | W15: 289 | X15: 1 | Y15: 332 | Z15: 331 | AA15: 1 | AB15: 30 | AC15: 9 | AD15: Y | AF15: Admin error/grab wrong precinct (one short)
A16: P 9 RED LODGE WARD 2 | B16: 701 | D16: 52 | E16: 416 | F16: 2 | G16: 4 | H16: 470 | I16: 52 | J16: 254 | K16: 2 | L16: 2 | M16: 308 | N16: 0 | O16: 0 | P16: 0 | Q16: 0 | R16: 0 | S16: 7 | T16: 3 | U16: 301 | V16: 52 | W16: 247 | X16: 2 | Y16: 301 | Z16: 302 | AA16: 2 | AB16: 30 | AC16: 9 | AD16: Y | AF16: Admin error/grab wrong precinct (one long)
A17: Total | B17: 9130 | C17: 2 | D17: 797 | E17: 5626 | F17: 22 | G17: 27 | H17: 6445 | I17: 797 | J17: 3316 | K17: 22 | L17: 13 | M17: 4135 | N17: 0 | O17: 29 | P17: 0 | Q17: 0 | R17: 29 | S17: 76 | T17: 32 | U17: 4059 | V17: 797 | W17: 3240 | X17: 22 | Y17: 4059 | Z17: 4058 | AA17: 13 | AB17: 390 | AC17: 120 | AD17: 0

Sheet Carter
A1: 2026 Primary Election Reconciliation Report - Carter County
B2: Registered Voters | D2: Ballots Issued | I2: Ballots Accepted | N2: Ballots Rejected | U2: Votes Cast (Ballots Counted) | AB2: Test Ballots | AE2: Reconciled | AF2: Comments / Explanations
A3: Precinct | B3: Total | C3: Election Day | D3: Poll | E3: Absentee | F3: Provisional | G3: UOCAVA (included in Absentee Totals) | H3: Total | I3: Poll | J3: Absentee | K3: Provisional | L3: UOCAVA (included in Absentee Totals) | M3: Total | N3: Poll | O3: Absentee | P3: Provisional | Q3: UOCAVA (Included in Absentee Totals) | R3: Total Rejected - No Voter Credit Assigned | S3: Rejected by Prep Team - Post Voter Credit | T3: Total Ballots Voided | U3: Total Ballots Accepted - sent to count | V3: Poll | W3: Absentee | X3: Provisional | Y3: Subtotal of Counted Ballots | Z3: Total ballots counted - entered from tabulator / hand count report | AA3: UOCAVA (included in Absentee Totals) | AB3: Total Printed | AC3: Used for Testing | AD3: Counted | AE3: Y/N? | AF3: Note any variance and / or discrepancies
A4: PRECINCT #1 ALZADA | B4: 126 | D4: 36 | E4: 49 | G4: 0 | H4: 85 | I4: 35 | J4: 34 | K4: 1 | M4: 70 | R4: 0 | S4: 0 | T4: 1 | U4: 70 | V4: 35 | W4: 34 | X4: 1 | Y4: 70 | Z4: 70 | AB4: 10 | AC4: 10 | AD4: 10 | AE4: Y
A5: PRECINCT #13 EKALAKA | B5: 314 | C5: 1 | D5: 90 | E5: 122 | G5: 0 | H5: 212 | I5: 90 | J5: 80 | M5: 170 | R5: 0 | S5: 3 | T5: 1 | U5: 167 | V5: 90 | W5: 77 | Y5: 167 | Z5: 167 | AB5: 10 | AC5: 10 | AD5: 10 | AE5: Y
A6: PRECINCT #14 RURAL EKALAKA | B6: 476 | D6: 128 | E6: 250 | G6: 0 | H6: 378 | I6: 127 | J6: 181 | M6: 308 | R6: 0 | S6: 0 | T6: 8 | U6: 308 | V6: 127 | W6: 181 | Y6: 308 | Z6: 308 | AB6: 10 | AC6: 10 | AD6: 10 | AE6: Y
A7: PRECINCT #3 HAMMOND | B7: 87 | D7: 26 | E7: 45 | G7: 0 | H7: 71 | I7: 26 | J7: 33 | M7: 59 | R7: 0 | S7: 0 | T7: 0 | U7: 60 | V7: 27 | W7: 33 | Y7: 60 | Z7: 60 | AB7: 10 | AC7: 10 | AD7: 10 | AE7: N | AF7: One voter voted an extra party ballot at the polls, and it got put into the voted ballots box. The stubs reconciled to 26 issued ballot sets, the poll book and register tally 26 voters, but there were 27 ballots in the voted box.
A8: Total | B8: 1003 | C8: 1 | D8: 280 | E8: 466 | F8: 0 | G8: 0 | H8: 746 | I8: 278 | J8: 328 | K8: 1 | L8: 0 | M8: 607 | N8: 0 | O8: 0 | P8: 0 | Q8: 0 | R8: 0 | S8: 3 | T8: 10 | U8: 605 | V8: 279 | W8: 325 | X8: 1 | Y8: 605 | Z8: 605 | AA8: 0 | AB8: 40 | AC8: 40 | AD8: 40

Sheet Cascade
A1: 2026 Primary Election Reconciliation Report - Cascade County
B2: Registered Voters | D2: Ballots Issued | I2: Ballots Accepted | N2: Ballots Rejected | U2: Votes Cast (Ballots Counted) | AB2: Test Ballots | AE2: Reconciled | AF2: Comments / Explanations
A3: Precinct | B3: Total | C3: Election Day | D3: Poll | E3: Absentee | F3: Provisional | G3: UOCAVA (included in Absentee Totals) | H3: Total | I3: Poll | J3: Absentee | K3: Provisional | L3: UOCAVA (included in Absentee Totals) | M3: Total | N3: Poll | O3: Absentee | P3: Provisional | Q3: UOCAVA (Included in Absentee Totals) | R3: Total Rejected - No Voter Credit Assigned | S3: Rejected by Prep Team - Post Voter Credit | T3: Total Ballots Voided | U3: Total Ballots Accepted - sent to count | V3: Poll | W3: Absentee | X3: Provisional | Y3: Subtotal of Counted Ballots | Z3: Total ballots counted - entered from tabulator / hand count report | AA3: UOCAVA (included in Absentee Totals) | AB3: Total Printed | AC3: Used for Testing | AD3: Counted | AE3: Y/N? | AF3: Note any variance and / or discrepancies
A4: 19A | B4: 2103 | C4: 3 | D4: 31 | E4: 1267 | F4: 0 | G4: 4 | H4: 1298 | I4: 31 | J4: 629 | K4: 0 | L4: 2 | M4: 660 | N4: 0 | O4: 11 | Q4: 0 | R4: 11 | S4: 24 | T4: 19 | U4: 638 | V4: 31 | W4: 607 | X4: 0 | Y4: 638 | Z4: 638 | AA4: 2 | AB4: 25 | AC4: 25 | AD4: 25 | AE4: Y
A5: 19B | B5: 2076 | C5: 2 | D5: 26 | E5: 1219 | F5: 0 | G5: 7 | H5: 1245 | I5: 26 | J5: 572 | K5: 0 | L5: 3 | M5: 598 | N5: 0 | O5: 4 | Q5: 0 | R5: 4 | S5: 27 | T5: 17 | U5: 573 | V5: 26 | W5: 547 | X5: 0 | Y5: 573 | Z5: 573 | AA5: 3 | AB5: 25 | AC5: 25 | AD5: 25 | AE5: Y
A6: 19C | B6: 1343 | C6: 2 | D6: 21 | E6: 786 | F6: 1 | G6: 0 | H6: 808 | I6: 21 | J6: 332 | K6: 1 | L6: 0 | M6: 354 | N6: 0 | O6: 1 | Q6: 0 | R6: 1 | S6: 19 | T6: 6 | U6: 334 | V6: 21 | W6: 312 | X6: 1 | Y6: 334 | Z6: 334 | AA6: 0 | AB6: 25 | AC6: 25 | AD6: 25 | AE6: Y
A7: 20A | B7: 2428 | C7: 1 | D7: 28 | E7: 1658 | F7: 0 | G7: 5 | H7: 1686 | I7: 28 | J7: 864 | K7: 0 | L7: 1 | M7: 892 | N7: 0 | O7: 13 | Q7: 0 | R7: 13 | S7: 26 | T7: 29 | U7: 861 | V7: 28 | W7: 833 | X7: 0 | Y7: 861 | Z7: 861 | AA7: 1 | AB7: 25 | AC7: 25 | AD7: 25 | AE7: Y
A8: 20B | B8: 2294 | C8: 4 | D8: 34 | E8: 1607 | F8: 0 | G8: 6 | H8: 1641 | I8: 34 | J8: 880 | K8: 0 | L8: 3 | M8: 914 | N8: 0 | O8: 19 | Q8: 0 | R8: 19 | S8: 19 | T8: 20 | U8: 895 | V8: 34 | W8: 861 | X8: 0 | Y8: 895 | Z8: 895 | AA8: 3 | AB8: 25 | AC8: 25 | AD8: 25 | AE8: Y
A9: 20C | B9: 2154 | C9: 4 | D9: 39 | E9: 1618 | F9: 0 | G9: 3 | H9: 1657 | I9: 39 | J9: 937 | K9: 0 | L9: 1 | M9: 976 | N9: 0 | O9: 16 | Q9: 0 | R9: 16 | S9: 19 | T9: 13 | U9: 958 | V9: 39 | W9: 919 | X9: 0 | Y9: 958 | Z9: 958 | AA9: 1 | AB9: 25 | AC9: 25 | AD9: 25 | AE9: Y
A10: 21A | B10: 1883 | C10: 4 | D10: 33 | E10: 1281 | F10: 0 | G10: 4 | H10: 1314 | I10: 35 | J10: 707 | K10: 0 | L10: 2 | M10: 742 | N10: 0 | O10: 26 | Q10: 0 | R10: 26 | S10: 30 | T10: 11 | U10: 712 | V10: 35 | W10: 677 | X10: 0 | Y10: 712 | Z10: 712 | AA10: 2 | AB10: 25 | AC10: 25 | AD10: 25 | AE10: Y
A11: 21B | B11: 2578 | C11: 1 | D11: 41 | E11: 1947 | F11: 1 | G11: 6 | H11: 1989 | I11: 41 | J11: 1129 | K11: 0 | L11: 4 | M11: 1170 | N11: 0 | O11: 22 | P11: 1 | Q11: 0 | R11: 23 | S11: 19 | T11: 18 | U11: 1146 | V11: 41 | W11: 1105 | X11: 0 | Y11: 1146 | Z11: 1146 | AA11: 4 | AB11: 25 | AC11: 25 | AD11: 25 | AE11: Y
A12: 21C | B12: 2354 | C12: 1 | D12: 48 | E12: 1735 | F12: 1 | G12: 1 | H12: 1784 | I12: 48 | J12: 994 | K12: 1 | L12: 0 | M12: 1043 | N12: 0 | O12: 21 | Q12: 0 | R12: 21 | S12: 26 | T12: 13 | U12: 1017 | V12: 48 | W12: 968 | X12: 1 | Y12: 1017 | Z12: 1017 | AA12: 0 | AB12: 25 | AC12: 25 | AD12: 25 | AE12: Y
A13: 21D | B13: 517 | C13: 1 | D13: 20 | E13: 349 | F13: 0 | G13: 0 | H13: 369 | I13: 21 | J13: 196 | K13: 0 | L13: 0 | M13: 217 | N13: 0 | O13: 3 | Q13: 0 | R13: 3 | S13: 8 | T13: 3 | U13: 209 | V13: 21 | W13: 188 | X13: 0 | Y13: 209 | Z13: 209 | AA13: 0 | AB13: 25 | AC13: 25 | AD13: 25 | AE13: Y
A14: 22A | B14: 2068 | C14: 2 | D14: 36 | E14: 1380 | F14: 0 | G14: 2 | H14: 1416 | I14: 38 | J14: 733 | K14: 0 | L14: 2 | M14: 771 | N14: 0 | O14: 8 | Q14: 0 | R14: 8 | S14: 29 | T14: 13 | U14: 745 | V14: 38 | W14: 707 | X14: 0 | Y14: 745 | Z14: 745 | AA14: 2 | AB14: 25 | AC14: 25 | AD14: 25 | AE14: Y
A15: 22B | B15: 2073 | C15: 2 | D15: 27 | E15: 1500 | F15: 0 | G15: 8 | H15: 1527 | I15: 27 | J15: 878 | K15: 0 | L15: 3 | M15: 905 | N15: 0 | O15: 12 | Q15: 0 | R15: 12 | S15: 15 | T15: 11 | U15: 889 | V15: 27 | W15: 862 | X15: 0 | Y15: 889 | Z15: 889 | AA15: 3 | AB15: 25 | AC15: 25 | AD15: 25 | AE15: Y
A16: 22C | B16: 975 | C16: 1 | D16: 9 | E16: 229 | F16: 0 | G16: 13 | H16: 238 | I16: 9 | J16: 39 | K16: 0 | L16: 4 | M16: 48 | N16: 0 | O16: 0 | Q16: 0 | R16: 0 | S16: 1 | T16: 4 | U16: 47 | V16: 9 | W16: 38 | X16: 0 | Y16: 47 | Z16: 47 | AA16: 4 | AB16: 25 | AC16: 25 | AD16: 25 | AE16: Y
A17: 23A | B17: 1935 | C17: 0 | D17: 16 | E17: 1441 | F17: 0 | G17: 3 | H17: 1457 | I17: 16 | J17: 812 | K17: 0 | L17: 1 | M17: 828 | N17: 0 | O17: 16 | Q17: 0 | R17: 16 | S17: 24 | T17: 21 | U17: 805 | V17: 16 | W17: 789 | X17: 0 | Y17: 805 | Z17: 805 | AA17: 1 | AB17: 25 | AC17: 25 | AD17: 25 | AE17: Y
A18: 23B | B18: 2379 | C18: 4 | D18: 40 | E18: 1497 | F18: 0 | G18: 2 | H18: 1537 | I18: 40 | J18: 711 | K18: 0 | L18: 2 | M18: 751 | N18: 0 | O18: 15 | Q18: 0 | R18: 15 | S18: 42 | T18: 23 | U18: 709 | V18: 40 | W18: 669 | X18: 0 | Y18: 709 | Z18: 709 | AA18: 2 | AB18: 25 | AC18: 25 | AD18: 25 | AE18: Y
A19: 23C | B19: 2034 | C19: 1 | D19: 28 | E19: 1595 | F19: 0 | G19: 2 | H19: 1623 | I19: 28 | J19: 938 | K19: 0 | L19: 1 | M19: 966 | N19: 0 | O19: 17 | Q19: 0 | R19: 17 | S19: 23 | T19: 15 | U19: 943 | V19: 28 | W19: 915 | X19: 0 | Y19: 943 | Z19: 943 | AA19: 1 | AB19: 25 | AC19: 25 | AD19: 25 | AE19: Y
A20: 24A | B20: 2703 | C20: 0 | D20: 54 | E20: 1777 | F20: 0 | G20: 3 | H20: 1831 | I20: 54 | J20: 883 | K20: 0 | L20: 2 | M20: 937 | N20: 0 | O20: 20 | Q20: 0 | R20: 20 | S20: 26 | T20: 26 | U20: 914 | V20: 54 | W20: 860 | X20: 0 | Y20: 914 | Z20: 914 | AA20: 2 | AB20: 25 | AC20: 25 | AD20: 25 | AE20: Y
A21: 24B | B21: 2429 | C21: 3 | D21: 32 | E21: 1814 | F21: 0 | G21: 10 | H21: 1846 | I21: 32 | J21: 1020 | K21: 0 | L21: 9 | M21: 1052 | N21: 0 | O21: 18 | Q21: 0 | R21: 18 | S21: 29 | T21: 15 | U21: 1022 | V21: 32 | W21: 990 | X21: 0 | Y21: 1022 | Z21: 1022 | AA21: 9 | AB21: 25 | AC21: 25 | AD21: 25 | AE21: Y
A22: 24C | B22: 1779 | C22: 0 | D22: 30 | E22: 1361 | F22: 0 | G22: 1 | H22: 1391 | I22: 30 | J22: 786 | K22: 0 | L22: 1 | M22: 816 | N22: 0 | O22: 12 | Q22: 0 | R22: 12 | S22: 13 | T22: 9 | U22: 799 | V22: 30 | W22: 769 | X22: 0 | Y22: 799 | Z22: 799 | AA22: 1 | AB22: 25 | AC22: 25 | AD22: 25 | AE22: Y
A23: 25A | B23: 1901 | C23: 1 | D23: 44 | E23: 1403 | F23: 8 | G23: 1 | H23: 1455 | I23: 44 | J23: 764 | K23: 8 | L23: 0 | M23: 816 | N23: 0 | O23: 14 | Q23: 0 | R23: 14 | S23: 17 | T23: 26 | U23: 799 | V23: 44 | W23: 747 | X23: 8 | Y23: 799 | Z23: 799 | AA23: 0 | AB23: 25 | AC23: 25 | AD23: 25 | AE23: Y
... A28: 26B | B28: 2435 | C28: 5 | D28: 39 | E28: 1860 | F28: 0 | G28: 2 | H28: 1899 | I28: 39 | J28: 1033 | K28: 0 | L28: 1 | M28: 1072 | N28: 0 | O28: 14 | Q28: 0 | R28: 14 | S28: 28 | T28: 21 | U28: 1046 | V28: 39 | W28: 1007 | X28: 0 | Y28: 1046 | Z28: 1046 | AA28: 1 | AB28: 25 | AC28: 25 | AD28: 25 | AE28: Y
A29: 78 | B29: 1361 | C29: 2 | D29: 34 | E29: 1018 | F29: 4 | G29: 2 | H29: 1056 | I29: 36 | J29: 550 | K29: 3 | L29: 1 | M29: 589 | N29: 0 | O29: 9 | P29: 1 | Q29: 0 | R29: 10 | S29: 8 | T29: 20 | U29: 582 | V29: 36 | W29: 543 | X29: 3 | Y29: 582 | Z29: 582 | AA29: 1 | AB29: 25 | AC29: 25 | AD29: 25 | AE29: Y
A30: Total | B30: 51616 | C30: 48 | D30: 890 | E30: 36038 | F30: 29 | G30: 94 | H30: 36957 | I30: 897 | J30: 19381 | K30: 27 | L30: 49 | M30: 20305 | N30: 0 | O30: 321 | P30: 2 | Q30: 0 | R30: 323 | S30: 531 | T30: 430 | U30: 19766 | V30: 897 | W30: 18842 | X30: 27 | Y30: 19766 | Z30: 19766 | AA30: 49 | AB30: 650 | AC30: 650 | AD30: 650

Sheet Chouteau
A1: 2026 Primary Election Reconciliation Report - Chouteau County
B2: Registered Voters | D2: Ballots Issued | I2: Ballots Accepted | N2: Ballots Rejected | U2: Votes Cast (Ballots Counted) | AB2: Test Ballots | AE2: Reconciled | AF2: Comments / Explanations
A3: Precinct | B3: Total | C3: Election Day | D3: Poll | E3: Absentee | F3: Provisional | G3: UOCAVA (included in Absentee Totals) | H3: Total | I3: Poll | J3: Absentee | K3: Provisional | L3: UOCAVA (included in Absentee Totals) | M3: Total | N3: Poll | O3: Absentee | P3: Provisional | Q3: UOCAVA (Included in Absentee Totals) | R3: Total Rejected - No Voter Credit Assigned | S3: Rejected by Prep Team - Post Voter Credit | T3: Total Ballots Voided | U3: Total Ballots Accepted - sent to count | V3: Poll | W3: Absentee | X3: Provisional | Y3: Subtotal of Counted Ballots | Z3: Total ballots counted - entered from tabulator / hand count report | AA3: UOCAVA (included in Absentee Totals) | AB3: Total Printed | AC3: Used for Testing | AD3: Counted | AE3: Y/N? | AF3: Note any variance and / or discrepancies
A4: BIG SANDY 8 | B4: 335 | C4: 0 | D4: 34 | E4: 196 | F4: 0 | G4: 0 | H4: 230 | I4: 34 | J4: 123 | K4: 0 | L4: 0 | M4: 157 | N4: 0 | O4: 0 | P4: 0 | Q4: 0 | S4: 6 | T4: 0 | U4: 151 | V4: 34 | W4: 117 | X4: 0 | Y4: 151 | Z4: 151 | AB4: 60 | AC4: 30 | AD4: 30 | AE4: YES
A5: BIG SANDY 9 | B5: 395 | C5: 0 | D5: 58 | E5: 218 | F5: 5 | G5: 1 | H5: 281 | I5: 57 | J5: 125 | K5: 5 | L5: 0 | M5: 187 | O5: 2 | P5: 0 | Q5: 0 | S5: 2 | T5: 3 | U5: 185 | V5: 62 | W5: 118 | X5: 5 | Y5: 185 | Z5: 185 | AB5: 60 | AC5: 30 | AD5: 30 | AE5: YES
A6: CARTER 4 | B6: 333 | C6: 1 | D6: 34 | E6: 250 | F6: 1 | G6: 3 | H6: 285 | I6: 33 | J6: 171 | K6: 1 | L6: 3 | M6: 205 | O6: 2 | P6: 0 | Q6: 0 | S6: 0 | T6: 1 | U6: 205 | V6: 33 | W6: 171 | X6: 1 | Y6: 205 | Z6: 205 | AA6: 3 | AB6: 60 | AC6: 30 | AD6: 30 | AE6: YES
A7: FORT BENTON 1 | B7: 641 | C7: 0 | D7: 72 | E7: 421 | F7: 2 | G7: 0 | H7: 495 | I7: 72 | J7: 289 | K7: 2 | L7: 0 | M7: 363 | O7: 0 | P7: 0 | Q7: 0 | S7: 9 | T7: 9 | U7: 354 | V7: 72 | W7: 280 | X7: 2 | Y7: 354 | Z7: 354 | AB7: 60 | AC7: 30 | AD7: 30 | AE7: YES
A8: FORT BENTON 2 | B8: 619 | C8: 1 | D8: 66 | E8: 433 | F8: 5 | G8: 2 | H8: 504 | I8: 65 | J8: 307 | K8: 5 | L8: 2 | M8: 377 | O8: 0 | P8: 0 | Q8: 0 | S8: 4 | T8: 10 | U8: 373 | V8: 65 | W8: 303 | X8: 5 | Y8: 373 | Z8: 373 | AA8: 2 | AB8: 60 | AC8: 30 | AD8: 30 | AE8: YES
A9: GERALDINE 3 | B9: 391 | C9: 1 | D9: 54 | E9: 247 | F9: 2 | G9: 2 | H9: 303 | I9: 54 | J9: 163 | K9: 2 | L9: 2 | M9: 219 | O9: 1 | P9: 0 | Q9: 0 | S9: 3 | T9: 2 | U9: 216 | V9: 54 | W9: 160 | X9: 2 | Y9: 216 | Z9: 216 | AA9: 2 | AB9: 60 | AC9: 30 | AD9: 30 | AE9: YES
A10: HIGHWOOD 6 | B10: 323 | C10: 1 | D10: 29 | E10: 226 | F10: 0 | G10: 0 | H10: 255 | I10: 29 | J10: 130 | K10: 0 | L10: 0 | M10: 159 | O10: 3 | P10: 0 | Q10: 0 | T10: 3 | U10: 159 | V10: 29 | W10: 130 | X10: 0 | Y10: 159 | Z10: 159 | AB10: 60 | AC10: 30 | AD10: 30 | AE10: YES
A11: LOMA 7 | B11: 130 | C11: 0 | D11: 26 | E11: 85 | F11: 0 | G11: 0 | H11: 111 | I11: 25 | J11: 57 | K11: 0 | L11: 0 | M11: 82 | O11: 0 | P11: 0 | Q11: 0 | S11: 0 | T11: 1 | U11: 82 | V11: 25 | W11: 57 | Y11: 82 | Z11: 82 | AB11: 60 | AC11: 30 | AD11: 30 | AE11: YES
A12: ROCKY BOY 5 | B12: 503 | C12: 0 | D12: 17 | E12: 188 | F12: 6 | G12: 0 | H12: 211 | I12: 17 | J12: 24 | K12: 6 | L12: 0 | M12: 47 | O12: 1 | P12: 0 | Q12: 0 | S12: 4 | T12: 6 | U12: 43 | V12: 17 | W12: 20 | X12: 6 | Y12: 43 | Z12: 43 | AB12: 60 | AC12: 30 | AD12: 30 | AE12: YES
A13: Total | B13: 3670 | C13: 4 | D13: 390 | E13: 2264 | F13: 21 | G13: 8 | H13: 2675 | I13: 386 | J13: 1389 | K13: 21 | L13: 7 | M13: 1796 | N13: 0 | O13: 9 | P13: 0 | Q13: 0 | S13: 28 | T13: 35 | U13: 1768 | V13: 391 | W13: 1356 | X13: 21 | Y13: 1768 | Z13: 1768 | AA13: 7 | AB13: 540 | AC13: 270 | AD13: 270

Sheet Custer
A1: 2026 Primary Election Reconciliation Report - Custer County
B2: Registered Voters | D2: Ballots Issued | I2: Ballots Accepted | N2: Ballots Rejected | U2: Votes Cast (Ballots Counted) | AB2: Test Ballots | AE2: Reconciled | AF2: Comments / Explanations
