Workbook

Sheet Instructions
A1: Election Reconciliation Report (13-15-113 MCA)
A2: Federal Primary 2026
A4: Column Explanation / Instructions
A6: Column | B6: Sub Category | C6: Explanation
A7: Precinct | C7: List of County Precincts.
A8: Registered Voters | C8: Active and inactive voters for the election. This calculation is made at 5:00 pm on the Monday after the election, after Provisional and remaining ballots have been counted.
B9: Total | C9: Total of all active and inactive voters for the election.
B10: Election Day | C10: Count of voters with registration updates on election day including newly registered voters and voters transferring counties or precincts.
A11: Ballot Issued | C11: This is the number of all ballots issued for the election including ballots later voided ballots.
B12: Poll | C12: The number of all ballots issued at a polling place for the election
B13: Absentee | C13: The number of all absentee ballots issued for the election including replacement ballots. This includes the total number of UOCAVA ballots issued.
B14: Provisional | C14: The number of all provisional ballots issued for the election. This does NOT include the unresolved absentee ballots handled like provisional ballots per 13-13-245(3) MCA
B15: UOCAVA (included in Absentee Totals) | C15: The number of all ballots issued to a UOCAVA voter. This total is included in the Absentee total
B16: Total | C16: Total of Poll, Absentee, and Provisional ballots issued
A17: Ballots Accepted | C17: The number of all ballots that were accepted to be counted.
B18: Poll | C18: The number of ballots accepted for counting at a polling place. This does NOT include absentee ballots dropped off at the polling place or Provisional ballots issued at the polling place.
B19: Absentee accepted | C19: The number of absentee ballots accepted for the election. This number does include the number of accepted UOCAVA ballots for the same timeframe.
B20: Provisional | C20: The number of Provisional ballots that were resolved and accepted for counting. This does NOT include the unresolved absentee ballots handled like provisional ballots per 13-13-245(3) MCA
B21: UOCAVA (included in Absentee Totals) | C21: The number of UOCAVA ballots accepted. This number will be included in the Absentee ballot accepted total.
B22: Total | C22: This is the total of Poll, the two absentee categories, and provisional.
A23: Ballots Rejected | C23: Total number of Rejected ballots for any reason
B24: Poll | C24: Total number of polling place ballots rejected for any reason.
B25: Absentee | C25: Total number of Absentee ballots rejected for any reason. This includes the total of number of UOCAVA ballots rejected
B26: Provisional | C26: Total number of Provisional ballots rejected. This does NOT include the rejected absentee ballots handled like provisional ballots per 13-13-245(3) MCA
B27: UOCAVA (Included in Absentee Totals) | C27: Total number of UOCAVA rejected. This number is included in the Absentee rejected Total.
B28: Total Rejected - No Voter Credit Assigned | C28: Total ballots rejected before absentee preparation is performed.
B29: Rejected by Prep Team - Post Voter Credit | C29: Additional ballots rejected after absentee preparation is completed. Examples - No ballot or multiple ballots in the secrecy envelope
B30: Total Ballots Voided | C30: Total of ballots voided for any reason. Example - issued absentee ballot is voided because a replacement ballot was requested.
A31: Votes Cast (Ballots Counted) | C31: Total number of ballots counted
B32: Total Ballots Accepted - sent to count | C32: This is the total number of ballots prepared for counting on election day and also for ballots counted after 3:00 pm on the Monday after the election. This is nominally the number of accepted ballots minus the ballots rejected by the prep team and rejected at the polling place.
B33: Poll | C33: Total number of polling place ballots counted
B34: Absentee | C34: Total number of absentee ballots counted. This will include UOCAVA ballots and resolved absentee ballots handled as provisional ballots.
B35: Provisional | C35: This is the number of Provisional ballots that were resolved and able to be counted. This does NOT include the absentee ballots that were resolved after 8:00 pm on election day and handle as a provisional ballot.
B36: Subtotal of counted ballots | C36: This is the total of counted poll, absentee, and provisional ballots
B37: Total ballots counted - entered from tabulator / hand count report | C37: This column is the number of total counted ballots as shown on the tabulator(s) reports and/or hand count reports. This should match the "subtotal of counted ballots" column
B38: UOCAVA (included in Absentee Totals) | C38: Total of UOCAVA ballots counted. This number is included in the total number of absentee ballots counted.
A40: Test Ballots | C40: Test deck ballots totals. This area does not apply to counties that hand-count ballots and therefore do not test a tabulator.
B41: Total Printed | C41: Total ballots printed for testing
B42: Used for Testing | C42: Total ballots used for testing
B43: Counted | C43: Total ballots counted during public test.
A44: Reconciled | C44: Indication that the numbers reported were able to be reconciled and any found differences can be explained.
B45: Y/N ? | C45: Used by county to indicate that they were able to reconcile the results reported on the row.
A46: Comments / Explanations | C46: Uses by counties to explain any differences or anomalies in the reported data.

Sheet State
A1: 2026 Primary Election Reconciliation Report - State of Montana
B2: Registered Voters | D2: Ballots Issued | I2: Ballots Accepted | N2: Ballots Rejected | U2: Votes Cast (Ballots Counted) | AB2: Test Ballots | AE2: Reconciled | AF2: Comments / Explanations
A3: County | B3: Total | C3: Election Day | D3: Poll | E3: Absentee | F3: Provisional | G3: UOCAVA (included in Absentee Totals) | H3: Total | I3: Poll | J3: Absentee | K3: Provisional | L3: UOCAVA (included in Absentee Totals) | M3: Total | N3: Poll | O3: Absentee | P3: Provisional | Q3: UOCAVA (Included in Absentee Totals) | R3: Total Rejected - No Voter Credit Assigned | S3: Rejected by Prep Team - Post Voter Credit | T3: Total Ballots Voided | U3: Total Ballots Accepted - sent to count | V3: Poll | W3: Absentee | X3: Provisional | Y3: Subtotal of Counted Ballots | Z3: Total ballots counted - entered from tabulator / hand count report | AA3: UOCAVA (included in Absentee Totals) | AB3: Total Printed | AC3: Used for Testing | AD3: Counted | AE3: Y/N? | AF3: Note significant variance and / or discrepancies
A4: BEAVERHEAD | B4: =Beaverhead!B20 -> 7205 | C4: =Beaverhead!C20 -> 2 | D4: =Beaverhead!D20 -> 701 | E4: =Beaverhead!E20 -> 3995 | F4: =Beaverhead!F20 -> 25 | G4: =Beaverhead!G20 -> 7 | H4: =Beaverhead!H20 -> 4721 | I4: =Beaverhead!I20 -> 671 | ... AD4: =Beaverhead!AD20 -> 656 | AE4: Yes
A5: BIG HORN | B5: ='Big Horn'!B27 -> 7479 | C5: ='Big Horn'!C27 -> 27 | D5: ='Big Horn'!D27 -> 1088 | E5: ='Big Horn'!E27 -> 2932 | F5: ='Big Horn'!F27 -> 102 | G5: ='Big Horn'!G27 -> 2 | H5: ='Big Horn'!H27 -> 4122 | I5: ='Big Horn'!I27 -> 829 | ... AD5: ='Big Horn'!AD27 -> 0 | AE5: Yes* | AF5: County reported unvoted primary ballots in voted ballot boxes. See county tab
A6: BLAINE | B6: =Blaine!B12 -> 4047 | C6: =Blaine!C12 -> 1 | D6: =Blaine!D12 -> 395 | E6: =Blaine!E12 -> 2067 | F6: =Blaine!F12 -> 13 | G6: =Blaine!G12 -> 5 | H6: =Blaine!H12 -> 2475 | I6: =Blaine!I12 -> 400 | ... AD6: =Blaine!AD12 -> 82 | AE6: Yes
A7: BROADWATER | B7: =Broadwater!B9 -> 6211 | C7: =Broadwater!C9 -> 7 | D7: =Broadwater!D9 -> 294 | E7: =Broadwater!E9 -> 3735 | F7: =Broadwater!F9 -> 7 | G7: =Broadwater!G9 -> 8 | H7: =Broadwater!H9 -> 4036 | I7: =Broadwater!I9 -> 287 | ... AD7: =Broadwater!AD9 -> 47 | AE7: Yes
A8: CARBON | B8: =Carbon!B17 -> 9130 | C8: =Carbon!C17 -> 2 | D8: =Carbon!D17 -> 797 | E8: =Carbon!E17 -> 5626 | F8: =Carbon!F17 -> 22 | G8: =Carbon!G17 -> 27 | H8: =Carbon!H17 -> 6445 | I8: =Carbon!I17 -> 797 | ... AD8: =Carbon!AD17 -> 0 | AE8: Yes
A9: CARTER | B9: =Carter!B8 -> 1003 | C9: =Carter!C8 -> 1 | D9: =Carter!D8 -> 280 | E9: =Carter!E8 -> 466 | F9: =Carter!F8 -> 0 | G9: =Carter!G8 -> 0 | H9: =Carter!H8 -> 746 | I9: =Carter!I8 -> 278 | ... AD9: =Carter!AD8 -> 40 | AE9: Yes
A10: CASCADE | B10: =Cascade!B30 -> 51616 | C10: =Cascade!C30 -> 48 | D10: =Cascade!D30 -> 890 | E10: =Cascade!E30 -> 36038 | F10: =Cascade!F30 -> 29 | G10: =Cascade!G30 -> 94 | H10: =Cascade!H30 -> 36957 | I10: =Cascade!I30 -> 897 | ... AD10: =Cascade!AD30 -> 650 | AE10: Yes
A11: CHOUTEAU | B11: =Chouteau!B13 -> 3670 | C11: =Chouteau!C13 -> 4 | D11: =Chouteau!D13 -> 390 | E11: =Chouteau!E13 -> 2264 | F11: =Chouteau!F13 -> 21 | G11: =Chouteau!G13 -> 8 | H11: =Chouteau!H13 -> 2675 | I11: =Chouteau!I13 -> 386 | ... AD11: =Chouteau!AD13 -> 270 | AE11: Yes
A12: CUSTER | B12: =Custer!B16 -> 7412 | C12: =Custer!C16 -> 10 | D12: =Custer!D16 -> 770 | E12: =Custer!E16 -> 3809 | F12: =Custer!F16 -> 22 | G12: =Custer!G16 -> 11 | H12: =Custer!H16 -> 4601 | I12: =Custer!I16 -> 770 | ... AD12: =Custer!AD16 -> 120 | AE12: Yes
A13: DANIELS | B13: =Daniels!B8 -> 1145 | C13: =Daniels!C8 -> 1 | D13: =Daniels!D8 -> 198 | E13: =Daniels!E8 -> 553 | F13: =Daniels!F8 -> 0 | G13: =Daniels!G8 -> 0 | H13: =Daniels!H8 -> 751 | I13: =Daniels!I8 -> 198 | ... AD13: =Daniels!AD8 -> 0 | AE13: Yes
A14: DAWSON | B14: =Dawson!B11 -> 5647 | C14: =Dawson!C11 -> 8 | D14: =Dawson!D11 -> 462 | E14: =Dawson!E11 -> 3779 | F14: =Dawson!F11 -> 7 | G14: =Dawson!G11 -> 5 | H14: =Dawson!H11 -> 4248 | I14: =Dawson!I11 -> 459 | ... AD14: =Dawson!AD11 -> 828 | AE14: Yes
A15: DEER LODGE | B15: ='Deer Lodge'!B10 -> 6179 | C15: ='Deer Lodge'!C10 -> 7 | D15: ='Deer Lodge'!D10 -> 321 | E15: ='Deer Lodge'!E10 -> 4110 | F15: ='Deer Lodge'!F10 -> 26 | G15: ='Deer Lodge'!G10 -> 8 | H15: ='Deer Lodge'!H10 -> 4457 | I15: ='Deer Lodge'!I10 -> 311 | ... AD15: ='Deer Lodge'!AD10 -> 204 | AE15: Yes
A16: FALLON | B16: =Fallon!B5 -> 1804 | C16: =Fallon!C5 -> 0 | D16: =Fallon!D5 -> 133 | E16: =Fallon!E5 -> 1273 | F16: =Fallon!F5 -> 0 | G16: =Fallon!G5 -> 1 | H16: =Fallon!H5 -> 1406 | I16: =Fallon!I5 -> 133 | ... AD16: =Fallon!AD5 -> 0 | AE16: Yes
A17: FERGUS | B17: =Fergus!B20 -> 8108 | C17: =Fergus!C20 -> 1 | D17: =Fergus!D20 -> 662 | E17: =Fergus!E20 -> 5190 | F17: =Fergus!F20 -> 0 | G17: =Fergus!G20 -> 14 | H17: =Fergus!H20 -> 5852 | I17: =Fergus!I20 -> 662 | ... AD17: =Fergus!AD20 -> 239 | AE17: Yes
A18: FLATHEAD | B18: =Flathead!B61 -> 85683 | C18: =Flathead!C61 -> 100 | D18: =Flathead!D61 -> 3949 | E18: =Flathead!E61 -> 52359 | F18: =Flathead!F61 -> 345 | G18: =Flathead!G61 -> 154 | H18: =Flathead!H61 -> 56653 | I18: =Flathead!I61 -> 3949 | ... AD18: =Flathead!AD61 -> 1360 | AE18: Yes
A19: GALLATIN | B19: =Gallatin!B50 -> 96618 | C19: =Gallatin!C50 -> 163 | D19: =Gallatin!D50 -> 1351 | E19: =Gallatin!E50 -> 64617 | F19: =Gallatin!F50 -> 288 | G19: =Gallatin!G50 -> 251 | H19: =Gallatin!H50 -> 66256 | I19: =Gallatin!I50 -> 1321 | ... AD19: =Gallatin!AD50 -> 1840 | AE19: Yes
A20: GARFIELD | B20: =Garfield!B8 -> 864 | C20: =Garfield!C8 -> 4 | D20: =Garfield!D8 -> 127 | E20: =Garfield!E8 -> 508 | F20: =Garfield!F8 -> 0 | G20: =Garfield!G8 -> 0 | H20: =Garfield!H8 -> 635 | I20: =Garfield!I8 -> 127 | ... AD20: =Garfield!AD8 -> 0 | AE20: Yes
A21: GLACIER | B21: =Glacier!B20 -> 7793 | C21: =Glacier!C20 -> 76 | D21: =Glacier!D20 -> 553 | E21: =Glacier!E20 -> 4328 | F21: =Glacier!F20 -> 43 | G21: =Glacier!G20 -> 2 | H21: =Glacier!H20 -> 4924 | I21: =Glacier!I20 -> 553 | ... AD21: =Glacier!AD20 -> 146 | AE21: Yes
A22: GOLDEN VALLEY | B22: ='Golden Valley'!B6 -> 605 | C22: ='Golden Valley'!C6 -> 1 | D22: ='Golden Valley'!D6 -> 37 | E22: ='Golden Valley'!E6 -> 418 | F22: ='Golden Valley'!F6 -> 0 | G22: ='Golden Valley'!G6 -> 1 | H22: ='Golden Valley'!H6 -> 455 | I22: ='Golden Valley'!I6 -> 37 | ... AD22: ='Golden Valley'!AD6 -> 0 | AE22: Yes
A23: GRANITE | B23: =Granite!B8 -> 2750 | C23: =Granite!C8 -> 1 | D23: =Granite!D8 -> 350 | E23: =Granite!E8 -> 1570 | F23: =Granite!F8 -> 3 | G23: =Granite!G8 -> 4 | H23: =Granite!H8 -> 1923 | I23: =Granite!I8 -> 349 | ... AD23: =Granite!AD8 -> 100 | AE23: Yes
A24: HILL | B24: =Hill!B21 -> 9242 | C24: =Hill!C21 -> 9 | D24: =Hill!D21 -> 369 | E24: =Hill!E21 -> 5636 | F24: =Hill!F21 -> 20 | G24: =Hill!G21 -> 9 | H24: =Hill!H21 -> 6025 | I24: =Hill!I21 -> 342 | ... AD24: =Hill!AD21 -> 284 | AE24: Yes | AF24: Possible 10 vote difference in votes cast subtotals for Precinct #10
A25: JEFFERSON | B25: =Jefferson!B16 -> 10131 | C25: =Jefferson!C16 -> 5 | D25: =Jefferson!D16 -> 564 | E25: =Jefferson!E16 -> 6707 | F25: =Jefferson!F16 -> 2 | G25: =Jefferson!G16 -> 27 | H25: =Jefferson!H16 -> 7273 | I25: =Jefferson!I16 -> 560 | ... AD25: =Jefferson!AD16 -> 257 | AE25: Yes
A26: JUDITH BASIN | B26: ='Judith Basin'!B8 -> 1572 | C26: ='Judith Basin'!C8 -> 1 | D26: ='Judith Basin'!D8 -> 197 | E26: ='Judith Basin'!E8 -> 967 | F26: ='Judith Basin'!F8 -> 0 | G26: ='Judith Basin'!G8 -> 3 | H26: ='Judith Basin'!H8 -> 1164 | I26: ='Judith Basin'!I8 -> 196 | ... AD26: ='Judith Basin'!AD8 -> 120 | AE26: Yes
A27: LAKE | B27: =Lake!B26 -> 22513 | C27: =Lake!C26 -> 27 | D27: =Lake!D26 -> 1222 | E27: =Lake!E26 -> 14201 | F27: =Lake!F26 -> 118 | G27: =Lake!G26 -> 25 | H27: =Lake!H26 -> 15541 | I27: =Lake!I26 -> 1225 | ... AD27: =Lake!AD26 -> 528 | AE27: Yes
A28: LEWIS AND CLARK | B28: ='Lewis and Clark'!B36 -> 53031 | C28: ='Lewis and Clark'!C36 -> 48 | D28: ='Lewis and Clark'!D36 -> 2217 | E28: ='Lewis and Clark'!E36 -> 37591 | F28: ='Lewis and Clark'!F36 -> 152 | G28: ='Lewis and Clark'!G36 -> 121 | H28: ='Lewis and Clark'!H36 -> 39960 | I28: ='Lewis and Clark'!I36 -> 2217 | ... AD28: ='Lewis and Clark'!AD36 -> 768 | AE28: Yes
A29: LIBERTY | B29: =Liberty!B8 -> 1176 | C29: =Liberty!C8 -> 3 | D29: =Liberty!D8 -> 127 | E29: =Liberty!E8 -> 773 | F29: =Liberty!F8 -> 0 | G29: =Liberty!G8 -> 5 | H29: =Liberty!H8 -> 900 | I29: =Liberty!I8 -> 127 | ... AD29: =Liberty!AD8 -> 40 | AE29: Yes
A30: LINCOLN | B30: =Lincoln!B20 -> 14840 | C30: =Lincoln!C20 -> 34 | D30: =Lincoln!D20 -> 1561 | E30: =Lincoln!E20 -> 8961 | F30: =Lincoln!F20 -> 40 | G30: =Lincoln!G20 -> 24 | H30: =Lincoln!H20 -> 10562 | I30: =Lincoln!I20 -> 1561 | ... AD30: =Lincoln!AD20 -> 145 | AE30: Yes* | AF30: Count of ballots rejected when opening secrecy envelopes and count of ballot by type was not reported. See county tab.
A31: MADISON | B31: =Madison!B15 -> 7793 | C31: =Madison!C15 -> 6 | D31: =Madison!D15 -> 840 | E31: =Madison!E15 -> 4975 | F31: =Madison!F15 -> 1 | G31: =Madison!G15 -> 31 | H31: =Madison!H15 -> 5816 | I31: =Madison!I15 -> 836 | ... AD31: =Madison!AD15 -> 330 | AE31: Yes
A32: MCCONE | B32: =McCone!B7 -> 1249 | C32: =McCone!C7 -> 0 | D32: =McCone!D7 -> 277 | E32: =McCone!E7 -> 620 | F32: =McCone!F7 -> 0 | G32: =McCone!G7 -> 0 | H32: =McCone!H7 -> 897 | I32: =McCone!I7 -> 293 | ... AD32: =McCone!AD7 -> 0 | AE32: Yes* | AF32: Count of ballot by type not reported. See county tab.
A33: MEAGHER | B33: =Meagher!B5 -> 1437 | C33: =Meagher!C5 -> 3 | D33: =Meagher!D5 -> 64 | E33: =Meagher!E5 -> 1001 | F33: =Meagher!F5 -> 0 | G33: =Meagher!G5 -> 0 | H33: =Meagher!H5 -> 1065 | I33: =Meagher!I5 -> 64 | ... AD33: =Meagher!AD5 -> 0 | AE33: Yes
A34: MINERAL | B34: =Mineral!B10 -> 4056 | C34: =Mineral!C10 -> 20 | D34: =Mineral!D10 -> 427 | E34: =Mineral!E10 -> 2364 | F34: =Mineral!F10 -> 32 | G34: =Mineral!G10 -> 5 | H34: =Mineral!H10 -> 2823 | I34: =Mineral!I10 -> 427 | ... AD34: =Mineral!AD10 -> 110 | AE34: Yes
A35: MISSOULA | B35: =Missoula!B69 -> 91314 | C35: =Missoula!C69 -> 272 | D35: =Missoula!D69 -> 2129 | E35: =Missoula!E69 -> 65292 | F35: =Missoula!F69 -> 393 | G35: =Missoula!G69 -> 253 | H35: =Missoula!H69 -> 67814 | I35: =Missoula!I69 -> 2130 | ... AD35: =Missoula!AD69 -> 1950 | AE35: Yes
A36: MUSSELSHELL | B36: =Musselshell!B10 -> 3832 | C36: =Musselshell!C10 -> 4 | D36: =Musselshell!D10 -> 494 | E36: =Musselshell!E10 -> 2364 | F36: =Musselshell!F10 -> 6 | G36: =Musselshell!G10 -> 0 | H36: =Musselshell!H10 -> 2864 | I36: =Musselshell!I10 -> 484 | ... AD36: =Musselshell!AD10 -> 60 | AE36: Yes* | AF36: Count of ballots rejected when opening secrecy envelopes not fully reported. See county tab.
A37: PARK | B37: =Park!B16 -> 14531 | C37: =Park!C16 -> 13 | D37: =Park!D16 -> 811 | E37: =Park!E16 -> 8862 | F37: =Park!F16 -> 51 | G37: =Park!G16 -> 51 | H37: =Park!H16 -> 9724 | I37: =Park!I16 -> 811 | ... AD37: =Park!AD16 -> 360 | AE37: Yes
A38: PETROLEUM | B38: =Petroleum!B5 -> 368 | C38: =Petroleum!C5 -> 5 | D38: =Petroleum!D5 -> 37 | E38: =Petroleum!E5 -> 239 | F38: =Petroleum!F5 -> 0 | G38: =Petroleum!G5 -> 0 | H38: =Petroleum!H5 -> 276 | I38: =Petroleum!I5 -> 37 | ... AD38: =Petroleum!AD5 -> 15 | AE38: Yes
A39: PHILLIPS | B39: =Phillips!B8 -> 2632 | C39: =Phillips!C8 -> 4 | D39: =Phillips!D8 -> 138 | E39: =Phillips!E8 -> 2016 | F39: =Phillips!F8 -> 0 | G39: =Phillips!G8 -> 9 | H39: =Phillips!H8 -> 2154 | I39: =Phillips!I8 -> 137 | ... AD39: =Phillips!AD8 -> 86 | AE39: Yes
A40: PONDERA | B40: =Pondera!B12 -> 3782 | C40: =Pondera!C12 -> 0 | D40: =Pondera!D12 -> 252 | E40: =Pondera!E12 -> 2601 | F40: =Pondera!F12 -> 17 | G40: =Pondera!G12 -> 5 | H40: =Pondera!H12 -> 2870 | I40: =Pondera!I12 -> 234 | ... AD40: =Pondera!AD12 -> 360 | AE40: Yes
A41: POWDER RIVER | B41: ='Powder River'!B10 -> 1237 | C41: ='Powder River'!C10 -> 5 | D41: ='Powder River'!D10 -> 332 | E41: ='Powder River'!E10 -> 622 | F41: ='Powder River'!F10 -> 0 | G41: ='Powder River'!G10 -> 1 | H41: ='Powder River'!H10 -> 954 | I41: ='Powder River'!I10 -> 325 | ... AD41: ='Powder River'!AD10 -> 0 | AE41: Yes
A42: POWELL | B42: =Powell!B17 -> 4047 | C42: =Powell!C17 -> 4 | D42: =Powell!D17 -> 666 | E42: =Powell!E17 -> 2195 | F42: =Powell!F17 -> 0 | G42: =Powell!G17 -> 5 | H42: =Powell!H17 -> 2861 | I42: =Powell!I17 -> 666 | ... AD42: =Powell!AD17 -> 136 | AE42: Yes
A43: PRAIRIE | B43: =Prairie!B8 -> 823 | C43: =Prairie!C8 -> 2 | D43: =Prairie!D8 -> 141 | E43: =Prairie!E8 -> 506 | F43: =Prairie!F8 -> 0 | G43: =Prairie!G8 -> 6 | H43: =Prairie!H8 -> 647 | I43: =Prairie!I8 -> 140 | ... AD43: =Prairie!AD8 -> 0 | AE43: Yes
A44: RAVALLI | B44: =Ravalli!B29 -> 36299 | C44: =Ravalli!C29 -> 33 | D44: =Ravalli!D29 -> 2742 | E44: =Ravalli!E29 -> 22669 | F44: =Ravalli!F29 -> 139 | G44: =Ravalli!G29 -> 110 | H44: =Ravalli!H29 -> 25550 | I44: =Ravalli!I29 -> 2718 | ... AD44: =Ravalli!AD29 -> 1010 | AE44: Yes
A45: RICHLAND | B45: =Richland!B18 -> 7477 | C45: =Richland!C18 -> 19 | D45: =Richland!D18 -> 1172 | E45: =Richland!E18 -> 3096 | F45: =Richland!F18 -> 41 | G45: =Richland!G18 -> 8 | H45: =Richland!H18 -> 4309 | I45: =Richland!I18 -> 1170 | ... AD45: =Richland!AD18 -> 580 | AE45: Yes
A46: ROOSEVELT | B46: =Roosevelt!B16 -> 5952 | C46: =Roosevelt!C16 -> 2 | D46: =Roosevelt!D16 -> 459 | E46: =Roosevelt!E16 -> 2489 | F46: =Roosevelt!F16 -> 0 | G46: =Roosevelt!G16 -> 1 | H46: =Roosevelt!H16 -> 2948 | I46: =Roosevelt!I16 -> 459 | ... AD46: =Roosevelt!AD16 -> 252 | AE46: Yes
A47: ROSEBUD | B47: =Rosebud!B16 -> 4981 | C47: =Rosebud!C16 -> 6 | D47: =Rosebud!D16 -> 540 | E47: =Rosebud!E16 -> 2483 | F47: =Rosebud!F16 -> 3 | G47: =Rosebud!G16 -> 7 | H47: =Rosebud!H16 -> 3026 | I47: =Rosebud!I16 -> 538 | ... AD47: =Rosebud!AD16 -> 276 | AE47: Yes
A48: SANDERS | B48: =Sanders!B13 -> 10864 | C48: =Sanders!C13 -> 4 | D48: =Sanders!D13 -> 577 | E48: =Sanders!E13 -> 7069 | F48: =Sanders!F13 -> 48 | G48: =Sanders!G13 -> 16 | H48: =Sanders!H13 -> 7694 | I48: =Sanders!I13 -> 577 | ... AD48: =Sanders!AD13 -> 500 | AE48: Yes
A49: SHERIDAN | B49: =Sheridan!B10 -> 2370 | C49: =Sheridan!C10 -> 10 | D49: =Sheridan!D10 -> 309 | E49: =Sheridan!E10 -> 1488 | F49: =Sheridan!F10 -> 3 | G49: =Sheridan!G10 -> 8 | H49: =Sheridan!H10 -> 1800 | I49: =Sheridan!I10 -> 305 | ... AD49: =Sheridan!AD10 -> 180 | AE49: Yes
A50: SILVER BOW | B50: ='Silver Bow'!B35 -> 23773 | C50: ='Silver Bow'!C35 -> 42 | D50: ='Silver Bow'!D35 -> 1597 | E50: ='Silver Bow'!E35 -> 14146 | F50: ='Silver Bow'!F35 -> 9 | G50: ='Silver Bow'!G35 -> 49 | H50: ='Silver Bow'!H35 -> 15752 | I50: ='Silver Bow'!I35 -> 1597 | ... AD50: ='Silver Bow'!AD35 -> 1084 | AE50: Yes
A51: STILLWATER | B51: =Stillwater!B13 -> 7209 | C51: =Stillwater!C13 -> 7 | D51: =Stillwater!D13 -> 809 | E51: =Stillwater!E13 -> 4170 | F51: =Stillwater!F13 -> 8 | G51: =Stillwater!G13 -> 20 | H51: =Stillwater!H13 -> 4987 | I51: =Stillwater!I13 -> 795 | ... AD51: =Stillwater!AD13 -> 324 | AE51: Yes
A52: SWEET GRASS | B52: ='Sweet Grass'!B9 -> 2901 | C52: ='Sweet Grass'!C9 -> 12 | D52: ='Sweet Grass'!D9 -> 187 | E52: ='Sweet Grass'!E9 -> 1876 | F52: ='Sweet Grass'!F9 -> 8 | G52: ='Sweet Grass'!G9 -> 11 | H52: ='Sweet Grass'!H9 -> 2071 | I52: ='Sweet Grass'!I9 -> 187 | ... AD52: ='Sweet Grass'!AD9 -> 150 | AE52: Yes
A53: TETON | B53: =Teton!B9 -> 4315 | C53: =Teton!C9 -> 9 | D53: =Teton!D9 -> 369 | E53: =Teton!E9 -> 2948 | F53: =Teton!F9 -> 17 | G53: =Teton!G9 -> 8 | H53: =Teton!H9 -> 3334 | I53: =Teton!I9 -> 369 | ... AD53: =Teton!AD9 -> 55 | AE53: Yes
A54: TOOLE | B54: =Toole!B9 -> 2602 | C54: =Toole!C9 -> 9 | D54: =Toole!D9 -> 392 | E54: =Toole!E9 -> 1473 | F54: =Toole!F9 -> 10 | G54: =Toole!G9 -> 10 | H54: =Toole!H9 -> 1875 | I54: =Toole!I9 -> 396 | ... AD54: =Toole!AD9 -> 225 | AE54: Yes
A55: TREASURE | B55: =Treasure!B5 -> 528 | C55: =Treasure!C5 -> 4 | D55: =Treasure!D5 -> 92 | E55: =Treasure!E5 -> 320 | F55: =Treasure!F5 -> 0 | G55: =Treasure!G5 -> 0 | H55: =Treasure!H5 -> 412 | I55: =Treasure!I5 -> 92 | ... AD55: =Treasure!AD5 -> 0 | AE55: Yes
A56: VALLEY | B56: =Valley!B8 -> 5239 | C56: =Valley!C8 -> 4 | D56: =Valley!D8 -> 171 | E56: =Valley!E8 -> 3749 | F56: =Valley!F8 -> 0 | G56: =Valley!G8 -> 1 | H56: =Valley!H8 -> 3920 | I56: =Valley!I8 -> 166 | ... AD56: =Valley!AD8 -> 38 | AE56: Yes
A57: WHEATLAND | B57: =Wheatland!B9 -> 1474 | C57: =Wheatland!C9 -> 3 | D57: =Wheatland!D9 -> 157 | E57: =Wheatland!E9 -> 798 | F57: =Wheatland!F9 -> 1 | G57: =Wheatland!G9 -> 16 | H57: =Wheatland!H9 -> 956 | I57: =Wheatland!I9 -> 157 | ... AD57: =Wheatland!AD9 -> 0 | AE57: Yes
A58: WIBAUX | B58: =Wibaux!B5 -> 692 | C58: =Wibaux!C5 -> 2 | D58: =Wibaux!D5 -> 145 | E58: =Wibaux!E5 -> 336 | F58: =Wibaux!F5 -> 0 | G58: =Wibaux!G5 -> 0 | H58: =Wibaux!H5 -> 481 | I58: =Wibaux!I5 -> 145 | ... AD58: =Wibaux!AD5 -> 24 | AE58: Yes
A59: YELLOWSTONE | B59: =Yellowstone!B63 -> 109956 | C59: =Yellowstone!C63 -> 80 | D59: =Yellowstone!D63 -> 803 | E59: =Yellowstone!E63 -> 83419 | F59: =Yellowstone!F63 -> 56 | G59: =Yellowstone!G63 -> 102 | H59: =Yellowstone!H63 -> 84278 | I59: =Yellowstone!I63 -> 802 | ... AD59: =Yellowstone!AD63 -> 533 | AE59: Yes
A60: Total | B60: =SUM(B4:B59) -> 791207 | C60: =SUM(C4:C59) -> 1175 | D60: =SUM(D4:D59) -> 37134 | E60: =SUM(E4:E59) -> 520659 | F60: =SUM(F4:F59) -> 2128 | G60: =SUM(G4:G59) -> 1549 | H60: =SUM(H4:H59) -> 559921 | I60: =SUM(I4:I59) -> 36699 | ... AD60: =SUM(AD4:AD59) -> 17362
Q62: =M60-N60-S60 -> 299773

Sheet Beaverhead
A1: 2026 Primary Election Reconciliation Report - Beaverhead County
B2: Registered Voters | D2: Ballots Issued | I2: Ballots Accepted | N2: Ballots Rejected | U2: Votes Cast (Ballots Counted) | AB2: Test Ballots | AE2: Reconciled | AF2: Comments / Explanations
A3: Precinct | B3: Total | C3: Election Day | D3: Poll | E3: Absentee | F3: Provisional | G3: UOCAVA (included in Absentee Totals) | H3: Total | I3: Poll | J3: Absentee | K3: Provisional | L3: UOCAVA (included in Absentee Totals) | M3: Total | N3: Poll | O3: Absentee | P3: Provisional | Q3: UOCAVA (Included in Absentee Totals) | R3: Total Rejected - No Voter Credit Assigned | S3: Rejected by Prep Team - Post Voter Credit | T3: Total Ballots Voided | U3: Total Ballots Accepted - sent to count | V3: Poll | W3: Absentee | X3: Provisional | Y3: Subtotal of Counted Ballots | Z3: Total ballots counted - entered from tabulator / hand count report | AA3: UOCAVA (included in Absentee Totals) | AB3: Total Printed | AC3: Used for Testing | AD3: Counted | AE3: Y/N? | AF3: Note any variance and / or discrepancies
A4: PREC 01 | B4: 526 | C4: 0 | D4: 33 | E4: 271 | F4: 2 | G4: 0 | H4: 306 | I4: 31 | J4: 128 | K4: 2 | L4: 0 | M4: 161 | N4: 0 | O4: 1 | P4: 0 | R4: 1 | S4: 6 | T4: 8 | U4: 155 | V4: 31 | W4: 122 | X4: 2 | Y4: 155 | Z4: 155 | AA4: 0 | AB4: 75 | AC4: 34 | AD4: 41
A5: PREC 02 | B5: 1095 | C5: 0 | D5: 92 | E5: 625 | F5: 2 | G5: 3 | H5: 719 | I5: 89 | J5: 380 | K5: 2 | L5: 2 | M5: 471 | O5: 6 | P5: 1 | R5: 7 | S5: 11 | T5: 2 | U5: 460 | V5: 89 | W5: 369 | X5: 2 | Y5: 460 | Z5: 460 | AA5: 2 | AB5: 75 | AC5: 34 | AD5: 41
A6: PREC 03 | B6: 1102 | C6: 0 | D6: 107 | E6: 639 | F6: 2 | G6: 1 | H6: 748 | I6: 104 | J6: 382 | K6: 2 | L6: 0 | M6: 488 | O6: 3 | P6: 2 | R6: 5 | S6: 9 | T6: 5 | U6: 479 | V6: 104 | W6: 373 | X6: 2 | Y6: 479 | Z6: 479 | AA6: 0 | AB6: 75 | AC6: 34 | AD6: 41
A7: PREC 04 | B7: 261 | C7: 0 | D7: 20 | E7: 163 | F7: 2 | G7: 0 | H7: 185 | I7: 18 | J7: 99 | K7: 2 | L7: 0 | M7: 119 | O7: 4 | P7: 2 | R7: 6 | S7: 3 | T7: 1 | U7: 116 | V7: 18 | W7: 96 | X7: 2 | Y7: 116 | Z7: 116 | AA7: 0 | AB7: 75 | AC7: 34 | AD7: 41
A8: PREC 05 | B8: 190 | C8: 0 | D8: 15 | E8: 133 | F8: 0 | G8: 0 | H8: 148 | I8: 15 | J8: 77 | K8: 0 | L8: 0 | M8: 92 | N8: 0 | O8: 1 | P8: 0 | R8: 1 | S8: 0 | T8: 1 | U8: 92 | V8: 15 | W8: 77 | X8: 0 | Y8: 92 | Z8: 92 | AA8: 0 | AB8: 75 | AC8: 34 | AD8: 41
A9: PREC 06 | B9: 679 | C9: 1 | D9: 45 | E9: 346 | F9: 2 | G9: 0 | H9: 393 | I9: 44 | J9: 199 | K9: 2 | L9: 0 | M9: 245 | N9: 0 | O9: 2 | P9: 1 | R9: 3 | S9: 11 | T9: 5 | U9: 234 | V9: 44 | W9: 188 | X9: 2 | Y9: 234 | Z9: 234 | AA9: 0 | AB9: 75 | AC9: 34 | AD9: 41
A10: PREC 07 | B10: 395 | C10: 0 | D10: 49 | E10: 207 | F10: 0 | G10: 0 | H10: 256 | I10: 49 | J10: 132 | K10: 0 | L10: 0 | M10: 181 | N10: 0 | O10: 0 | P10: 0 | R10: 0 | S10: 3 | T10: 0 | U10: 178 | V10: 49 | W10: 129 | X10: 0 | Y10: 178 | Z10: 178 | AA10: 0 | AB10: 75 | AC10: 34 | AD10: 41
A11: PREC 08 | B11: 94 | C11: 0 | D11: 15 | E11: 40 | F11: 0 | G11: 0 | H11: 55 | I11: 15 | J11: 21 | K11: 0 | L11: 0 | M11: 36 | N11: 0 | O11: 0 | P11: 0 | R11: 0 | S11: 0 | T11: 1 | U11: 36 | V11: 15 | W11: 21 | X11: 0 | Y11: 36 | Z11: 36 | AA11: 0 | AB11: 75 | AC11: 34 | AD11: 41
A12: PREC 09 | B12: 593 | C12: 0 | D12: 62 | E12: 354 | F12: 3 | G12: 1 | H12: 419 | I12: 59 | J12: 221 | K12: 3 | L12: 0 | M12: 283 | N12: 0 | O12: 0 | P12: 0 | R12: 0 | S12: 7 | T12: 2 | U12: 276 | V12: 59 | W12: 214 | X12: 3 | Y12: 276 | Z12: 276 | AA12: 0 | AB12: 75 | AC12: 34 | AD12: 41
A13: PREC 12 | B13: 710 | C13: 0 | D13: 81 | E13: 397 | F13: 3 | G13: 1 | H13: 481 | I13: 79 | J13: 235 | K13: 3 | L13: 1 | M13: 317 | N13: 0 | O13: 1 | P13: 1 | R13: 2 | S13: 9 | T13: 3 | U13: 308 | V13: 79 | W13: 226 | X13: 3 | Y13: 308 | Z13: 308 | AA13: 1 | AB13: 75 | AC13: 34 | AD13: 41 | AF13: 1 ballot long in PP ballot box/voter may have deposited two ballots in the "voted" ballot sleeve when depositing into the ballot box.
A14: PREC 14 | B14: 695 | C14: 0 | D14: 52 | E14: 331 | F14: 1 | G14: 0 | H14: 384 | I14: 51 | J14: 169 | K14: 1 | L14: 0 | M14: 221 | N14: 0 | O14: 0 | P14: 0 | R14: 0 | S14: 7 | T14: 1 | U14: 214 | V14: 51 | W14: 162 | X14: 1 | Y14: 214 | Z14: 214 | AA14: 0 | AB14: 75 | AC14: 34 | AD14: 41
A15: PREC 17 | B15: 189 | C15: 0 | D15: 16 | E15: 118 | F15: 1 | G15: 0 | H15: 135 | I15: 15 | J15: 62 | K15: 1 | L15: 0 | M15: 78 | N15: 0 | O15: 0 | P15: 0 | R15: 0 | S15: 0 | T15: 2 | U15: 78 | V15: 15 | W15: 62 | X15: 1 | Y15: 78 | Z15: 78 | AA15: 0 | AB15: 75 | AC15: 34 | AD15: 41
A16: PREC 19 | B16: 188 | C16: 0 | D16: 25 | E16: 114 | F16: 1 | G16: 0 | H16: 140 | I16: 23 | J16: 70 | K16: 1 | L16: 0 | M16: 94 | O16: 0 | P16: 0 | R16: 0 | S16: 0 | T16: 3 | U16: 94 | V16: 23 | W16: 70 | X16: 1 | Y16: 94 | Z16: 94 | AA16: 0 | AB16: 75 | AC16: 34 | AD16: 41
A17: PREC 20 | B17: 110 | C17: 0 | D17: 25 | E17: 56 | F17: 2 | G17: 1 | H17: 83 | I17: 23 | J17: 35 | K17: 2 | L17: 1 | M17: 60 | O17: 1 | P17: 0 | R17: 1 | S17: 0 | T17: 0 | U17: 60 | V17: 23 | W17: 35 | X17: 2 | Y17: 60 | Z17: 60 | AA17: 1 | AB17: 75 | AC17: 34 | AD17: 41
A18: PREC 21 | B18: 194 | C18: 1 | D18: 33 | E18: 94 | F18: 0 | G18: 0 | H18: 127 | I18: 33 | J18: 60 | K18: 0 | L18: 0 | M18: 93 | N18: 0 | O18: 0 | P18: 0 | R18: 0 | S18: 2 | T18: 0 | U18: 91 | V18: 33 | W18: 58 | X18: 0 | Y18: 91 | Z18: 91 | AB18: 75 | AC18: 34 | AD18: 41
A19: PREC 23 | B19: 184 | C19: 0 | D19: 31 | E19: 107 | F19: 4 | G19: 0 | H19: 142 | I19: 23 | J19: 65 | K19: 4 | L19: 0 | M19: 92 | O19: 0 | P19: 0 | R19: 0 | S19: 3 | T19: 0 | U19: 89 | V19: 23 | W19: 62 | X19: 4 | Y19: 89 | Z19: 89 | AB19: 75 | AC19: 34 | AD19: 41
A20: Total | B20: =SUM(B4:B19) -> 7205 | C20: =SUM(C4:C19) -> 2 | D20: =SUM(D4:D19) -> 701 | E20: =SUM(E4:E19) -> 3995 | F20: =SUM(F4:F19) -> 25 | G20: =SUM(G4:G19) -> 7 | H20: =SUM(H4:H19) -> 4721 | I20: =SUM(I4:I19) -> 671 | ... AD20: =SUM(AD4:AD19) -> 656

Sheet Big Horn
A1: 2026 Primary Election Reconciliation Report - Big Horn County
B2: Registered Voters | D2: Ballots Issued | I2: Ballots Accepted | N2: Ballots Rejected | U2: Votes Cast (Ballots Counted) | AB2: Test Ballots | AE2: Reconciled | AF2: Comments / Explanations
A3: Precinct | B3: Total | C3: Election Day | D3: Poll | E3: Absentee | F3: Provisional | G3: UOCAVA (included in Absentee Totals) | H3: Total | I3: Poll | J3: Absentee | K3: Provisional | L3: UOCAVA (included in Absentee Totals) | M3: Total | N3: Poll | O3: Absentee | P3: Provisional | Q3: UOCAVA (Included in Absentee Totals) | R3: Total Rejected - No Voter Credit Assigned | S3: Rejected by Prep Team - Post Voter Credit | T3: Total Ballots Voided | U3: Total Ballots Accepted - sent to count | V3: Poll | W3: Absentee | X3: Provisional | Y3: Subtotal of Counted Ballots | Z3: Total ballots counted - entered from tabulator / hand count report | AA3: UOCAVA (included in Absentee Totals) | AB3: Total Printed | AC3: Used for Testing | AD3: Counted | AE3: Y/N? | AF3: Note any variance and / or discrepancies
A4: PRECINCT #1 | B4: 127 | C4: 0 | D4: 22 | E4: 53 | F4: 0 | G4: 0 | H4: 75 | I4: 22 | J4: 29 | K4: 0 | L4: 0 | M4: 51 | N4: 0 | O4: 2 | P4: 0 | Q4: 0 | R4: 2 | S4: 4 | T4: 0 | U4: 47 | V4: 22 | W4: 25 | X4: 0 | Y4: 47 | Z4: 47 | AA4: 0 | AB4: 30 | AC4: 30 | AD4: 0 | AE4: Y
A5: PRECINCT #10 | B5: 86 | C5: 0 | D5: 13 | E5: 48 | F5: 2 | G5: 0 | H5: 63 | I5: 8 | J5: 27 | K5: 2 | L5: 0 | M5: 37 | N5: 0 | O5: 0 | P5: 0 | Q5: 0 | R5: 0 | S5: 4 | T5: 1 | U5: 38 | V5: 13 | W5: 23 | X5: 2 | Y5: 38 | Z5: 38 | AA5: 0 | AB5: 30 | AC5: 30 | AD5: 0 | AE5: N | AF5: 5 people voted two ballots.
A6: PRECINCT #11 | B6: 259 | C6: 2 | D6: 42 | E6: 79 | F6: 9 | G6: 1 | H6: 130 | I6: 34 | J6: 34 | K6: 7 | L6: 0 | M6: 75 | N6: 0 | O6: 0 | P6: 2 | Q6: 0 | R6: 2 | S6: 8 | T6: 1 | U6: 73 | V6: 42 | W6: 26 | X6: 7 | Y6: 75 | Z6: 73 | AA6: 0 | AB6: 30 | AC6: 30 | AD6: 0 | AE6: N | AF6: Off by 2 people who voted provisionally in Precinct 25, 4 people voted 3 ballots
A7: PRECINCT #12 | B7: 211 | C7: 0 | D7: 23 | E7: 69 | F7: 3 | G7: 0 | H7: 95 | I7: 20 | J7: 23 | K7: 3 | L7: 0 | M7: 46 | N7: 0 | O7: 0 | P7: 0 | Q7: 0 | R7: 0 | S7: 4 | T7: 0 | U7: 45 | V7: 23 | W7: 19 | X7: 3 | Y7: 45 | Z7: 45 | AA7: 0 | AB7: 30 | AC7: 30 | AD7: 0 | AE7: N | AF7: 3 people voted two ballots.
A8: PRECINCT #14 | B8: 323 | C8: 2 | D8: 53 | E8: 119 | F8: 12 | G8: 1 | H8: 184 | I8: 48 | J8: 30 | K8: 12 | L8: 0 | M8: 90 | N8: 0 | O8: 1 | P8: 0 | Q8: 0 | R8: 1 | S8: 13 | T8: 0 | U8: 80 | V8: 53 | W8: 17 | X8: 12 | Y8: 82 | Z8: 80 | AA8: 0 | AB8: 30 | AC8: 30 | AD8: 0 | AE8: N | AF8: 5 people voted two ballots.
A9: PRECINCT #15 | B9: 507 | C9: 2 | D9: 247 | E9: 141 | F9: 0 | G9: 0 | H9: 388 | I9: 74 | J9: 35 | K9: 0 | L9: 0 | M9: 109 | N9: 0 | O9: 1 | P9: 0 | Q9: 0 | R9: 1 | S9: 4 | T9: 0 | U9: 278 | V9: 247 | W9: 31 | X9: 0 | Y9: 278 | Z9: 278 | AA9: 0 | AB9: 30 | AC9: 30 | AD9: 0 | AE9: N | AF9: All voters at the polls received all three ballots and voted them, and we had 8 voters not logged in register who voted 3 ballots and had one voter who voted two ballots.
A10: PRECINCT #16 | B10: 152 | C10: 1 | D10: 24 | E10: 43 | F10: 1 | G10: 0 | H10: 68 | I10: 20 | J10: 17 | K10: 2 | L10: 0 | M10: 39 | N10: 0 | O10: 0 | P10: 0 | Q10: 0 | R10: 0 | S10: 5 | T10: 0 | U10: 38 | V10: 24 | W10: 12 | X10: 2 | Y10: 38 | Z10: 38 | AA10: 0 | AB10: 30 | AC10: 30 | AD10: 0 | AE10: N | AF10: 2 People voted three ballots.
A11: PRECINCT #17 | B11: 590 | C11: 6 | D11: 45 | E11: 276 | F11: 5 | G11: 0 | H11: 326 | I11: 38 | J11: 130 | K11: 2 | L11: 0 | M11: 170 | N11: 0 | O11: 2 | P11: 0 | Q11: 0 | R11: 2 | S11: 11 | T11: 2 | U11: 168 | V11: 45 | W11: 119 | X11: 2 | Y11: 166 | Z11: 168 | AA11: 0 | AB11: 30 | AC11: 30 | AD11: 0 | AE11: N | AF11: 2 Provisional voters had polling place credit had to remove. 3 people double voted, 1 person voted all three ballots.
A12: PRECINCT #18 | B12: 527 | C12: 4 | D12: 45 | E12: 255 | F12: 6 | G12: 0 | H12: 306 | I12: 45 | J12: 137 | K12: 5 | L12: 0 | M12: 187 | N12: 0 | O12: 0 | P12: 1 | Q12: 0 | R12: 1 | S12: 7 | T12: 3 | U12: 179 | V12: 45 | W12: 130 | X12: 5 | Y12: 180 | Z12: 179 | AA12: 0 | AB12: 30 | AC12: 30 | AD12: 0 | AE12: Y
A13: PRECINCT #19 | B13: 746 | C13: 3 | D13: 53 | E13: 373 | F13: 7 | G13: 0 | H13: 433 | I13: 41 | J13: 206 | K13: 6 | L13: 0 | M13: 253 | N13: 0 | O13: 4 | P13: 1 | Q13: 0 | R13: 5 | S13: 16 | T13: 4 | U13: 248 | V13: 53 | W13: 190 | X13: 6 | Y13: 249 | Z13: 248 | AA13: 0 | AB13: 30 | AC13: 30 | AD13: 0 | AE13: N | AF13: 6 people triple voted.
A14: PRECINCT #2 | B14: 268 | C14: 1 | D14: 18 | E14: 132 | F14: 1 | G14: 0 | H14: 151 | I14: 13 | J14: 44 | K14: 1 | L14: 0 | M14: 58 | N14: 0 | O14: 0 | P14: 0 | Q14: 0 | R14: 0 | S14: 4 | T14: 1 | U14: 59 | V14: 18 | W14: 40 | X14: 1 | Y14: 59 | Z14: 59 | AA14: 0 | AB14: 30 | AC14: 30 | AD14: 0 | AE14: N | AF14: 5 People voted two ballots.
A15: PRECINCT #20 | B15: 225 | C15: 2 | D15: 19 | E15: 123 | F15: 0 | G15: 0 | H15: 142 | I15: 16 | J15: 70 | K15: 0 | L15: 0 | M15: 86 | N15: 0 | O15: 0 | P15: 0 | Q15: 0 | R15: 0 | S15: 7 | T15: 1 | U15: 82 | V15: 19 | W15: 63 | X15: 0 | Y15: 82 | Z15: 82 | AA15: 0 | AB15: 30 | AC15: 30 | AD15: 0 | AE15: N | AF15: 3 people voted two ballots.
A16: PRECINCT #21 | B16: 760 | C16: 1 | D16: 150 | E16: 261 | F16: 18 | G16: 0 | H16: 429 | I16: 143 | J16: 102 | K16: 14 | L16: 0 | M16: 259 | N16: 0 | O16: 1 | P16: 1 | Q16: 0 | R16: 2 | S16: 24 | T16: 5 | U16: 244 | V16: 150 | W16: 78 | X16: 14 | Y16: 242 | Z16: 244 | AA16: 0 | AB16: 30 | AC16: 30 | AD16: 0 | AE16: N | AF16: 3 people voted all three ballots , and one absentee counted as poll vote.
A17: PRECINCT #25 | B17: 101 | C17: 0 | D17: 21 | E17: 44 | F17: 0 | G17: 0 | H17: 65 | I17: 14 | J17: 14 | K17: 0 | L17: 0 | M17: 28 | N17: 0 | O17: 0 | P17: 0 | Q17: 0 | R17: 0 | S17: 7 | T17: 0 | U17: 31 | V17: 21 | W17: 7 | X17: 0 | Y17: 28 | Z17: 31 | AA17: 0 | AB17: 30 | AC17: 30 | AD17: 0 | AE17: N | AF17: 4 Provisionals issued for non precinct voters, 3 absentees opened and run through machine given poll credit not absentee credit.
A18: PRECINCT #26 | B18: 461 | C18: 0 | D18: 50 | E18: 166 | F18: 8 | G18: 0 | H18: 224 | I18: 48 | J18: 44 | K18: 13 | L18: 0 | M18: 105 | N18: 0 | O18: 0 | P18: 0 | Q18: 0 | R18: 0 | S18: 7 | T18: 0 | U18: 95 | V18: 50 | W18: 37 | X18: 13 | Y18: 100 | Z18: 95 | AA18: 0 | AB18: 30 | AC18: 30 | AD18: 0 | AE18: N | AF18: 1 person voted three ballots.
A19: PRECINCT #3 | B19: 106 | C19: 0 | D19: 8 | E19: 64 | F19: 0 | G19: 0 | H19: 72 | I19: 7 | J19: 41 | K19: 0 | L19: 0 | M19: 48 | N19: 0 | O19: 0 | P19: 0 | Q19: 0 | R19: 0 | S19: 4 | T19: 0 | U19: 45 | V19: 8 | W19: 37 | X19: 0 | Y19: 45 | Z19: 45 | AA19: 0 | AB19: 30 | AC19: 30 | AD19: 0 | AE19: N | AF19: 1 Extra ballot cast at polls.
A20: PRECINCT #4 | B20: 110 | C20: 0 | D20: 3 | E20: 75 | F20: 0 | G20: 0 | H20: 78 | I20: 3 | J20: 47 | K20: 0 | L20: 0 | M20: 50 | N20: 0 | O20: 0 | P20: 0 | Q20: 0 | R20: 0 | S20: 1 | T20: 0 | U20: 49 | V20: 3 | W20: 46 | X20: 0 | Y20: 49 | Z20: 49 | AA20: 0 | AB20: 30 | AC20: 30 | AD20: 0 | AE20: Y
A21: PRECINCT #4N | B21: 207 | C21: 0 | D21: 16 | E21: 139 | F21: 0 | G21: 0 | H21: 155 | I21: 15 | J21: 90 | K21: 0 | L21: 0 | M21: 105 | N21: 0 | O21: 0 | P21: 0 | Q21: 0 | R21: 0 | S21: 2 | T21: 2 | U21: 104 | V21: 16 | W21: 88 | X21: 0 | Y21: 104 | Z21: 104 | AA21: 0 | AB21: 30 | AC21: 30 | AD21: 0 | AE21: N | AF21: 1 Person voted two ballots.
A22: PRECINCT #5 | B22: 243 | C22: 1 | D22: 40 | E22: 71 | G22: 0 | H22: 111 | I22: 36 | J22: 26 | K22: 5 | L22: 0 | M22: 67 | N22: 0 | O22: 1 | P22: 0 | Q22: 0 | R22: 1 | S22: 5 | T22: 0 | U22: 66 | V22: 40 | W22: 21 | X22: 5 | Y22: 66 | Z22: 66 | AA22: 0 | AB22: 30 | AC22: 30 | AD22: 0 | AE22: N | AF22: 2 People voted three ballots.
A23: PRECINCT #6 | B23: 61 | C23: 0 | D23: 9 | E23: 25 | F23: 0 | G23: 0 | H23: 34 | I23: 9 | J23: 8 | K23: 0 | L23: 0 | M23: 17 | N23: 0 | O23: 1 | P23: 0 | Q23: 0 | R23: 1 | S23: 0 | T23: 0 | U23: 17 | V23: 9 | W23: 8 | X23: 0 | Y23: 17 | Z23: 17 | AA23: 0 | AB23: 30 | AC23: 30 | AD23: 0 | AE23: Y
A24: PRECINCT #7 | B24: 1010 | C24: 2 | D24: 138 | E24: 235 | F24: 21 | G24: 0 | H24: 394 | I24: 130 | J24: 45 | K24: 21 | L24: 0 | M24: 196 | N24: 0 | O24: 3 | P24: 0 | Q24: 0 | R24: 3 | S24: 14 | T24: 0 | U24: 189 | V24: 138 | W24: 31 | X24: 21 | Y24: 190 | Z24: 189 | AA24: 0 | AB24: 30 | AC24: 30 | AD24: 0 | AE24: N | AF24: 4 People voted all three ballots.
A25: PRECINCT #8 | B25: 168 | C25: 0 | D25: 16 | E25: 72 | F25: 3 | G25: 0 | H25: 91 | I25: 15 | J25: 27 | K25: 3 | L25: 0 | M25: 45 | N25: 0 | O25: 0 | P25: 0 | Q25: 0 | R25: 0 | S25: 1 | T25: 0 | U25: 45 | V25: 16 | W25: 26 | X25: 3 | Y25: 45 | Z25: 45 | AB25: 30 | AC25: 30 | AD25: 0 | AE25: N | AF25: 1 Voter cast ballot into box but was not a registered voter.
A26: PRECINCT #9 | B26: 231 | C26: 0 | D26: 33 | E26: 69 | F26: 6 | G26: 0 | H26: 108 | I26: 30 | J26: 22 | K26: 4 | L26: 0 | M26: 56 | N26: 0 | O26: 0 | P26: 2 | Q26: 0 | R26: 2 | S26: 7 | T26: 2 | U26: 54 | V26: 33 | W26: 15 | X26: 4 | Y26: 52 | Z26: 54 | AA26: 0 | AB26: 30 | AC26: 30 | AD26: 0 | AE26: N | AF26: 3 People voted two ballots.
A27: Total | B27: 7479 | C27: 27 | D27: 1088 | E27: 2932 | F27: 102 | G27: 2 | H27: 4122 | I27: 829 | J27: 1248 | K27: 100 | L27: 0 | M27: 2177 | N27: 0 | O27: 16 | P27: 7 | Q27: 0 | R27: 23 | S27: 159 | T27: 22 | U27: 2274 | V27: 1088 | W27: 1089 | X27: 100 | Y27: 2277 | Z27: 2274 | AA27: 0 | AB27: 690 | AC27: 690 | AD27: 0

Sheet Blaine
A1: 2026 Primary Election Reconciliation Report - Blaine County
B2: Registered Voters | D2: Ballots Issued | I2: Ballots Accepted | N2: Ballots Rejected | U2: Votes Cast (Ballots Counted) | AB2: Test Ballots | AE2: Reconciled | AF2: Comments / Explanations
A3: Precinct | B3: Total | C3: Election Day | D3: Poll | E3: Absentee | F3: Provisional | G3: UOCAVA (included in Absentee Totals) | H3: Total | I3: Poll | J3: Absentee | K3: Provisional | L3: UOCAVA (included in Absentee Totals) | M3: Total | N3: Poll | O3: Absentee | P3: Provisional | Q3: UOCAVA (Included in Absentee Totals) | R3: Total Rejected - No Voter Credit Assigned | S3: Rejected by Prep Team - Post Voter Credit | T3: Total Ballots Voided | U3: Total Ballots Accepted - sent to count | V3: Poll | W3: Absentee | X3: Provisional | Y3: Subtotal of Counted Ballots | Z3: Total ballots counted - entered from tabulator / hand count report | AA3: UOCAVA (included in Absentee Totals) | AB3: Total Printed | AC3: Used for Testing | AD3: Counted | AE3: Y/N? | AF3: Note any variance and / or discrepancies
A4: BIG FLAT 1 | B4: 309 | C4: 0 | D4: 26 | E4: 202 | F4: 0 | G4: 1 | H4: 228 | I4: 26 | J4: 132 | K4: 0 | L4: 1 | M4: 158 | N4: 0 | O4: 0 | P4: 0 | Q4: 0 | R4: 2 | S4: 0 | T4: 2 | U4: 158 | V4: 26 | W4: 132 | X4: 0 | Y4: 158 | Z4: 158 | AA4: 1 | AB4: 51 | AC4: 11 | AD4: 11 | AE4: Y
A5: CHINOOK 11 | B5: 823 | C5: 0 | D5: 111 | E5: 462 | F5: 0 | G5: 2 | H5: 573 | I5: 111 | J5: 316 | K5: 0 | L5: 2 | M5: 427 | N5: 0 | O5: 3 | P5: 0 | Q5: 0 | R5: 10 | S5: 3 | T5: 13 | U5: 424 | V5: 111 | W5: 313 | X5: 0 | Y5: 424 | Z5: 424 | AA5: 2 | AB5: 49 | AC5: 9 | AD5: 9 | AE5: Y
A6: HARLEM 8 | B6: 451 | C6: 0 | D6: 42 | E6: 253 | F6: 0 | G6: 0 | H6: 295 | I6: 42 | J6: 143 | K6: 0 | L6: 0 | M6: 185 | N6: 0 | O6: 1 | P6: 0 | Q6: 0 | R6: 7 | S6: 1 | T6: 8 | U6: 184 | V6: 42 | W6: 142 | X6: 0 | Y6: 184 | Z6: 184 | AA6: 0 | AB6: 48 | AC6: 8 | AD6: 8 | AE6: Y
A7: NORTH BELKNAP 3 | B7: 630 | C7: 0 | D7: 51 | E7: 270 | F7: 5 | G7: 1 | H7: 326 | I7: 56 | J7: 67 | K7: 5 | L7: 1 | M7: 128 | N7: 0 | O7: 6 | P7: 0 | Q7: 0 | R7: 15 | S7: 6 | T7: 21 | U7: 122 | V7: 56 | W7: 61 | X7: 5 | Y7: 122 | Z7: 122 | AA7: 1 | AB7: 49 | AC7: 9 | AD7: 9 | AE7: N | AF7: Upon inspection of the pollbook and register, it was identified that there were five extra ballots in the voted ballot box versus the actual number of ballots issued. It is possible that voters deposited multiple party ballots into the voted ballot box without the judge realizing. We are unable to determine which ballots were the intended party ballot to be voted on; the ballots were counted and processed accordingly. None of the races are affected by a potential five-vote difference.
A8: NORTH BLAINE 13 | B8: 206 | C8: 0 | D8: 15 | E8: 147 | F8: 7 | G8: 1 | H8: 169 | I8: 15 | J8: 107 | K8: 0 | L8: 0 | M8: 122 | N8: 0 | O8: 3 | P8: 7 | Q8: 0 | R8: 1 | S8: 3 | T8: 11 | U8: 119 | V8: 15 | W8: 104 | X8: 0 | Y8: 119 | Z8: 119 | AA8: 0 | AB8: 49 | AC8: 9 | AD8: 9 | AE8: Y
A9: SOUTH BELKNAP 15 | B9: 807 | C9: 0 | D9: 62 | E9: 320 | F9: 0 | G9: 0 | H9: 382 | I9: 62 | J9: 112 | K9: 0 | L9: 0 | M9: 174 | N9: 0 | O9: 12 | P9: 0 | Q9: 0 | R9: 24 | S9: 12 | T9: 36 | U9: 162 | V9: 62 | W9: 100 | X9: 0 | Y9: 162 | Z9: 162 | AA9: 0 | AB9: 98 | AC9: 18 | AD9: 18 | AE9: Y
A10: SOUTH BLAINE 10 | B10: 542 | C10: 0 | D10: 62 | E10: 308 | F10: 0 | G10: 0 | H10: 370 | I10: 62 | J10: 204 | K10: 0 | L10: 0 | M10: 266 | N10: 0 | O10: 1 | P10: 0 | Q10: 0 | R10: 2 | S10: 1 | T10: 3 | U10: 265 | V10: 62 | W10: 203 | X10: 0 | Y10: 265 | Z10: 265 | AA10: 0 | AB10: 49 | AC10: 9 | AD10: 9 | AE10: Y
A11: SOUTH HARLEM 9 | B11: 279 | C11: 1 | D11: 26 | E11: 105 | F11: 1 | G11: 0 | H11: 132 | I11: 26 | J11: 27 | K11: 1 | L11: 0 | M11: 54 | N11: 0 | O11: 4 | P11: 0 | Q11: 0 | R11: 5 | S11: 4 | T11: 9 | U11: 50 | V11: 26 | W11: 23 | X11: 1 | Y11: 50 | Z11: 50 | AA11: 0 | AB11: 49 | AC11: 9 | AD11: 9 | AE11: Y
A12: Total | B12: =SUM(B4:B11) -> 4047 | C12: =SUM(C4:C11) -> 1 | D12: =SUM(D4:D11) -> 395 | E12: =SUM(E4:E11) -> 2067 | F12: =SUM(F4:F11) -> 13 | G12: =SUM(G4:G11) -> 5 | H12: =SUM(H4:H11) -> 2475 | I12: =SUM(I4:I11) -> 400 | ... AD12: =SUM(AD4:AD11) -> 82

Sheet Broadwater
A1: 2026 Primary Election Reconciliation Report - Broadwater County
B2: Registered Voters | D2: Ballots Issued | I2: Ballots Accepted | N2: Ballots Rejected | U2: Votes Cast (Ballots Counted) | AB2: Test Ballots | AE2: Reconciled | AF2: Comments / Explanations
A3: Precinct | B3: Total | C3: Election Day | D3: Poll | E3: Absentee | F3: Provisional | G3: UOCAVA (included in Absentee Totals) | H3: Total | I3: Poll | J3: Absentee | K3: Provisional | L3: UOCAVA (included in Absentee Totals) | M3: Total | N3: Poll | O3: Absentee | P3: Provisional | Q3: UOCAVA (Included in Absentee Totals) | R3: Total Rejected - No Voter Credit Assigned | S3: Rejected by Prep Team - Post Voter Credit | T3: Total Ballots Voided | U3: Total Ballots Accepted - sent to count | V3: Poll | W3: Absentee | X3: Provisional | Y3: Subtotal of Counted Ballots | Z3: Total ballots counted - entered from tabulator / hand count report | AA3: UOCAVA (included in Absentee Totals) | AB3: Total Printed | AC3: Used for Testing | AD3: Counted | AE3: Y/N? | AF3: Note any variance and / or discrepancies
A4: PRECINCT 1 | B4: 1581 | C4: 1 | D4: 93 | E4: 998 | F4: 4 | G4: 1 | H4: 1095 | I4: 89 | J4: 512 | K4: 2 | L4: 0 | M4: 603 | N4: 0 | O4: 6 | P4: 2 | Q4: 0 | R4: 8 | S4: 13 | T4: 15 | U4: 590 | V4: 89 | W4: 499 | X4: 2 | Y4: 590 | Z4: 590 | AA4: 0 | AB4: 12 | AC4: 12 | AD4: 12 | AF4: NO VARIANCE NO DISCREPANCIES
A5: PRECINCT 7 | B5: 862 | C5: 3 | D5: 53 | E5: 446 | F5: 0 | G5: 2 | H5: 499 | I5: 53 | J5: 238 | L5: 0 | M5: 291 | N5: 0 | O5: 3 | P5: 0 | Q5: 0 | R5: 3 | S5: 8 | T5: 11 | U5: 283 | V5: 53 | W5: 230 | Y5: 283 | Z5: 283 | AA5: 0 | AB5: 9 | AC5: 9 | AD5: 9 | AF5: NO VARIANCE NO DISCREPANCIES
A6: PRECINCT 11 | B6: 1183 | C6: 2 | D6: 61 | E6: 724 | F6: 3 | G6: 5 | H6: 788 | I6: 58 | J6: 430 | K6: 3 | L6: 0 | M6: 491 | N6: 1 | O6: 1 | P6: 0 | Q6: 0 | R6: 2 | S6: 3 | T6: 16 | U6: 488 | V6: 58 | W6: 427 | X6: 3 | Y6: 488 | Z6: 488 | AA6: 0 | AB6: 9 | AC6: 9 | AD6: 9 | AF6: NO VARIANCE NO DISCREPANCIES
A7: PRECINCT 12 | B7: 705 | C7: 1 | D7: 34 | E7: 372 | F7: 0 | G7: 0 | H7: 406 | I7: 34 | J7: 206 | L7: 0 | M7: 240 | N7: 0 | O7: 1 | P7: 0 | Q7: 0 | R7: 1 | S7: 8 | T7: 7 | U7: 232 | V7: 34 | W7: 198 | Y7: 232 | Z7: 232 | AA7: 0 | AB7: 9 | AC7: 9 | AD7: 9 | AF7: NO VARIANCE NO DISCREPANCIES
A8: PRECINCT 13 | B8: 1880 | C8: 0 | D8: 53 | E8: 1195 | F8: 0 | G8: 0 | H8: 1248 | I8: 53 | J8: 486 | L8: 0 | M8: 539 | N8: 0 | O8: 9 | P8: 0 | Q8: 0 | R8: 9 | S8: 5 | T8: 11 | U8: 534 | V8: 53 | W8: 481 | Y8: 534 | Z8: 534 | AA8: 0 | AB8: 8 | AC8: 8 | AD8: 8 | AF8: NO VARIANCE NO DISCREPANCIES
A9: Total | B9: 6211 | C9: 7 | D9: 294 | E9: 3735 | F9: 7 | G9: 8 | H9: 4036 | I9: 287 | J9: 1872 | K9: 5 | L9: 0 | M9: 2164 | N9: 1 | O9: 20 | P9: 2 | Q9: 0 | R9: 23 | S9: 37 | T9: 60 | U9: 2127 | V9: 287 | W9: 1835 | X9: 5 | Y9: 2127 | Z9: 2127 | AA9: 0 | AB9: 47 | AC9: 47 | AD9: 47

Sheet Carbon
A1: 2026 Primary Election Reconciliation Report - Carbon County
B2: Registered Voters | D2: Ballots Issued | I2: Ballots Accepted | N2: Ballots Rejected | U2: Votes Cast (Ballots Counted) | AB2: Test Ballots | AE2: Reconciled | AF2: Comments / Explanations
A3: Precinct | B3: Total | C3: Election Day | D3: Poll | E3: Absentee | F3: Provisional | G3: UOCAVA (included in Absentee Totals) | H3: Total | I3: Poll | J3: Absentee | K3: Provisional | L3: UOCAVA (included in Absentee Totals) | M3: Total | N3: Poll | O3: Absentee | P3: Provisional | Q3: UOCAVA (Included in Absentee Totals) | R3: Total Rejected - No Voter Credit Assigned | S3: Rejected by Prep Team - Post Voter Credit | T3: Total Ballots Voided | U3: Total Ballots Accepted - sent to count | V3: Poll | W3: Absentee | X3: Provisional | Y3: Subtotal of Counted Ballots | Z3: Total ballots counted - entered from tabulator / hand count report | AA3: UOCAVA (included in Absentee Totals) | AB3: Total Printed | AC3: Used for Testing | AD3: Counted | AE3: Y/N? | AF3: Note any variance and / or discrepancies
A4: P 1 ROCKVALE-SILESIA | B4: 735 | D4: 30 | E4: 498 | F4: 1 | G4: 0 | H4: 529 | I4: 30 | J4: 261 | K4: 1 | L4: 0 | M4: 292 | N4: 0 | O4: 6 | P4: 0 | Q4: 0 | R4: 7 | S4: 6 | T4: 7 | U4: 286 | V4: 30 | W4: 255 | X4: 1 | Y4: 286 | Z4: 296 | AA4: 0 | AB4: 30 | AC4: 9 | AD4: Y | AF4: restock error, no races would be affected
A5: P 10 RED LODGE WARD 3 | B5: 645 | C5: 1 | D5: 43 | E5: 386 | F5: 2 | G5: 4 | H5: 431 | I5: 43 | J5: 245 | K5: 2 | L5: 3 | M5: 290 | N5: 0 | O5: 2 | P5: 0 | Q5: 0 | R5: 2 | S5: 1 | T5: 2 | U5: 289 | V5: 43 | W5: 244 | X5: 2 | Y5: 289 | Z5: 287 | AA5: 3 | AB5: 30 | AC5: 9 | AD5: Y | AF5: restock error, no races would be affected. Difference in accepted and counted is due to prep team confusion
A6: P 11 RURAL RED LODGE | B6: 1449 | C6: 1 | D6: 103 | E6: 995 | F6: 0 | G6: 8 | H6: 1098 | I6: 103 | J6: 639 | K6: 0 | L6: 4 | M6: 742 | N6: 0 | O6: 4 | P6: 0 | Q6: 0 | R6: 4 | S6: 14 | T6: 4 | U6: 728 | V6: 103 | W6: 625 | X6: 0 | Y6: 728 | Z6: 720 | AA6: 4 | AB6: 30 | AC6: 12 | AD6: Y | AF6: restock error, no races would be affected
A7: P 15 FROMBERG-EDGAR | B7: 826 | D7: 82 | E7: 509 | F7: 0 | G7: 1 | H7: 591 | I7: 82 | J7: 292 | K7: 0 | L7: 0 | M7: 374 | N7: 0 | O7: 2 | P7: 0 | Q7: 0 | R7: 2 | S7: 10 | T7: 2 | U7: 364 | V7: 82 | W7: 282 | X7: 0 | Y7: 364 | Z7: 364 | AA7: 0 | AB7: 30 | AC7: 9 | AD7: Y | AE7: Y
A8: P 16 LUTHER-ROSCOE | B8: 478 | D8: 47 | E8: 308 | F8: 2 | G8: 3 | H8: 357 | I8: 47 | J8: 198 | K8: 2 | L8: 2 | M8: 247 | N8: 0 | O8: 1 | P8: 0 | Q8: 0 | R8: 1 | S8: 7 | T8: 1 | U8: 240 | V8: 47 | W8: 191 | X8: 2 | Y8: 240 | Z8: 240 | AA8: 2 | AB8: 30 | AC8: 9 | AD8: Y | AE8: Y
A9: P 2 TOWN OF JOLIET | B9: 434 | D9: 46 | E9: 229 | F9: 1 | G9: 0 | H9: 276 | I9: 46 | J9: 116 | K9: 1 | L9: 0 | M9: 163 | N9: 0 | O9: 2 | P9: 0 | Q9: 0 | R9: 1 | S9: 1 | T9: 1 | U9: 162 | V9: 46 | W9: 115 | X9: 1 | Y9: 162 | Z9: 162 | AA9: 0 | AB9: 30 | AC9: 9 | AD9: Y | AE9: Y
A10: P 3 RURAL JOLIET-BOYD | B10: 826 | D10: 94 | E10: 510 | F10: 3 | G10: 1 | H10: 607 | I10: 94 | J10: 293 | K10: 3 | L10: 0 | M10: 390 | N10: 0 | O10: 3 | P10: 0 | Q10: 0 | R10: 3 | S10: 6 | T10: 3 | U10: 384 | V10: 94 | W10: 287 | X10: 3 | Y10: 384 | Z10: 383 | AA10: 0 | AB10: 30 | AC10: 9 | AD10: Y | AF10: Difference in accepted and counted is due to prep team confusion
A11: P 4 TOWN OF BRIDGER | B11: 458 | D11: 51 | E11: 254 | F11: 2 | G11: 0 | H11: 307 | I11: 51 | J11: 125 | K11: 2 | L11: 0 | M11: 178 | N11: 0 | O11: 2 | P11: 0 | Q11: 0 | R11: 2 | S11: 3 | T11: 2 | U11: 175 | V11: 51 | W11: 122 | X11: 2 | Y11: 175 | Z11: 175 | AA11: 0 | AB11: 30 | AC11: 9 | AD11: Y | AE11: Y
A12: P 5 RURAL BRIDGER | B12: 536 | D12: 60 | E12: 304 | F12: 4 | G12: 2 | H12: 368 | I12: 60 | J12: 163 | K12: 4 | L12: 1 | M12: 227 | N12: 0 | O12: 1 | P12: 0 | Q12: 0 | R12: 1 | S12: 3 | T12: 1 | U12: 224 | V12: 60 | W12: 160 | X12: 4 | Y12: 224 | Z12: 224 | AA12: 1 | AB12: 30 | AC12: 9 | AD12: Y | AE12: Y
A13: P 6 BELFRY-BEARCREEK | B13: 525 | D13: 45 | E13: 280 | F13: 1 | G13: 0 | H13: 326 | I13: 45 | J13: 146 | K13: 1 | L13: 0 | M13: 192 | N13: 0 | O13: 1 | P13: 0 | Q13: 0 | R13: 1 | S13: 7 | T13: 1 | U13: 185 | V13: 45 | W13: 139 | X13: 1 | Y13: 185 | Z13: 185 | AA13: 0 | AB13: 30 | AC13: 9 | AD13: Y | AE13: Y
A14: P 7 ROBERTS | B14: 857 | D14: 102 | E14: 494 | F14: 3 | G14: 0 | H14: 599 | I14: 102 | J14: 288 | K14: 3 | L14: 0 | M14: 393 | N14: 0 | O14: 2 | P14: 0 | Q14: 0 | R14: 2 | S14: 4 | T14: 2 | U14: 389 | V14: 102 | W14: 284 | X14: 3 | Y14: 389 | Z14: 389 | AA14: 0 | AB14: 30 | AC14: 9 | AD14: Y | AE14: Y
A15: P 8 RED LODGE WARD 2 | B15: 660 | D15: 42 | E15: 443 | F15: 1 | G15: 4 | H15: 486 | I15: 42 | J15: 296 | K15: 1 | L15: 1 | M15: 339 | N15: 0 | O15: 3 | P15: 0 | Q15: 0 | R15: 3 | S15: 7 | T15: 3 | U15: 332 | V15: 42 | W15: 289 | X15: 1 | Y15: 332 | Z15: 331 | AA15: 1 | AB15: 30 | AC15: 9 | AD15: Y | AF15: Admin error/grab wrong precinct (one short)
A16: P 9 RED LODGE WARD 2 | B16: 701 | D16: 52 | E16: 416 | F16: 2 | G16: 4 | H16: 470 | I16: 52 | J16: 254 | K16: 2 | L16: 2 | M16: 308 | N16: 0 | O16: 0 | P16: 0 | Q16: 0 | R16: 0 | S16: 7 | T16: 3 | U16: 301 | V16: 52 | W16: 247 | X16: 2 | Y16: 301 | Z16: 302 | AA16: 2 | AB16: 30 | AC16: 9 | AD16: Y | AF16: Admin error/grab wrong precinct (one long)
A17: Total | B17: 9130 | C17: 2 | D17: 797 | E17: 5626 | F17: 22 | G17: 27 | H17: 6445 | I17: 797 | J17: 3316 | K17: 22 | L17: 13 | M17: 4135 | N17: 0 | O17: 29 | P17: 0 | Q17: 0 | R17: 29 | S17: 76 | T17: 32 | U17: 4059 | V17: 797 | W17: 3240 | X17: 22 | Y17: 4059 | Z17: 4058 | AA17: 13 | AB17: 390 | AC17: 120 | AD17: 0

Sheet Carter
A1: 2026 Primary Election Reconciliation Report - Carter County
B2: Registered Voters | D2: Ballots Issued | I2: Ballots Accepted | N2: Ballots Rejected | U2: Votes Cast (Ballots Counted) | AB2: Test Ballots | AE2: Reconciled | AF2: Comments / Explanations
A3: Precinct | B3: Total | C3: Election Day | D3: Poll | E3: Absentee | F3: Provisional | G3: UOCAVA (included in Absentee Totals) | H3: Total | I3: Poll | J3: Absentee | K3: Provisional | L3: UOCAVA (included in Absentee Totals) | M3: Total | N3: Poll | O3: Absentee | P3: Provisional | Q3: UOCAVA (Included in Absentee Totals) | R3: Total Rejected - No Voter Credit Assigned | S3: Rejected by Prep Team - Post Voter Credit | T3: Total Ballots Voided | U3: Total Ballots Accepted - sent to count | V3: Poll | W3: Absentee | X3: Provisional | Y3: Subtotal of Counted Ballots | Z3: Total ballots counted - entered from tabulator / hand count report | AA3: UOCAVA (included in Absentee Totals) | AB3: Total Printed | AC3: Used for Testing | AD3: Counted | AE3: Y/N? | AF3: Note any variance and / or discrepancies
A4: PRECINCT #1 ALZADA | B4: 126 | D4: 36 | E4: 49 | G4: 0 | H4: 85 | I4: 35 | J4: 34 | K4: 1 | M4: 70 | R4: 0 | S4: 0 | T4: 1 | U4: 70 | V4: 35 | W4: 34 | X4: 1 | Y4: 70 | Z4: 70 | AB4: 10 | AC4: 10 | AD4: 10 | AE4: Y
A5: PRECINCT #13 EKALAKA | B5: 314 | C5: 1 | D5: 90 | E5: 122 | G5: 0 | H5: 212 | I5: 90 | J5: 80 | M5: 170 | R5: 0 | S5: 3 | T5: 1 | U5: 167 | V5: 90 | W5: 77 | Y5: 167 | Z5: 167 | AB5: 10 | AC5: 10 | AD5: 10 | AE5: Y
A6: PRECINCT #14 RURAL EKALAKA | B6: 476 | D6: 128 | E6: 250 | G6: 0 | H6: 378 | I6: 127 | J6: 181 | M6: 308 | R6: 0 | S6: 0 | T6: 8 | U6: 308 | V6: 127 | W6: 181 | Y6: 308 | Z6: 308 | AB6: 10 | AC6: 10 | AD6: 10 | AE6: Y
A7: PRECINCT #3 HAMMOND | B7: 87 | D7: 26 | E7: 45 | G7: 0 | H7: 71 | I7: 26 | J7: 33 | M7: 59 | R7: 0 | S7: 0 | T7: 0 | U7: 60 | V7: 27 | W7: 33 | Y7: 60 | Z7: 60 | AB7: 10 | AC7: 10 | AD7: 10 | AE7: N | AF7: One voter voted an extra party ballot at the polls, and it got put into the voted ballots box. The stubs reconciled to 26 issued ballot sets, the poll book and register tally 26 voters, but there were 27 ballots in the voted box.
A8: Total | B8: 1003 | C8: 1 | D8: 280 | E8: 466 | F8: 0 | G8: 0 | H8: 746 | I8: 278 | J8: 328 | K8: 1 | L8: 0 | M8: 607 | N8: 0 | O8: 0 | P8: 0 | Q8: 0 | R8: 0 | S8: 3 | T8: 10 | U8: 605 | V8: 279 | W8: 325 | X8: 1 | Y8: 605 | Z8: 605 | AA8: 0 | AB8: 40 | AC8: 40 | AD8: 40

Sheet Cascade
A1: 2026 Primary Election Reconciliation Report - Cascade County
B2: Registered Voters | D2: Ballots Issued | I2: Ballots Accepted | N2: Ballots Rejected | U2: Votes Cast (Ballots Counted) | AB2: Test Ballots | AE2: Reconciled | AF2: Comments / Explanations
A3: Precinct | B3: Total | C3: Election Day | D3: Poll | E3: Absentee | F3: Provisional | G3: UOCAVA (included in Absentee Totals) | H3: Total | I3: Poll | J3: Absentee | K3: Provisional | L3: UOCAVA (included in Absentee Totals) | M3: Total | N3: Poll | O3: Absentee | P3: Provisional | Q3: UOCAVA (Included in Absentee Totals) | R3: Total Rejected - No Voter Credit Assigned | S3: Rejected by Prep Team - Post Voter Credit | T3: Total Ballots Voided | U3: Total Ballots Accepted - sent to count | V3: Poll | W3: Absentee | X3: Provisional | Y3: Subtotal of Counted Ballots | Z3: Total ballots counted - entered from tabulator / hand count report | AA3: UOCAVA (included in Absentee Totals) | AB3: Total Printed | AC3: Used for Testing | AD3: Counted | AE3: Y/N? | AF3: Note any variance and / or discrepancies
A4: 19A | B4: 2103 | C4: 3 | D4: 31 | E4: 1267 | F4: 0 | G4: 4 | H4: 1298 | I4: 31 | J4: 629 | K4: 0 | L4: 2 | M4: 660 | N4: 0 | O4: 11 | Q4: 0 | R4: 11 | S4: 24 | T4: 19 | U4: 638 | V4: 31 | W4: 607 | X4: 0 | Y4: 638 | Z4: 638 | AA4: 2 | AB4: 25 | AC4: 25 | AD4: 25 | AE4: Y
A5: 19B | B5: 2076 | C5: 2 | D5: 26 | E5: 1219 | F5: 0 | G5: 7 | H5: 1245 | I5: 26 | J5: 572 | K5: 0 | L5: 3 | M5: 598 | N5: 0 | O5: 4 | Q5: 0 | R5: 4 | S5: 27 | T5: 17 | U5: 573 | V5: 26 | W5: 547 | X5: 0 | Y5: 573 | Z5: 573 | AA5: 3 | AB5: 25 | AC5: 25 | AD5: 25 | AE5: Y
A6: 19C | B6: 1343 | C6: 2 | D6: 21 | E6: 786 | F6: 1 | G6: 0 | H6: 808 | I6: 21 | J6: 332 | K6: 1 | L6: 0 | M6: 354 | N6: 0 | O6: 1 | Q6: 0 | R6: 1 | S6: 19 | T6: 6 | U6: 334 | V6: 21 | W6: 312 | X6: 1 | Y6: 334 | Z6: 334 | AA6: 0 | AB6: 25 | AC6: 25 | AD6: 25 | AE6: Y
A7: 20A | B7: 2428 | C7: 1 | D7: 28 | E7: 1658 | F7: 0 | G7: 5 | H7: 1686 | I7: 28 | J7: 864 | K7: 0 | L7: 1 | M7: 892 | N7: 0 | O7: 13 | Q7: 0 | R7: 13 | S7: 26 | T7: 29 | U7: 861 | V7: 28 | W7: 833 | X7: 0 | Y7: 861 | Z7: 861 | AA7: 1 | AB7: 25 | AC7: 25 | AD7: 25 | AE7: Y
A8: 20B | B8: 2294 | C8: 4 | D8: 34 | E8: 1607 | F8: 0 | G8: 6 | H8: 1641 | I8: 34 | J8: 880 | K8: 0 | L8: 3 | M8: 914 | N8: 0 | O8: 19 | Q8: 0 | R8: 19 | S8: 19 | T8: 20 | U8: 895 | V8: 34 | W8: 861 | X8: 0 | Y8: 895 | Z8: 895 | AA8: 3 | AB8: 25 | AC8: 25 | AD8: 25 | AE8: Y
A9: 20C | B9: 2154 | C9: 4 | D9: 39 | E9: 1618 | F9: 0 | G9: 3 | H9: 1657 | I9: 39 | J9: 937 | K9: 0 | L9: 1 | M9: 976 | N9: 0 | O9: 16 | Q9: 0 | R9: 16 | S9: 19 | T9: 13 | U9: 958 | V9: 39 | W9: 919 | X9: 0 | Y9: 958 | Z9: 958 | AA9: 1 | AB9: 25 | AC9: 25 | AD9: 25 | AE9: Y
A10: 21A | B10: 1883 | C10: 4 | D10: 33 | E10: 1281 | F10: 0 | G10: 4 | H10: 1314 | I10: 35 | J10: 707 | K10: 0 | L10: 2 | M10: 742 | N10: 0 | O10: 26 | Q10: 0 | R10: 26 | S10: 30 | T10: 11 | U10: 712 | V10: 35 | W10: 677 | X10: 0 | Y10: 712 | Z10: 712 | AA10: 2 | AB10: 25 | AC10: 25 | AD10: 25 | AE10: Y
A11: 21B | B11: 2578 | C11: 1 | D11: 41 | E11: 1947 | F11: 1 | G11: 6 | H11: 1989 | I11: 41 | J11: 1129 | K11: 0 | L11: 4 | M11: 1170 | N11: 0 | O11: 22 | P11: 1 | Q11: 0 | R11: 23 | S11: 19 | T11: 18 | U11: 1146 | V11: 41 | W11: 1105 | X11: 0 | Y11: 1146 | Z11: 1146 | AA11: 4 | AB11: 25 | AC11: 25 | AD11: 25 | AE11: Y
A12: 21C | B12: 2354 | C12: 1 | D12: 48 | E12: 1735 | F12: 1 | G12: 1 | H12: 1784 | I12: 48 | J12: 994 | K12: 1 | L12: 0 | M12: 1043 | N12: 0 | O12: 21 | Q12: 0 | R12: 21 | S12: 26 | T12: 13 | U12: 1017 | V12: 48 | W12: 968 | X12: 1 | Y12: 1017 | Z12: 1017 | AA12: 0 | AB12: 25 | AC12: 25 | AD12: 25 | AE12: Y
A13: 21D | B13: 517 | C13: 1 | D13: 20 | E13: 349 | F13: 0 | G13: 0 | H13: 369 | I13: 21 | J13: 196 | K13: 0 | L13: 0 | M13: 217 | N13: 0 | O13: 3 | Q13: 0 | R13: 3 | S13: 8 | T13: 3 | U13: 209 | V13: 21 | W13: 188 | X13: 0 | Y13: 209 | Z13: 209 | AA13: 0 | AB13: 25 | AC13: 25 | AD13: 25 | AE13: Y
A14: 22A | B14: 2068 | C14: 2 | D14: 36 | E14: 1380 | F14: 0 | G14: 2 | H14: 1416 | I14: 38 | J14: 733 | K14: 0 | L14: 2 | M14: 771 | N14: 0 | O14: 8 | Q14: 0 | R14: 8 | S14: 29 | T14: 13 | U14: 745 | V14: 38 | W14: 707 | X14: 0 | Y14: 745 | Z14: 745 | AA14: 2 | AB14: 25 | AC14: 25 | AD14: 25 | AE14: Y
A15: 22B | B15: 2073 | C15: 2 | D15: 27 | E15: 1500 | F15: 0 | G15: 8 | H15: 1527 | I15: 27 | J15: 878 | K15: 0 | L15: 3 | M15: 905 | N15: 0 | O15: 12 | Q15: 0 | R15: 12 | S15: 15 | T15: 11 | U15: 889 | V15: 27 | W15: 862 | X15: 0 | Y15: 889 | Z15: 889 | AA15: 3 | AB15: 25 | AC15: 25 | AD15: 25 | AE15: Y
A16: 22C | B16: 975 | C16: 1 | D16: 9 | E16: 229 | F16: 0 | G16: 13 | H16: 238 | I16: 9 | J16: 39 | K16: 0 | L16: 4 | M16: 48 | N16: 0 | O16: 0 | Q16: 0 | R16: 0 | S16: 1 | T16: 4 | U16: 47 | V16: 9 | W16: 38 | X16: 0 | Y16: 47 | Z16: 47 | AA16: 4 | AB16: 25 | AC16: 25 | AD16: 25 | AE16: Y
A17: 23A | B17: 1935 | C17: 0 | D17: 16 | E17: 1441 | F17: 0 | G17: 3 | H17: 1457 | I17: 16 | J17: 812 | K17: 0 | L17: 1 | M17: 828 | N17: 0 | O17: 16 | Q17: 0 | R17: 16 | S17: 24 | T17: 21 | U17: 805 | V17: 16 | W17: 789 | X17: 0 | Y17: 805 | Z17: 805 | AA17: 1 | AB17: 25 | AC17: 25 | AD17: 25 | AE17: Y
A18: 23B | B18: 2379 | C18: 4 | D18: 40 | E18: 1497 | F18: 0 | G18: 2 | H18: 1537 | I18: 40 | J18: 711 | K18: 0 | L18: 2 | M18: 751 | N18: 0 | O18: 15 | Q18: 0 | R18: 15 | S18: 42 | T18: 23 | U18: 709 | V18: 40 | W18: 669 | X18: 0 | Y18: 709 | Z18: 709 | AA18: 2 | AB18: 25 | AC18: 25 | AD18: 25 | AE18: Y
A19: 23C | B19: 2034 | C19: 1 | D19: 28 | E19: 1595 | F19: 0 | G19: 2 | H19: 1623 | I19: 28 | J19: 938 | K19: 0 | L19: 1 | M19: 966 | N19: 0 | O19: 17 | Q19: 0 | R19: 17 | S19: 23 | T19: 15 | U19: 943 | V19: 28 | W19: 915 | X19: 0 | Y19: 943 | Z19: 943 | AA19: 1 | AB19: 25 | AC19: 25 | AD19: 25 | AE19: Y
A20: 24A | B20: 2703 | C20: 0 | D20: 54 | E20: 1777 | F20: 0 | G20: 3 | H20: 1831 | I20: 54 | J20: 883 | K20: 0 | L20: 2 | M20: 937 | N20: 0 | O20: 20 | Q20: 0 | R20: 20 | S20: 26 | T20: 26 | U20: 914 | V20: 54 | W20: 860 | X20: 0 | Y20: 914 | Z20: 914 | AA20: 2 | AB20: 25 | AC20: 25 | AD20: 25 | AE20: Y
A21: 24B | B21: 2429 | C21: 3 | D21: 32 | E21: 1814 | F21: 0 | G21: 10 | H21: 1846 | I21: 32 | J21: 1020 | K21: 0 | L21: 9 | M21: 1052 | N21: 0 | O21: 18 | Q21: 0 | R21: 18 | S21: 29 | T21: 15 | U21: 1022 | V21: 32 | W21: 990 | X21: 0 | Y21: 1022 | Z21: 1022 | AA21: 9 | AB21: 25 | AC21: 25 | AD21: 25 | AE21: Y
A22: 24C | B22: 1779 | C22: 0 | D22: 30 | E22: 1361 | F22: 0 | G22: 1 | H22: 1391 | I22: 30 | J22: 786 | K22: 0 | L22: 1 | M22: 816 | N22: 0 | O22: 12 | Q22: 0 | R22: 12 | S22: 13 | T22: 9 | U22: 799 | V22: 30 | W22: 769 | X22: 0 | Y22: 799 | Z22: 799 | AA22: 1 | AB22: 25 | AC22: 25 | AD22: 25 | AE22: Y
A23: 25A | B23: 1901 | C23: 1 | D23: 44 | E23: 1403 | F23: 8 | G23: 1 | H23: 1455 | I23: 44 | J23: 764 | K23: 8 | L23: 0 | M23: 816 | N23: 0 | O23: 14 | Q23: 0 | R23: 14 | S23: 17 | T23: 26 | U23: 799 | V23: 44 | W23: 747 | X23: 8 | Y23: 799 | Z23: 799 | AA23: 0 | AB23: 25 | AC23: 25 | AD23: 25 | AE23: Y
... A28: 26B | B28: 2435 | C28: 5 | D28: 39 | E28: 1860 | F28: 0 | G28: 2 | H28: 1899 | I28: 39 | J28: 1033 | K28: 0 | L28: 1 | M28: 1072 | N28: 0 | O28: 14 | Q28: 0 | R28: 14 | S28: 28 | T28: 21 | U28: 1046 | V28: 39 | W28: 1007 | X28: 0 | Y28: 1046 | Z28: 1046 | AA28: 1 | AB28: 25 | AC28: 25 | AD28: 25 | AE28: Y
A29: 78 | B29: 1361 | C29: 2 | D29: 34 | E29: 1018 | F29: 4 | G29: 2 | H29: 1056 | I29: 36 | J29: 550 | K29: 3 | L29: 1 | M29: 589 | N29: 0 | O29: 9 | P29: 1 | Q29: 0 | R29: 10 | S29: 8 | T29: 20 | U29: 582 | V29: 36 | W29: 543 | X29: 3 | Y29: 582 | Z29: 582 | AA29: 1 | AB29: 25 | AC29: 25 | AD29: 25 | AE29: Y
A30: Total | B30: 51616 | C30: 48 | D30: 890 | E30: 36038 | F30: 29 | G30: 94 | H30: 36957 | I30: 897 | J30: 19381 | K30: 27 | L30: 49 | M30: 20305 | N30: 0 | O30: 321 | P30: 2 | Q30: 0 | R30: 323 | S30: 531 | T30: 430 | U30: 19766 | V30: 897 | W30: 18842 | X30: 27 | Y30: 19766 | Z30: 19766 | AA30: 49 | AB30: 650 | AC30: 650 | AD30: 650

Sheet Chouteau
A1: 2026 Primary Election Reconciliation Report - Chouteau County
B2: Registered Voters | D2: Ballots Issued | I2: Ballots Accepted | N2: Ballots Rejected | U2: Votes Cast (Ballots Counted) | AB2: Test Ballots | AE2: Reconciled | AF2: Comments / Explanations
A3: Precinct | B3: Total | C3: Election Day | D3: Poll | E3: Absentee | F3: Provisional | G3: UOCAVA (included in Absentee Totals) | H3: Total | I3: Poll | J3: Absentee | K3: Provisional | L3: UOCAVA (included in Absentee Totals) | M3: Total | N3: Poll | O3: Absentee | P3: Provisional | Q3: UOCAVA (Included in Absentee Totals) | R3: Total Rejected - No Voter Credit Assigned | S3: Rejected by Prep Team - Post Voter Credit | T3: Total Ballots Voided | U3: Total Ballots Accepted - sent to count | V3: Poll | W3: Absentee | X3: Provisional | Y3: Subtotal of Counted Ballots | Z3: Total ballots counted - entered from tabulator / hand count report | AA3: UOCAVA (included in Absentee Totals) | AB3: Total Printed | AC3: Used for Testing | AD3: Counted | AE3: Y/N? | AF3: Note any variance and / or discrepancies
A4: BIG SANDY 8 | B4: 335 | C4: 0 | D4: 34 | E4: 196 | F4: 0 | G4: 0 | H4: 230 | I4: 34 | J4: 123 | K4: 0 | L4: 0 | M4: 157 | N4: 0 | O4: 0 | P4: 0 | Q4: 0 | S4: 6 | T4: 0 | U4: 151 | V4: 34 | W4: 117 | X4: 0 | Y4: 151 | Z4: 151 | AB4: 60 | AC4: 30 | AD4: 30 | AE4: YES
A5: BIG SANDY 9 | B5: 395 | C5: 0 | D5: 58 | E5: 218 | F5: 5 | G5: 1 | H5: 281 | I5: 57 | J5: 125 | K5: 5 | L5: 0 | M5: 187 | O5: 2 | P5: 0 | Q5: 0 | S5: 2 | T5: 3 | U5: 185 | V5: 62 | W5: 118 | X5: 5 | Y5: 185 | Z5: 185 | AB5: 60 | AC5: 30 | AD5: 30 | AE5: YES
A6: CARTER 4 | B6: 333 | C6: 1 | D6: 34 | E6: 250 | F6: 1 | G6: 3 | H6: 285 | I6: 33 | J6: 171 | K6: 1 | L6: 3 | M6: 205 | O6: 2 | P6: 0 | Q6: 0 | S6: 0 | T6: 1 | U6: 205 | V6: 33 | W6: 171 | X6: 1 | Y6: 205 | Z6: 205 | AA6: 3 | AB6: 60 | AC6: 30 | AD6: 30 | AE6: YES
A7: FORT BENTON 1 | B7: 641 | C7: 0 | D7: 72 | E7: 421 | F7: 2 | G7: 0 | H7: 495 | I7: 72 | J7: 289 | K7: 2 | L7: 0 | M7: 363 | O7: 0 | P7: 0 | Q7: 0 | S7: 9 | T7: 9 | U7: 354 | V7: 72 | W7: 280 | X7: 2 | Y7: 354 | Z7: 354 | AB7: 60 | AC7: 30 | AD7: 30 | AE7: YES
A8: FORT BENTON 2 | B8: 619 | C8: 1 | D8: 66 | E8: 433 | F8: 5 | G8: 2 | H8: 504 | I8: 65 | J8: 307 | K8: 5 | L8: 2 | M8: 377 | O8: 0 | P8: 0 | Q8: 0 | S8: 4 | T8: 10 | U8: 373 | V8: 65 | W8: 303 | X8: 5 | Y8: 373 | Z8: 373 | AA8: 2 | AB8: 60 | AC8: 30 | AD8: 30 | AE8: YES
A9: GERALDINE 3 | B9: 391 | C9: 1 | D9: 54 | E9: 247 | F9: 2 | G9: 2 | H9: 303 | I9: 54 | J9: 163 | K9: 2 | L9: 2 | M9: 219 | O9: 1 | P9: 0 | Q9: 0 | S9: 3 | T9: 2 | U9: 216 | V9: 54 | W9: 160 | X9: 2 | Y9: 216 | Z9: 216 | AA9: 2 | AB9: 60 | AC9: 30 | AD9: 30 | AE9: YES
A10: HIGHWOOD 6 | B10: 323 | C10: 1 | D10: 29 | E10: 226 | F10: 0 | G10: 0 | H10: 255 | I10: 29 | J10: 130 | K10: 0 | L10: 0 | M10: 159 | O10: 3 | P10: 0 | Q10: 0 | T10: 3 | U10: 159 | V10: 29 | W10: 130 | X10: 0 | Y10: 159 | Z10: 159 | AB10: 60 | AC10: 30 | AD10: 30 | AE10: YES
A11: LOMA 7 | B11: 130 | C11: 0 | D11: 26 | E11: 85 | F11: 0 | G11: 0 | H11: 111 | I11: 25 | J11: 57 | K11: 0 | L11: 0 | M11: 82 | O11: 0 | P11: 0 | Q11: 0 | S11: 0 | T11: 1 | U11: 82 | V11: 25 | W11: 57 | Y11: 82 | Z11: 82 | AB11: 60 | AC11: 30 | AD11: 30 | AE11: YES
A12: ROCKY BOY 5 | B12: 503 | C12: 0 | D12: 17 | E12: 188 | F12: 6 | G12: 0 | H12: 211 | I12: 17 | J12: 24 | K12: 6 | L12: 0 | M12: 47 | O12: 1 | P12: 0 | Q12: 0 | S12: 4 | T12: 6 | U12: 43 | V12: 17 | W12: 20 | X12: 6 | Y12: 43 | Z12: 43 | AB12: 60 | AC12: 30 | AD12: 30 | AE12: YES
A13: Total | B13: 3670 | C13: 4 | D13: 390 | E13: 2264 | F13: 21 | G13: 8 | H13: 2675 | I13: 386 | J13: 1389 | K13: 21 | L13: 7 | M13: 1796 | N13: 0 | O13: 9 | P13: 0 | Q13: 0 | S13: 28 | T13: 35 | U13: 1768 | V13: 391 | W13: 1356 | X13: 21 | Y13: 1768 | Z13: 1768 | AA13: 7 | AB13: 540 | AC13: 270 | AD13: 270

Sheet Custer
A1: 2026 Primary Election Reconciliation Report - Custer County
B2: Registered Voters | D2: Ballots Issued | I2: Ballots Accepted | N2: Ballots Rejected | U2: Votes Cast (Ballots Counted) | AB2: Test Ballots | AE2: Reconciled | AF2: Comments / Explanations
A3: Precinct | B3: Total | C3: Election Day | D3: Poll | E3: Absentee | F3: Provisional | G3: UOCAVA (included in Absentee Totals) | H3: Total | I3: Poll | J3: Absentee | K3: Provisional | L3: UOCAVA (included in Absentee Totals) | M3: Total | N3: Poll | O3: Absentee | P3: Provisional | Q3: UOCAVA (Included in Absentee Totals) | R3: Total Rejected - No Voter Credit Assigned | S3: Rejected by Prep Team - Post Voter Credit | T3: Total Ballots Voided | U3: Total Ballots Accepted - sent to count | V3: Poll | W3: Absentee | X3: Provisional | Y3: Subtotal of Counted Ballots | Z3: Total ballots counted - entered from tabulator / hand count report | AA3: UOCAVA (included in Absentee Totals) | AB3: Total Printed | AC3: Used for Testing | AD3: Counted | AE3: Y/N? | AF3: Note any variance and / or discrepancies
A4: CCDHS | B4: 1315 | C4: 2 | D4: 140 | E4: 696 | F4: 3 | G4: 2 | H4: 839 | I4: 140 | J4: 430 | K4: 3 | L4: 0 | M4: 573 | N4: 0 | O4: 4 | P4: 0 | Q4: 0 | R4: 4 | S4: 4 | T4: 6 | U4: 569 | V4: 140 | W4: 426 | X4: 3 | Y4: 569 | Z4: 569 | AB4: 10 | AC4: 10 | AD4: 10 | AE4: y
A5: HIGHLAND PARK | B5: 1698 | C5: 2 | D5: 195 | E5: 898 | F5: 10 | G5: 3 | H5: 1103 | I5: 195 | J5: 568 | K5: 7 | L5: 0 | M5: 770 | N5: 0 | O5: 3 | P5: 3 | Q5: 0 | R5: 6 | S5: 9 | T5: 6 | U5: 761 | V5: 195 | W5: 559 | X5: 7 | Y5: 761 | Z5: 761 | AB5: 10 | AC5: 10 | AD5: 10 | AE5: y
A6: ISMAY CHURCH | B6: 33 | C6: 0 | D6: 13 | E6: 12 | F6: 0 | G6: 0 | H6: 25 | I6: 13 | J6: 9 | K6: 0 | L6: 0 | M6: 22 | N6: 0 | O6: 0 | P6: 0 | Q6: 0 | R6: 0 | T6: 2 | U6: 22 | V6: 13 | W6: 9 | Y6: 22 | Z6: 22 | AB6: 10 | AC6: 10 | AD6: 10 | AE6: y
A7: JEFFERSON | B7: 1535 | C7: 2 | D7: 145 | E7: 734 | F7: 2 | G7: 5 | H7: 881 | I7: 145 | J7: 426 | K7: 2 | L7: 1 | M7: 573 | N7: 0 | O7: 9 | P7: 0 | Q7: 0 | R7: 9 | S7: 19 | T7: 2 | U7: 554 | V7: 145 | W7: 407 | X7: 2 | Y7: 554 | Z7: 554 | AA7: 1 | AB7: 10 | AC7: 10 | AD7: 10 | AE7: y
A8: KINSEY | B8: 478 | C8: 0 | D8: 37 | E8: 296 | F8: 2 | G8: 0 | H8: 335 | I8: 37 | J8: 186 | K8: 2 | L8: 0 | M8: 225 | N8: 0 | O8: 1 | P8: 0 | Q8: 0 | R8: 1 | T8: 3 | U8: 225 | V8: 37 | W8: 186 | X8: 2 | Y8: 225 | Z8: 225 | AB8: 10 | AC8: 10 | AD8: 10 | AE8: y
A9: KIRCHER | B9: 340 | C9: 2 | D9: 50 | E9: 195 | F9: 1 | G9: 1 | H9: 246 | I9: 50 | J9: 123 | K9: 1 | L9: 0 | M9: 174 | N9: 0 | O9: 2 | P9: 0 | Q9: 0 | R9: 2 | S9: 1 | T9: 0 | U9: 173 | V9: 50 | W9: 122 | X9: 1 | Y9: 173 | Z9: 173 | AB9: 10 | AC9: 10 | AD9: 10 | AE9: y
A10: KNOWLTON | B10: 45 | C10: 0 | D10: 11 | E10: 14 | F10: 0 | G10: 0 | H10: 25 | I10: 11 | J10: 9 | K10: 0 | L10: 0 | M10: 20 | N10: 0 | O10: 0 | P10: 0 | Q10: 0 | R10: 0 | T10: 0 | U10: 20 | V10: 11 | W10: 9 | Y10: 20 | Z10: 20 | AB10: 10 | AC10: 10 | AD10: 10 | AE10: y
A11: NAT'L GUARD | B11: 365 | C11: 0 | D11: 47 | E11: 202 | F11: 1 | G11: 0 | H11: 250 | I11: 47 | J11: 117 | K11: 1 | L11: 0 | M11: 165 | N11: 0 | O11: 1 | P11: 0 | Q11: 0 | R11: 1 | T11: 1 | U11: 165 | V11: 47 | W11: 117 | X11: 1 | Y11: 165 | Z11: 165 | AB11: 10 | AC11: 10 | AD11: 10 | AE11: y
A12: RIVERVIEW SCHOOL | B12: 29 | C12: 0 | D12: 11 | E12: 14 | F12: 0 | G12: 0 | H12: 25 | I12: 11 | J12: 12 | K12: 0 | L12: 0 | M12: 23 | N12: 0 | O12: 0 | P12: 0 | Q12: 0 | R12: 0 | T12: 0 | U12: 23 | V12: 11 | W12: 12 | Y12: 23 | Z12: 23 | AB12: 10 | AC12: 10 | AD12: 10 | AE12: y
A13: SPRING CREEK SCH | B13: 74 | C13: 0 | D13: 9 | E13: 42 | F13: 2 | G13: 0 | H13: 53 | I13: 9 | J13: 29 | K13: 2 | L13: 0 | M13: 40 | N13: 0 | O13: 2 | P13: 0 | Q13: 0 | R13: 2 | S13: 1 | T13: 0 | U13: 39 | V13: 9 | W13: 28 | X13: 2 | Y13: 39 | Z13: 39 | AB13: 10 | AC13: 10 | AD13: 10 | AE13: y
A14: SY SCHOOL | B14: 175 | C14: 0 | D14: 13 | E14: 105 | F14: 0 | G14: 0 | H14: 118 | I14: 13 | J14: 49 | K14: 0 | L14: 0 | M14: 62 | N14: 0 | O14: 1 | P14: 0 | Q14: 0 | R14: 1 | T14: 1 | U14: 62 | V14: 13 | W14: 49 | Y14: 62 | Z14: 62 | AB14: 10 | AC14: 10 | AD14: 10 | AE14: y
A15: WASHINGTON | B15: 1325 | C15: 2 | D15: 99 | E15: 601 | F15: 1 | G15: 0 | H15: 701 | I15: 99 | J15: 299 | K15: 1 | L15: 1 | M15: 399 | N15: 0 | O15: 9 | P15: 0 | Q15: 0 | R15: 9 | S15: 10 | T15: 8 | U15: 389 | V15: 99 | W15: 289 | X15: 1 | Y15: 389 | Z15: 389 | AA15: 1 | AB15: 10 | AC15: 10 | AD15: 10 | AE15: y
A16: Total | B16: 7412 | C16: 10 | D16: 770 | E16: 3809 | F16: 22 | G16: 11 | H16: 4601 | I16: 770 | J16: 2257 | K16: 19 | L16: 2 | M16: 3046 | N16: 0 | O16: 32 | P16: 3 | Q16: 0 | R16: 35 | S16: 44 | T16: 29 | U16: 3002 | V16: 770 | W16: 2213 | X16: 19 | Y16: 3002 | Z16: 3002 | AA16: 2 | AB16: 120 | AC16: 120 | AD16: 120

Sheet Daniels
A1: 2026 Primary Election Reconciliation Report - Daniels County
B2: Registered Voters | D2: Ballots Issued | I2: Ballots Accepted | N2: Ballots Rejected | U2: Votes Cast (Ballots Counted) | AB2: Test Ballots | AE2: Reconciled | AF2: Comments / Explanations
A3: Precinct | B3: Total | C3: Election Day | D3: Poll | E3: Absentee | F3: Provisional | G3: UOCAVA (included in Absentee Totals) | H3: Total | I3: Poll | J3: Absentee | K3: Provisional | L3: UOCAVA (included in Absentee Totals) | M3: Total | N3: Poll | O3: Absentee | P3: Provisional | Q3: UOCAVA (Included in Absentee Totals) | R3: Total Rejected - No Voter Credit Assigned | S3: Rejected by Prep Team - Post Voter Credit | T3: Total Ballots Voided | U3: Total Ballots Accepted - sent to count | V3: Poll | W3: Absentee | X3: Provisional | Y3: Subtotal of Counted Ballots | Z3: Total ballots counted - entered from tabulator / hand count report | AA3: UOCAVA (included in Absentee Totals) | AB3: Total Printed | AC3: Used for Testing | AD3: Counted | AE3: Y/N? | AF3: Note any variance and / or discrepancies
A4: PRECINCT #2 | B4: 177 | D4: 39 | E4: 69 | H4: 108 | I4: 39 | J4: 31 | M4: 70 | R4: 0 | U4: 74 | V4: 39 | W4: 35 | Y4: 74 | AF4: 4 ballots
A5: PRECINCT #3 | B5: 345 | D5: 61 | E5: 183 | H5: 244 | I5: 61 | J5: 96 | M5: 157 | O5: 1 | T5: 1 | U5: 166 | V5: 61 | W5: 105 | Y5: 166 | AF5: 9 ballots
A6: PRECINCT #5 | B6: 331 | C6: 1 | D6: 56 | E6: 162 | H6: 218 | I6: 56 | J6: 83 | M6: 139 | O6: 1 | R6: 1 | U6: 142 | V6: 56 | W6: 86 | Y6: 142 | AF6: 3 ballots
A7: PRECINCT #6 | B7: 292 | D7: 42 | E7: 139 | H7: 181 | I7: 42 | J7: 71 | M7: 113 | O7: 1 | R7: 1 | U7: 115 | V7: 42 | W7: 73 | Y7: 115 | AF7: 2 ballots
A8: Total | B8: 1145 | C8: 1 | D8: 198 | E8: 553 | F8: 0 | G8: 0 | H8: 751 | I8: 198 | J8: 281 | K8: 0 | L8: 0 | M8: 479 | N8: 0 | O8: 3 | P8: 0 | Q8: 0 | R8: 2 | S8: 0 | T8: 1 | U8: 497 | V8: 198 | W8: 299 | X8: 0 | Y8: 497 | Z8: 497 | AA8: 0 | AB8: 0 | AC8: 0 | AD8: 0 | AF8: absentee ballots accepted at polls-given credit through register not as an absentee ballot in the computer. Computer shows 281 absentee counted
B68: 948
B69: 4012

Sheet Dawson
A1: 2026 Primary Election Reconciliation Report - Dawson County
B2: Registered Voters | D2: Ballots Issued | I2: Ballots Accepted | N2: Ballots Rejected | U2: Votes Cast (Ballots Counted) | AB2: Test Ballots | AE2: Reconciled | AF2: Comments / Explanations
A3: Precinct | B3: Total | C3: Election Day | D3: Poll | E3: Absentee | F3: Provisional | G3: UOCAVA (included in Absentee Totals) | H3: Total | I3: Poll | J3: Absentee | K3: Provisional | L3: UOCAVA (included in Absentee Totals) | M3: Total | N3: Poll | O3: Absentee | P3: Provisional | Q3: UOCAVA (Included in Absentee Totals) | R3: Total Rejected - No Voter Credit Assigned | S3: Rejected by Prep Team - Post Voter Credit | T3: Total Ballots Voided | U3: Total Ballots Accepted - sent to count | V3: Poll | W3: Absentee | X3: Provisional | Y3: Subtotal of Counted Ballots | Z3: Total ballots counted - entered from tabulator / hand count report | AA3: UOCAVA (included in Absentee Totals) | AB3: Total Printed | AC3: Used for Testing | AD3: Counted | AE3: Y/N? | AF3: Note any variance and / or discrepancies
A4: PRECINCT 01 | B4: 750 | C4: 1 | D4: 47 | E4: 489 | F4: 0 | G4: 0 | H4: 536 | I4: 47 | J4: 299 | K4: 0 | L4: 0 | M4: 346 | N4: 0 | O4: 2 | P4: 2 | Q4: 0 | R4: 4 | S4: 7 | T4: 8 | U4: 339 | V4: 47 | W4: 291 | X4: 0 | Y4: 338 | Z4: 338 | AA4: 0 | AB4: 240 | AC4: 141 | AD4: 138 | AE4: yes
A5: PRECINCT 02 | B5: 647 | C5: 1 | D5: 49 | E5: 377 | F5: 1 | G5: 0 | H5: 427 | I5: 49 | J5: 245 | K5: 1 | L5: 0 | M5: 295 | N5: 0 | O5: 2 | P5: 2 | Q5: 0 | R5: 4 | S5: 3 | T5: 3 | U5: 292 | V5: 49 | W5: 242 | X5: 3 | Y5: 294 | Z5: 294 | AA5: 0 | AB5: 240 | AC5: 143 | AD5: 138 | AE5: yes | AF5: We were off 1 ballot in PR2 on election night . We showed they should have counted 242 absentee ballots, the tabulator showed 242 counted, they had 241 ballots in the absentee bag. That is how many ballots that were in the bag and counted during the Post Election Audit. I believe a ballot got put into another bag when sealed.
A6: PRECINCT 03 | B6: 755 | C6: 2 | D6: 50 | E6: 536 | F6: 3 | G6: 1 | H6: 589 | I6: 50 | J6: 372 | K6: 3 | L6: 1 | M6: 425 | N6: 0 | O6: 2 | P6: 2 | Q6: 0 | R6: 4 | S6: 7 | T6: 15 | U6: 418 | V6: 50 | W6: 365 | X6: 4 | Y6: 419 | Z6: 419 | AA6: 1 | AB6: 240 | AC6: 143 | AD6: 138 | AE6: yes
A7: PRECINCT 04 | B7: 610 | C7: 0 | D7: 51 | E7: 368 | F7: 0 | G7: 1 | H7: 419 | I7: 51 | J7: 214 | K7: 0 | L7: 0 | M7: 265 | N7: 0 | O7: 3 | P7: 3 | Q7: 0 | R7: 6 | S7: 3 | T7: 5 | U7: 262 | V7: 51 | W7: 211 | X7: 0 | Y7: 262 | Z7: 262 | AA7: 0 | AB7: 240 | AC7: 142 | AD7: 138 | AE7: yes
A8: PRECINCT 05 | B8: 354 | C8: 0 | D8: 61 | E8: 195 | F8: 3 | G8: 0 | H8: 259 | I8: 59 | J8: 124 | K8: 3 | L8: 0 | M8: 186 | N8: 0 | O8: 9 | P8: 2 | Q8: 0 | R8: 11 | S8: 1 | T8: 4 | U8: 185 | V8: 59 | W8: 122 | X8: 4 | Y8: 185 | Z8: 185 | AA8: 0 | AB8: 240 | AC8: 140 | AD8: 138 | AE8: yes
A9: PRECINCT 06 | B9: 1102 | C9: 1 | D9: 90 | E9: 816 | F9: 0 | G9: 0 | H9: 906 | I9: 89 | J9: 604 | K9: 0 | L9: 0 | M9: 693 | N9: 0 | O9: 5 | P9: 2 | Q9: 0 | R9: 7 | S9: 11 | T9: 10 | U9: 682 | V9: 89 | W9: 592 | X9: 1 | Y9: 682 | Z9: 682 | AA9: 0 | AB9: 120 | AC9: 72 | AD9: 69 | AE9: yes
A10: PRECINCT 07 | B10: 1429 | C10: 3 | D10: 114 | E10: 998 | F10: 0 | G10: 3 | H10: 1112 | I10: 114 | J10: 681 | K10: 0 | L10: 0 | M10: 795 | N10: 0 | O10: 3 | P10: 2 | Q10: 0 | R10: 5 | S10: 13 | T10: 19 | U10: 782 | V10: 114 | W10: 667 | X10: 1 | Y10: 782 | Z10: 782 | AA10: 0 | AB10: 120 | AC10: 77 | AD10: 69 | AE10: yes
A11: Total | B11: 5647 | C11: 8 | D11: 462 | E11: 3779 | F11: 7 | G11: 5 | H11: 4248 | I11: 459 | J11: 2539 | K11: 7 | L11: 1 | M11: 3005 | N11: 0 | O11: 26 | P11: 15 | Q11: 0 | R11: 41 | S11: 45 | T11: 64 | U11: 2960 | V11: 459 | W11: 2490 | X11: 13 | Y11: 2962 | Z11: 2962 | AA11: 1 | AB11: 1440 | AC11: 858 | AD11: 828
AC12: used a basic test deck in testing and public test
AC13: used additional ballots in testing
B68: 948
B69: 12592

Sheet Deer Lodge
A1: 2026 Primary Election Reconciliation Report - Deer Lodge County
B2: Registered Voters | D2: Ballots Issued | I2: Ballots Accepted | N2: Ballots Rejected | U2: Votes Cast (Ballots Counted) | AB2: Test Ballots | AE2: Reconciled | AF2: Comments / Explanations
A3: Precinct | B3: Total | C3: Election Day | D3: Poll | E3: Absentee | F3: Provisional | G3: UOCAVA (included in Absentee Totals) | H3: Total | I3: Poll | J3: Absentee | K3: Provisional | L3: UOCAVA (included in Absentee Totals) | M3: Total | N3: Poll | O3: Absentee | P3: Provisional | Q3: UOCAVA (Included in Absentee Totals) | R3: Total Rejected - No Voter Credit Assigned | S3: Rejected by Prep Team - Post Voter Credit | T3: Total Ballots Voided | U3: Total Ballots Accepted - sent to count | V3: Poll | W3: Absentee | X3: Provisional | Y3: Subtotal of Counted Ballots | Z3: Total ballots counted - entered from tabulator / hand count report | AA3: UOCAVA (included in Absentee Totals) | AB3: Total Printed | AC3: Used for Testing | AD3: Counted | AE3: Y/N? | AF3: Note any variance and / or discrepancies
A4: 1-71 | B4: 1322 | C4: 2 | D4: 87 | E4: 940 | F4: 7 | G4: 1 | H4: 1034 | I4: 87 | J4: 626 | K4: 5 | L4: 0 | M4: 718 | N4: 0 | O4: 7 | P4: 2 | Q4: 0 | R4: 9 | S4: 10 | T4: 4 | U4: 708 | V4: 87 | W4: 616 | X4: 5 | Y4: 708 | Z4: 708 | AA4: 0 | AB4: 75 | AC4: 34 | AD4: 34 | AE4: Yes
A5: 2-71 | B5: 1057 | C5: 3 | D5: 36 | E5: 687 | F5: 3 | G5: 3 | H5: 726 | I5: 35 | J5: 375 | K5: 1 | L5: 0 | M5: 411 | N5: 0 | O5: 8 | P5: 2 | Q5: 0 | R5: 10 | S5: 16 | T5: 4 | U5: 395 | V5: 35 | W5: 359 | X5: 1 | Y5: 395 | Z5: 395 | AA5: 0 | AB5: 75 | AC5: 34 | AD5: 34 | AE5: No | AF5: Missing 1 Ballot from Issued at Polls-Assumed to be dropped in wrong box.
A6: 3-71 | B6: 1148 | C6: 1 | D6: 55 | E6: 650 | F6: 4 | G6: 1 | H6: 709 | I6: 50 | J6: 359 | K6: 4 | L6: 1 | M6: 413 | N6: 0 | O6: 2 | P6: 0 | Q6: 0 | R6: 2 | S6: 12 | T6: 8 | U6: 401 | V6: 50 | W6: 347 | X6: 4 | Y6: 401 | Z6: 401 | AA6: 1 | AB6: 75 | AC6: 34 | AD6: 34 | AE6: No | AF6: Missing 1 Ballot from Issued at Polls-Assumed to be dropped in wrong box.
A7: 4-71 | B7: 1060 | C7: 0 | D7: 62 | E7: 711 | F7: 4 | G7: 1 | H7: 777 | I7: 58 | J7: 426 | K7: 4 | L7: 0 | M7: 488 | N7: 0 | O7: 5 | P7: 0 | Q7: 0 | R7: 5 | S7: 10 | T7: 6 | U7: 478 | V7: 58 | W7: 416 | X7: 4 | Y7: 478 | Z7: 478 | AA7: 0 | AB7: 75 | AC7: 34 | AD7: 34 | AE7: Yes
A8: 5-71 | B8: 1379 | C8: 1 | D8: 71 | E8: 965 | F8: 6 | G8: 2 | H8: 1042 | I8: 71 | J8: 616 | K8: 6 | L8: 1 | M8: 693 | N8: 0 | O8: 1 | P8: 0 | Q8: 0 | R8: 1 | S8: 14 | T8: 9 | U8: 679 | V8: 71 | W8: 603 | X8: 6 | Y8: 680 | Z8: 680 | AA8: 1 | AB8: 75 | AC8: 34 | AD8: 34 | AE8: No | AF8: 1 Add'l Ballot Counted then Accepted in Absentee-Counting Board Reject Error
A9: 5-76 | B9: 213 | C9: 0 | D9: 10 | E9: 157 | F9: 2 | G9: 0 | H9: 169 | I9: 10 | J9: 111 | K9: 2 | L9: 0 | M9: 123 | N9: 0 | O9: 1 | P9: 0 | Q9: 0 | R9: 1 | S9: 2 | T9: 1 | U9: 121 | V9: 10 | W9: 109 | X9: 2 | Y9: 121 | Z9: 121 | AA9: 0 | AB9: 75 | AC9: 34 | AD9: 34 | AE9: Yes
A10: Total | B10: 6179 | C10: 7 | D10: 321 | E10: 4110 | F10: 26 | G10: 8 | H10: 4457 | I10: 311 | J10: 2513 | K10: 22 | L10: 2 | M10: 2846 | N10: 0 | O10: 24 | P10: 4 | Q10: 0 | R10: 28 | S10: 64 | T10: 32 | U10: 2782 | V10: 311 | W10: 2450 | X10: 22 | Y10: 2783 | Z10: 2783 | AA10: 2 | AB10: 450 | AC10: 204 | AD10: 204
B68: 948
B69: 13263

Sheet Fallon
A1: 2026 Primary Election Reconciliation Report - Fallon County
B2: Registered Voters | D2: Ballots Issued | I2: Ballots Accepted | N2: Ballots Rejected | U2: Votes Cast (Ballots Counted) | AB2: Test Ballots | AE2: Reconciled | AF2: Comments / Explanations
A3: Precinct | B3: Total | C3: Election Day | D3: Poll | E3: Absentee | F3: Provisional | G3: UOCAVA (included in Absentee Totals) | H3: Total | I3: Poll | J3: Absentee | K3: Provisional | L3: UOCAVA (included in Absentee Totals) | M3: Total | N3: Poll | O3: Absentee | P3: Provisional | Q3: UOCAVA (Included in Absentee Totals) | R3: Total Rejected - No Voter Credit Assigned | S3: Rejected by Prep Team - Post Voter Credit | T3: Total Ballots Voided | U3: Total Ballots Accepted - sent to count | V3: Poll | W3: Absentee | X3: Provisional | Y3: Subtotal of Counted Ballots | Z3: Total ballots counted - entered from tabulator / hand count report | AA3: UOCAVA (included in Absentee Totals) | AB3: Total Printed | AC3: Used for Testing | AD3: Counted | AE3: Y/N? | AF3: Note any variance and / or discrepancies
A4: PRECINCT 1 | B4: 1804 | C4: 0 | D4: 133 | E4: 1273 | F4: 0 | G4: 1 | H4: 1406 | I4: 133 | J4: 824 | K4: 0 | L4: 0 | M4: 957 | N4: 0 | O4: 0 | P4: 0 | Q4: 0 | R4: 0 | S4: 20 | T4: 13 | U4: 937 | V4: 133 | W4: 804 | Y4: 937 | Z4: 937 | AA4: 0 | AB4: 0 | AC4: 0 | AD4: 0 | AE4: Y | AF4: Ballots rejected by Prep Team - post voter credit: 20 Due to more than 1 voted ballot in secrecy envelope. Ballots voided 13: 7: Void/reissue - voter request 1: Deceased 5: Pulled by another county prior to Election Day
A5: Total | B5: 1804 | C5: 0 | D5: 133 | E5: 1273 | F5: 0 | G5: 1 | H5: 1406 | I5: 133 | J5: 824 | K5: 0 | L5: 0 | M5: 957 | N5: 0 | O5: 0 | P5: 0 | Q5: 0 | R5: 0 | S5: 20 | T5: 13 | U5: 937 | V5: 133 | W5: 804 | X5: 0 | Y5: 937 | Z5: 937 | AA5: 0 | AB5: 0 | AC5: 0 | AD5: 0
B6: 1105
B68: 948
B69: 5661

Sheet Fergus
A1: 2026 Primary Election Reconciliation Report - Fergus County
B2: Registered Voters | D2: Ballots Issued | I2: Ballots Accepted | N2: Ballots Rejected | U2: Votes Cast (Ballots Counted) | AB2: Test Ballots | AE2: Reconciled | AF2: Comments / Explanations
A3: Precinct | B3: Total | C3: Election Day | D3: Poll | E3: Absentee | F3: Provisional | G3: UOCAVA (included in Absentee Totals) | H3: Total | I3: Poll | J3: Absentee | K3: Provisional | L3: UOCAVA (included in Absentee Totals) | M3: Total | N3: Poll | O3: Absentee | P3: Provisional | Q3: UOCAVA (Included in Absentee Totals) | R3: Total Rejected - No Voter Credit Assigned | S3: Rejected by Prep Team - Post Voter Credit | T3: Total Ballots Voided | U3: Total Ballots Accepted - sent to count | V3: Poll | W3: Absentee | X3: Provisional | Y3: Subtotal of Counted Ballots | Z3: Total ballots counted - entered from tabulator / hand count report | AA3: UOCAVA (included in Absentee Totals) | AB3: Total Printed | AC3: Used for Testing | AD3: Counted | AE3: Y/N? | AF3: Note any variance and / or discrepancies
A4: PREC 10 | B4: 503 | D4: 36 | E4: 288 | H4: 324 | I4: 36 | J4: 140 | M4: 176 | O4: 1 | R4: 2 | S4: 8 | T4: 3 | U4: 168 | V4: 36 | W4: 132 | Y4: 168 | Z4: 168 | AB4: 30 | AC4: 14 | AD4: 14 | AE4: yes
A5: PREC 11 | B5: 561 | C5: 1 | D5: 34 | E5: 358 | H5: 392 | I5: 34 | J5: 230 | M5: 264 | R5: 1 | S5: 14 | T5: 4 | U5: 250 | V5: 34 | W5: 216 | Y5: 250 | Z5: 250 | AB5: 30 | AC5: 13 | AD5: 13 | AE5: y
A6: PREC 12 | B6: 260 | D6: 19 | E6: 182 | G6: 1 | H6: 201 | I6: 19 | J6: 116 | M6: 135 | R6: 3 | S6: 1 | T6: 0 | U6: 134 | V6: 19 | W6: 115 | Y6: 134 | Z6: 134 | AB6: 30 | AC6: 14 | AD6: 14 | AE6: y
A7: PREC 13 | B7: 669 | D7: 62 | E7: 440 | H7: 502 | I7: 62 | J7: 281 | M7: 343 | R7: 1 | S7: 12 | T7: 3 | U7: 331 | V7: 62 | W7: 269 | Y7: 331 | Z7: 330 | AB7: 30 | AC7: 14 | AD7: 14 | AE7: y
A8: PREC 14 | B8: 310 | D8: 16 | E8: 205 | H8: 221 | I8: 16 | J8: 110 | M8: 126 | R8: 0 | S8: 2 | T8: 2 | U8: 124 | V8: 16 | W8: 108 | Y8: 124 | Z8: 124 | AB8: 30 | AC8: 16 | AD8: 16 | AE8: y
A9: PREC 16 | B9: 324 | D9: 39 | E9: 196 | G9: 1 | H9: 235 | I9: 39 | J9: 120 | L9: 1 | M9: 159 | R9: 1 | S9: 1 | T9: 0 | U9: 158 | V9: 39 | W9: 119 | Y9: 158 | Z9: 158 | AA9: 1 | AB9: 30 | AC9: 15 | AD9: 15 | AE9: y
A10: PREC 17 | B10: 648 | D10: 43 | E10: 478 | G10: 4 | H10: 521 | I10: 43 | J10: 341 | M10: 384 | O10: 1 | R10: 1 | S10: 9 | T10: 7 | U10: 375 | V10: 43 | W10: 332 | Y10: 375 | Z10: 375 | AB10: 30 | AC10: 14 | AD10: 14 | AE10: y
A11: PREC 18 | B11: 237 | D11: 36 | E11: 145 | G11: 1 | H11: 181 | I11: 36 | J11: 87 | M11: 123 | O11: 1 | R11: 1 | S11: 0 | T11: 2 | U11: 123 | V11: 36 | W11: 87 | Y11: 123 | Z11: 123 | AB11: 30 | AC11: 16 | AD11: 16 | AE11: y
A12: PREC 2 | B12: 1215 | D12: 114 | E12: 817 | G12: 2 | H12: 931 | I12: 114 | J12: 564 | L12: 1 | M12: 678 | O12: 1 | R12: 3 | S12: 12 | T12: 11 | U12: 667 | V12: 114 | W12: 553 | Y12: 667 | Z12: 667 | AA12: 1 | AB12: 30 | AC12: 19 | AD12: 19 | AE12: y
A13: PREC 3 | B13: 555 | D13: 55 | E13: 355 | H13: 410 | I13: 55 | J13: 256 | M13: 311 | R13: 0 | S13: 6 | T13: 3 | U13: 308 | V13: 55 | W13: 253 | Y13: 308 | Z13: 308 | AB13: 30 | AC13: 13 | AD13: 13 | AE13: y
A14: PREC 4 | B14: 369 | D14: 29 | E14: 245 | H14: 274 | I14: 29 | J14: 150 | M14: 179 | R14: 3 | S14: 1 | T14: 1 | U14: 176 | V14: 29 | W14: 147 | Y14: 176 | Z14: 176 | AB14: 30 | AC14: 16 | AD14: 16 | AE14: y
A15: PREC 5 | B15: 425 | D15: 48 | E15: 259 | G15: 1 | H15: 307 | I15: 48 | J15: 165 | L15: 1 | M15: 213 | R15: 4 | S15: 4 | T15: 1 | U15: 210 | V15: 48 | W15: 162 | Y15: 210 | Z15: 210 | AA15: 1 | AB15: 30 | AC15: 21 | AD15: 21 | AE15: y
A16: PREC 6 | B16: 540 | D16: 38 | E16: 349 | H16: 387 | I16: 38 | J16: 192 | M16: 230 | R16: 0 | S16: 4 | T16: 8 | U16: 226 | V16: 38 | W16: 188 | Y16: 226 | Z16: 227 | AB16: 30 | AC16: 14 | AD16: 14 | AE16: y
A17: PREC 7 | B17: 479 | D17: 32 | E17: 274 | G17: 1 | H17: 306 | I17: 32 | J17: 178 | M17: 210 | R17: 0 | S17: 9 | T17: 4 | U17: 201 | V17: 32 | W17: 169 | Y17: 201 | Z17: 202 | AB17: 30 | AC17: 14 | AD17: 14 | AE17: y
A18: PREC 8 | B18: 544 | D18: 33 | E18: 307 | G18: 3 | H18: 340 | I18: 33 | J18: 189 | M18: 222 | R18: 1 | S18: 4 | T18: 5 | U18: 218 | V18: 33 | W18: 185 | Y18: 218 | Z18: 217 | AB18: 30 | AC18: 13 | AD18: 13 | AE18: y
A19: PREC 9 | B19: 469 | D19: 28 | E19: 292 | H19: 320 | I19: 28 | J19: 168 | M19: 196 | R19: 2 | S19: 6 | T19: 5 | U19: 190 | V19: 28 | W19: 162 | Y19: 190 | Z19: 190 | AB19: 30 | AC19: 13 | AD19: 13 | AE19: y
A20: Total | B20: =SUM(B4:B19) -> 8108 | C20: 1 | D20: 662 | E20: 5190 | F20: 0 | G20: 14 | H20: 5852 | I20: 662 | J20: 3287 | K20: 0 | L20: 3 | M20: 3949 | N20: 0 | O20: 4 | P20: 0 | Q20: 0 | R20: 23 | S20: 93 | T20: 59 | U20: 3859 | V20: 662 | W20: 3197 | X20: 0 | Y20: 3859 | Z20: 3859 | AA20: 3 | AB20: 480 | AC20: 239 | AD20: 239
B68: 948
B69: 18854

Sheet Flathead
A1: 2026 Primary Election Reconciliation Report - Flathead County
B2: Registered Voters | D2: Ballots Issued | I2: Ballots Accepted | N2: Ballots Rejected | U2: Votes Cast (Ballots Counted) | AB2: Test Ballots | AE2: Reconciled | AF2: Comments / Explanations
A3: Precinct | B3: Total | C3: Election Day | D3: Poll | E3: Absentee | F3: Provisional | G3: UOCAVA (included in Absentee Totals) | H3: Total | I3: Poll | J3: Absentee | K3: Provisional | L3: UOCAVA (included in Absentee Totals) | M3: Total | N3: Poll | O3: Absentee | P3: Provisional | Q3: UOCAVA (Included in Absentee Totals) | R3: Total Rejected - No Voter Credit Assigned | S3: Rejected by Prep Team - Post Voter Credit | T3: Total Ballots Voided | U3: Total Ballots Accepted - sent to count | V3: Poll | W3: Absentee | X3: Provisional | Y3: Subtotal of Counted Ballots | Z3: Total ballots counted - entered from tabulator / hand count report | AA3: UOCAVA (included in Absentee Totals) | AB3: Total Printed | AC3: Used for Testing | AD3: Counted | AE3: Y/N? | AF3: Note any variance and / or discrepancies
A4: PCT 01 | B4: 1942 | C4: 1 | D4: 165 | E4: 1115 | F4: 7 | G4: 6 | H4: 1287 | I4: 165 | J4: 550 | K4: 7 | L4: 0 | M4: 722 | N4: 0 | O4: 7 | P4: 0 | Q4: 0 | R4: 7 | S4: 14 | T4: 9 | U4: 708 | V4: 165 | W4: 536 | X4: 7 | Y4: 708 | Z4: 708 | AA4: 0 | AB4: 3 | AC4: 21 | AD4: 24 | AE4: Y
A5: PCT 02 | B5: 797 | C5: 0 | D5: 26 | E5: 523 | F5: 4 | G5: 3 | H5: 553 | I5: 26 | J5: 297 | K5: 4 | L5: 0 | M5: 327 | N5: 0 | O5: 4 | P5: 0 | Q5: 0 | R5: 4 | S5: 8 | T5: 6 | U5: 319 | V5: 26 | W5: 289 | X5: 4 | Y5: 319 | Z5: 319 | AA5: 0 | AB5: 3 | AC5: 21 | AD5: 24 | AE5: Y
A6: PCT 03 | B6: 1896 | C6: 4 | D6: 96 | E6: 1208 | F6: 17 | G6: 7 | H6: 1321 | I6: 96 | J6: 624 | K6: 17 | L6: 0 | M6: 737 | N6: 0 | O6: 10 | P6: 0 | Q6: 0 | R6: 10 | S6: 9 | T6: 18 | U6: 728 | V6: 96 | W6: 615 | X6: 17 | Y6: 728 | Z6: 728 | AA6: 0 | AB6: 3 | AC6: 21 | AD6: 24 | AE6: Y
A7: PCT 04 | B7: 1212 | C7: 1 | D7: 36 | E7: 787 | F7: 11 | G7: 2 | H7: 834 | I7: 36 | J7: 394 | K7: 12 | L7: 0 | M7: 442 | N7: 0 | O7: 7 | P7: 1 | Q7: 0 | R7: 8 | S7: 8 | T7: 8 | U7: 434 | V7: 36 | W7: 386 | X7: 12 | Y7: 434 | Z7: 434 | AA7: 0 | AB7: 3 | AC7: 21 | AD7: 24 | AE7: Y
A8: PCT 05 | B8: 857 | C8: 1 | D8: 46 | E8: 515 | F8: 8 | G8: 6 | H8: 569 | I8: 46 | J8: 274 | K8: 8 | L8: 3 | M8: 328 | N8: 0 | O8: 4 | P8: 0 | Q8: 0 | R8: 4 | S8: 7 | T8: 0 | U8: 321 | V8: 46 | W8: 267 | X8: 8 | Y8: 321 | Z8: 321 | AA8: 3 | AB8: 3 | AC8: 21 | AD8: 24 | AE8: Y
A9: PCT 06 | B9: 1765 | C9: 3 | D9: 67 | E9: 983 | F9: 19 | G9: 8 | H9: 1069 | I9: 67 | J9: 412 | K9: 19 | L9: 2 | M9: 498 | N9: 0 | O9: 8 | P9: 0 | Q9: 0 | R9: 8 | S9: 8 | T9: 16 | U9: 490 | V9: 67 | W9: 404 | X9: 19 | Y9: 490 | Z9: 490 | AA9: 2 | AB9: 3 | AC9: 21 | AD9: 24 | AE9: Y
A10: PCT 07 | B10: 1391 | C10: 4 | D10: 86 | E10: 823 | F10: 16 | G10: 3 | H10: 925 | I10: 86 | J10: 376 | K10: 16 | L10: 1 | M10: 478 | N10: 0 | O10: 11 | P10: 0 | Q10: 0 | R10: 11 | S10: 7 | T10: 7 | U10: 471 | V10: 86 | W10: 381 | X10: 16 | Y10: 483 | Z10: 483 | AA10: 1 | AB10: 3 | AC10: 21 | AD10: 24 | AE10: Y
A11: PCT07 SMFD - LANDOWNER BALLOTS | B11: - | C11: - | D11: - | E11: - | F11: - | G11: - | H11: - | I11: - | J11: 12 | K11: 0 | L11: - | M11: 12 | N11: - | O11: - | P11: - | Q11: - | R11: - | S11: - | T11: - | U11: 12 | V11: - | W11: - | X11: 0 | Y11: - | Z11: 0 | AA11: - | AB11: 2 | AC11: 14 | AD11: 16 | AE11: Y | AF11: Landowner ballots are tracked outside of ElectMT but included in the overall count of ballots cast.
A12: PCT 08 | B12: 1630 | C12: 0 | D12: 92 | E12: 1031 | F12: 5 | G12: 3 | H12: 1128 | I12: 92 | J12: 574 | K12: 6 | L12: 1 | M12: 672 | N12: 0 | O12: 11 | P12: 0 | Q12: 0 | R12: 11 | S12: 16 | T12: 10 | U12: 656 | V12: 92 | W12: 558 | X12: 6 | Y12: 656 | Z12: 656 | AA12: 1 | AB12: 3 | AC12: 21 | AD12: 24 | AE12: Y
A13: PCT 09 | B13: 2352 | C13: 2 | D13: 97 | E13: 1400 | F13: 10 | G13: 6 | H13: 1507 | I13: 97 | J13: 650 | K13: 11 | L13: 1 | M13: 758 | N13: 0 | O13: 6 | P13: 0 | Q13: 0 | R13: 6 | S13: 12 | T13: 7 | U13: 746 | V13: 97 | W13: 638 | X13: 11 | Y13: 746 | Z13: 746 | AA13: 1 | AB13: 3 | AC13: 21 | AD13: 24 | AE13: Y
A14: PCT 10 | B14: 1700 | C14: 4 | D14: 81 | E14: 893 | F14: 6 | G14: 4 | H14: 980 | I14: 81 | J14: 429 | K14: 6 | L14: 1 | M14: 516 | N14: 0 | O14: 1 | P14: 0 | Q14: 0 | R14: 1 | S14: 10 | T14: 14 | U14: 506 | V14: 81 | W14: 419 | X14: 6 | Y14: 506 | Z14: 506 | AA14: 1 | AB14: 3 | AC14: 21 | AD14: 24 | AE14: Y
A15: PCT 11 | B15: 1129 | C15: 0 | D15: 60 | E15: 724 | F15: 3 | G15: 2 | H15: 787 | I15: 60 | J15: 306 | K15: 3 | L15: 0 | M15: 369 | N15: 0 | O15: 7 | P15: 0 | Q15: 0 | R15: 7 | S15: 6 | T15: 2 | U15: 363 | V15: 60 | W15: 300 | X15: 3 | Y15: 363 | Z15: 363 | AA15: 0 | AB15: 3 | AC15: 21 | AD15: 24 | AE15: Y
A16: PCT 12 | B16: 1854 | C16: 0 | D16: 63 | E16: 1155 | F16: 16 | G16: 5 | H16: 1234 | I16: 63 | J16: 525 | K16: 17 | L16: 1 | M16: 605 | N16: 0 | O16: 12 | P16: 0 | Q16: 0 | R16: 12 | S16: 17 | T16: 13 | U16: 588 | V16: 63 | W16: 508 | X16: 17 | Y16: 588 | Z16: 588 | AA16: 1 | AB16: 3 | AC16: 21 | AD16: 24 | AE16: Y
A17: PCT 13 | B17: 1474 | C17: 2 | D17: 62 | E17: 914 | F17: 10 | G17: 2 | H17: 986 | I17: 62 | J17: 460 | K17: 10 | L17: 1 | M17: 532 | N17: 0 | O17: 6 | P17: 0 | Q17: 0 | R17: 6 | S17: 12 | T17: 14 | U17: 520 | V17: 62 | W17: 448 | X17: 10 | Y17: 520 | Z17: 520 | AA17: 1 | AB17: 3 | AC17: 21 | AD17: 24 | AE17: Y
A18: PCT 14 | B18: 1727 | C18: 1 | D18: 125 | E18: 911 | F18: 9 | G18: 6 | H18: 1045 | I18: 125 | J18: 416 | K18: 10 | L18: 0 | M18: 551 | N18: 0 | O18: 12 | P18: 0 | Q18: 0 | R18: 12 | S18: 12 | T18: 5 | U18: 539 | V18: 125 | W18: 404 | X18: 10 | Y18: 539 | Z18: 539 | AA18: 0 | AB18: 3 | AC18: 21 | AD18: 24 | AE18: Y
A19: PCT 15 | B19: 1770 | C19: 2 | D19: 66 | E19: 1114 | F19: 1 | G19: 2 | H19: 1181 | I19: 66 | J19: 570 | K19: 1 | L19: 0 | M19: 637 | N19: 0 | O19: 6 | P19: 0 | Q19: 0 | R19: 6 | S19: 20 | T19: 6 | U19: 617 | V19: 66 | W19: 550 | X19: 1 | Y19: 617 | Z19: 617 | AA19: 0 | AB19: 3 | AC19: 21 | AD19: 24 | AE19: Y
A20: PCT 16 | B20: 1903 | C20: 0 | D20: 76 | E20: 1142 | F20: 4 | G20: 2 | H20: 1222 | I20: 76 | J20: 569 | K20: 5 | L20: 0 | M20: 650 | N20: 0 | O20: 10 | P20: 0 | Q20: 0 | R20: 10 | S20: 10 | T20: 8 | U20: 640 | V20: 76 | W20: 559 | X20: 5 | Y20: 640 | Z20: 640 | AA20: 0 | AB20: 3 | AC20: 21 | AD20: 24 | AE20: Y
A21: PCT 17 | B21: 1946 | C21: 1 | D21: 127 | E21: 1130 | F21: 8 | G21: 0 | H21: 1265 | I21: 127 | J21: 580 | K21: 8 | L21: 0 | M21: 715 | N21: 0 | O21: 5 | P21: 0 | Q21: 0 | R21: 5 | S21: 28 | T21: 6 | U21: 687 | V21: 127 | W21: 552 | X21: 8 | Y21: 687 | Z21: 687 | AA21: 0 | AB21: 3 | AC21: 21 | AD21: 24 | AE21: Y
A22: PCT 18 | B22: 1462 | C22: 1 | D22: 87 | E22: 941 | F22: 5 | G22: 0 | H22: 1033 | I22: 87 | J22: 475 | K22: 7 | L22: 0 | M22: 569 | N22: 0 | O22: 2 | P22: 0 | Q22: 0 | R22: 2 | S22: 9 | T22: 6 | U22: 560 | V22: 87 | W22: 466 | X22: 7 | Y22: 560 | Z22: 560 | AA22: 0 | AB22: 3 | AC22: 21 | AD22: 24 | AE22: Y
A23: PCT 19 | B23: 1474 | C23: 1 | D23: 59 | E23: 939 | F23: 8 | G23: 2 | H23: 1006 | I23: 59 | J23: 474 | K23: 6 | L23: 2 | M23: 539 | N23: 0 | O23: 1 | P23: 2 | Q23: 0 | R23: 3 | S23: 10 | T23: 4 | U23: 529 | V23: 59 | W23: 464 | X23: 6 | Y23: 529 | Z23: 529 | AA23: 2 | AB23: 3 | AC23: 21 | AD23: 24 | AE23: Y
A24: PCT 20 | B24: 2208 | C24: 6 | D24: 75 | E24: 1409 | F24: 7 | G24: 7 | H24: 1491 | I24: 75 | J24: 722 | K24: 7 | L24: 3 | M24: 804 | N24: 0 | O24: 6 | P24: 0 | Q24: 0 | R24: 6 | S24: 11 | T24: 4 | U24: 793 | V24: 75 | W24: 711 | X24: 7 | Y24: 793 | Z24: 793 | AA24: 3 | AB24: 3 | AC24: 21 | AD24: 24 | AE24: Y
A25: PCT 21 | B25: 1390 | C25: 2 | D25: 66 | E25: 815 | F25: 7 | G25: 1 | H25: 888 | I25: 66 | J25: 417 | K25: 8 | L25: 1 | M25: 491 | N25: 0 | O25: 9 | P25: 0 | Q25: 0 | R25: 9 | S25: 8 | T25: 4 | U25: 483 | V25: 66 | W25: 410 | X25: 8 | Y25: 484 | Z25: 484 | AA25: 1 | AB25: 3 | AC25: 21 | AD25: 24 | AE25: Y | AF25: Absentee prep missed rejecting one secrecey that contained one extra ballot in a batch of 24 - could not determine which ballot / secrecy contained both ballots therefore both were sent to count leaving a +1 ballot counted.
A26: PCT 22 | B26: 1511 | C26: 0 | D26: 74 | E26: 940 | F26: 5 | G26: 3 | H26: 1019 | I26: 74 | J26: 467 | K26: 5 | L26: 2 | M26: 546 | N26: 0 | O26: 3 | P26: 0 | Q26: 0 | R26: 3 | S26: 15 | T26: 6 | U26: 531 | V26: 74 | W26: 452 | X26: 5 | Y26: 531 | Z26: 531 | AA26: 2 | AB26: 3 | AC26: 21 | AD26: 24 | AE26: Y
A27: PCT 23 | B27: 1989 | C27: 3 | D27: 86 | E27: 1306 | F27: 7 | G27: 2 | H27: 1399 | I27: 86 | J27: 685 | K27: 7 | L27: 0 | M27: 778 | N27: 0 | O27: 12 | P27: 0 | Q27: 0 | R27: 12 | S27: 8 | T27: 15 | U27: 770 | V27: 86 | W27: 677 | X27: 7 | Y27: 770 | Z27: 770 | AA27: 0 | AB27: 3 | AC27: 21 | AD27: 24 | AE27: Y
A28: PCT 24 | B28: 1792 | C28: 2 | D28: 70 | E28: 1127 | F28: 6 | G28: 2 | H28: 1203 | I28: 70 | J28: 551 | K28: 7 | L28: 1 | M28: 628 | N28: 0 | O28: 10 | P28: 0 | Q28: 0 | R28: 10 | S28: 6 | T28: 2 | U28: 622 | V28: 70 | W28: 545 | X28: 7 | Y28: 622 | Z28: 622 | AA28: 1 | AB28: 3 | AC28: 21 | AD28: 24 | AE28: Y
A29: PCT 25 | B29: 1592 | C29: 5 | D29: 67 | E29: 1008 | F29: 10 | G29: 4 | H29: 1085 | I29: 67 | J29: 544 | K29: 11 | L29: 3 | M29: 622 | N29: 0 | O29: 6 | P29: 0 | Q29: 0 | R29: 6 | S29: 12 | T29: 18 | U29: 610 | V29: 67 | W29: 532 | X29: 11 | Y29: 610 | Z29: 610 | AA29: 3 | AB29: 3 | AC29: 21 | AD29: 24 | AE29: Y
A30: PCT 26 | B30: 1482 | C30: 11 | D30: 48 | E30: 835 | F30: 10 | G30: 4 | H30: 893 | I30: 48 | J30: 378 | K30: 10 | L30: 1 | M30: 436 | N30: 0 | O30: 2 | P30: 0 | Q30: 0 | R30: 2 | S30: 12 | T30: 16 | U30: 424 | V30: 48 | W30: 366 | X30: 10 | Y30: 424 | Z30: 424 | AA30: 1 | AB30: 3 | AC30: 21 | AD30: 24 | AE30: Y
A31: PCT 27 | B31: 1695 | C31: 4 | D31: 64 | E31: 895 | F31: 5 | G31: 3 | H31: 964 | I31: 64 | J31: 443 | K31: 6 | L31: 1 | M31: 513 | N31: 0 | O31: 7 | P31: 0 | Q31: 0 | R31: 7 | S31: 17 | T31: 9 | U31: 496 | V31: 64 | W31: 426 | X31: 6 | Y31: 496 | Z31: 496 | AA31: 1 | AB31: 3 | AC31: 21 | AD31: 24 | AE31: Y
A32: PCT 28 | B32: 1175 | C32: 1 | D32: 48 | E32: 668 | F32: 2 | G32: 1 | H32: 718 | I32: 48 | J32: 344 | K32: 3 | L32: 1 | M32: 395 | N32: 0 | O32: 2 | P32: 0 | Q32: 0 | R32: 2 | S32: 10 | T32: 5 | U32: 385 | V32: 48 | W32: 334 | X32: 3 | Y32: 385 | Z32: 385 | AA32: 1 | AB32: 3 | AC32: 21 | AD32: 24 | AE32: Y
A33: PCT 29 | B33: 1347 | C33: 4 | D33: 46 | E33: 738 | F33: 2 | G33: 2 | H33: 786 | I33: 46 | J33: 338 | K33: 1 | L33: 0 | M33: 385 | N33: 0 | O33: 5 | P33: 0 | Q33: 0 | R33: 5 | S33: 12 | T33: 9 | U33: 373 | V33: 46 | W33: 326 | X33: 1 | Y33: 373 | Z33: 373 | AA33: 0 | AB33: 3 | AC33: 21 | AD33: 24 | AE33: Y
A34: PCT 30 | B34: 1750 | C34: 1 | D34: 59 | E34: 1010 | F34: 5 | G34: 0 | H34: 1074 | I34: 59 | J34: 478 | K34: 5 | L34: 0 | M34: 542 | N34: 0 | O34: 12 | P34: 0 | Q34: 0 | R34: 12 | S34: 21 | T34: 6 | U34: 521 | V34: 61 | W34: 457 | X34: 5 | Y34: 523 | Z34: 523 | AA34: 0 | AB34: 3 | AC34: 21 | AD34: 24 | AE34: Y | AF34: EJ Explanitory Statement: 2 more ballots than voter credit because 2 voters voted 2 party ballots and deposited them in the ballot box.
A35: PCT 31 | B35: 1604 | C35: 2 | D35: 64 | E35: 1185 | F35: 4 | G35: 1 | H35: 1253 | I35: 64 | J35: 772 | K35: 6 | L35: 1 | M35: 842 | N35: 0 | O35: 6 | P35: 0 | Q35: 0 | R35: 6 | S35: 15 | T35: 7 | U35: 827 | V35: 64 | W35: 757 | X35: 6 | Y35: 827 | Z35: 827 | AA35: 1 | AB35: 3 | AC35: 21 | AD35: 24 | AE35: Y
A36: PCT 32 | B36: 2038 | C36: 2 | D36: 59 | E36: 1076 | F36: 4 | G36: 3 | H36: 1139 | I36: 59 | J36: 526 | K36: 5 | L36: 1 | M36: 590 | N36: 0 | O36: 8 | P36: 0 | Q36: 0 | R36: 8 | S36: 18 | T36: 11 | U36: 572 | V36: 59 | W36: 508 | X36: 5 | Y36: 572 | Z36: 572 | AA36: 1 | AB36: 3 | AC36: 21 | AD36: 24 | AE36: Y
A37: PCT 33 | B37: 1338 | C37: 1 | D37: 71 | E37: 860 | F37: 6 | G37: 2 | H37: 937 | I37: 71 | J37: 467 | K37: 6 | L37: 1 | M37: 544 | N37: 0 | O37: 3 | P37: 0 | Q37: 0 | R37: 3 | S37: 9 | T37: 1 | U37: 535 | V37: 71 | W37: 458 | X37: 6 | Y37: 535 | Z37: 535 | AA37: 1 | AB37: 3 | AC37: 21 | AD37: 24 | AE37: Y
A38: PCT 34 | B38: 1301 | C38: 0 | D38: 71 | E38: 812 | F38: 5 | G38: 3 | H38: 888 | I38: 71 | J38: 499 | K38: 6 | L38: 2 | M38: 576 | N38: 0 | O38: 8 | P38: 0 | Q38: 0 | R38: 8 | S38: 16 | T38: 8 | U38: 560 | V38: 71 | W38: 483 | X38: 6 | Y38: 560 | Z38: 560 | AA38: 2 | AB38: 3 | AC38: 21 | AD38: 24 | AE38: Y
A39: PCT 35 | B39: 1206 | C39: 2 | D39: 99 | E39: 672 | F39: 1 | G39: 1 | H39: 772 | I39: 99 | J39: 336 | K39: 1 | L39: 1 | M39: 436 | N39: 0 | O39: 2 | P39: 0 | Q39: 0 | R39: 2 | S39: 11 | T39: 5 | U39: 425 | V39: 99 | W39: 325 | X39: 1 | Y39: 425 | Z39: 425 | AA39: 1 | AB39: 3 | AC39: 21 | AD39: 24 | AE39: Y
A40: PCT 36 | B40: 1861 | C40: 2 | D40: 60 | E40: 1082 | F40: 5 | G40: 1 | H40: 1147 | I40: 60 | J40: 469 | K40: 4 | L40: 0 | M40: 533 | N40: 0 | O40: 6 | P40: 1 | Q40: 0 | R40: 7 | S40: 22 | T40: 14 | U40: 511 | V40: 60 | W40: 447 | X40: 4 | Y40: 511 | Z40: 511 | AA40: 0 | AB40: 3 | AC40: 21 | AD40: 24 | AE40: Y
A41: PCT 37 | B41: 1492 | C41: 3 | D41: 53 | E41: 1061 | F41: 2 | G41: 2 | H41: 1116 | I41: 53 | J41: 612 | K41: 3 | L41: 1 | M41: 668 | N41: 0 | O41: 6 | P41: 0 | Q41: 0 | R41: 6 | S41: 10 | T41: 11 | U41: 658 | V41: 53 | W41: 602 | X41: 3 | Y41: 658 | Z41: 658 | AA41: 1 | AB41: 3 | AC41: 21 | AD41: 24 | AE41: Y
A42: PCT 38 | B42: 1207 | C42: 1 | D42: 71 | E42: 657 | F42: 7 | G42: 1 | H42: 735 | I42: 71 | J42: 352 | K42: 7 | L42: 1 | M42: 430 | N42: 0 | O42: 2 | P42: 0 | Q42: 0 | R42: 2 | S42: 8 | T42: 11 | U42: 422 | V42: 71 | W42: 344 | X42: 7 | Y42: 422 | Z42: 422 | AA42: 1 | AB42: 3 | AC42: 21 | AD42: 24 | AE42: Y
A43: PCT 39 | B43: 1493 | C43: 1 | D43: 74 | E43: 932 | F43: 4 | G43: 4 | H43: 1010 | I43: 74 | J43: 493 | K43: 5 | L43: 1 | M43: 572 | N43: 0 | O43: 5 | P43: 0 | Q43: 0 | R43: 5 | S43: 15 | T43: 7 | U43: 557 | V43: 74 | W43: 478 | X43: 5 | Y43: 557 | Z43: 557 | AA43: 1 | AB43: 3 | AC43: 21 | AD43: 24 | AE43: Y
A44: PCT 40 | B44: 1768 | C44: 0 | D44: 80 | E44: 1089 | F44: 3 | G44: 2 | H44: 1172 | I44: 80 | J44: 587 | K44: 5 | L44: 1 | M44: 672 | N44: 0 | O44: 7 | P44: 0 | Q44: 0 | R44: 7 | S44: 6 | T44: 15 | U44: 666 | V44: 80 | W44: 581 | X44: 5 | Y44: 666 | Z44: 666 | AA44: 1 | AB44: 3 | AC44: 21 | AD44: 24 | AE44: Y
A45: PCT 41 | B45: 1363 | C45: 2 | D45: 94 | E45: 786 | F45: 2 | G45: 2 | H45: 882 | I45: 94 | J45: 368 | K45: 2 | L45: 0 | M45: 464 | N45: 0 | O45: 6 | P45: 0 | Q45: 0 | R45: 6 | S45: 5 | T45: 6 | U45: 459 | V45: 94 | W45: 363 | X45: 2 | Y45: 459 | Z45: 459 | AA45: 0 | AB45: 3 | AC45: 21 | AD45: 24 | AE45: Y
A46: PCT 42 | B46: 1627 | C46: 1 | D46: 45 | E46: 974 | F46: 3 | G46: 3 | H46: 1022 | I46: 45 | J46: 485 | K46: 3 | L46: 1 | M46: 533 | N46: 0 | O46: 6 | P46: 0 | Q46: 0 | R46: 6 | S46: 21 | T46: 11 | U46: 512 | V46: 45 | W46: 464 | X46: 3 | Y46: 512 | Z46: 512 | AA46: 1 | AB46: 3 | AC46: 21 | AD46: 24 | AE46: Y
A47: PCT 43 | B47: 1982 | C47: 1 | D47: 70 | E47: 1253 | F47: 7 | G47: 4 | H47: 1330 | I47: 70 | J47: 618 | K47: 8 | L47: 1 | M47: 696 | N47: 0 | O47: 6 | P47: 0 | Q47: 0 | R47: 6 | S47: 19 | T47: 12 | U47: 677 | V47: 71 | W47: 599 | X47: 8 | Y47: 678 | Z47: 678 | AA47: 1 | AB47: 3 | AC47: 21 | AD47: 24 | AE47: Y | AF47: EJ Explanitory Statement: 1 more ballot than voter credit because 1 voter voted 2 party ballots and deposited them in the ballot box.
A48: PCT 44 | B48: 1455 | C48: 4 | D48: 52 | E48: 817 | F48: 2 | G48: 3 | H48: 871 | I48: 52 | J48: 377 | K48: 3 | L48: 2 | M48: 432 | N48: 0 | O48: 1 | P48: 0 | Q48: 0 | R48: 1 | S48: 17 | T48: 10 | U48: 415 | V48: 52 | W48: 360 | X48: 3 | Y48: 415 | Z48: 415 | AA48: 2 | AB48: 3 | AC48: 21 | AD48: 24 | AE48: Y
A49: PCT 45 | B49: 1882 | C49: 0 | D49: 81 | E49: 1150 | F49: 8 | G49: 1 | H49: 1239 | I49: 81 | J49: 554 | K49: 7 | L49: 0 | M49: 642 | N49: 0 | O49: 4 | P49: 0 | Q49: 0 | R49: 4 | S49: 18 | T49: 11 | U49: 624 | V49: 81 | W49: 536 | X49: 7 | Y49: 624 | Z49: 624 | AA49: 0 | AB49: 3 | AC49: 21 | AD49: 24 | AE49: Y
A50: PCT 46 | B50: 1313 | C50: 2 | D50: 57 | E50: 861 | F50: 4 | G50: 1 | H50: 922 | I50: 57 | J50: 473 | K50: 5 | L50: 0 | M50: 535 | N50: 0 | O50: 8 | P50: 0 | Q50: 0 | R50: 8 | S50: 10 | T50: 7 | U50: 525 | V50: 57 | W50: 463 | X50: 5 | Y50: 525 | Z50: 525 | AA50: 0 | AB50: 3 | AC50: 21 | AD50: 24 | AE50: Y
A51: PCT 47 | B51: 1015 | C51: 0 | D51: 43 | E51: 684 | F51: 4 | G51: 1 | H51: 731 | I51: 43 | J51: 360 | K51: 4 | L51: 0 | M51: 407 | N51: 0 | O51: 4 | P51: 0 | Q51: 0 | R51: 4 | S51: 7 | T51: 6 | U51: 400 | V51: 43 | W51: 353 | X51: 4 | Y51: 400 | Z51: 400 | AA51: 0 | AB51: 3 | AC51: 21 | AD51: 24 | AE51: Y
A52: PCT 48 | B52: 498 | C52: 0 | D52: 27 | E52: 317 | F52: 0 | G52: 0 | H52: 344 | I52: 27 | J52: 181 | K52: 0 | L52: 0 | M52: 208 | N52: 0 | O52: 2 | P52: 0 | Q52: 0 | R52: 2 | S52: 3 | T52: 1 | U52: 205 | V52: 27 | W52: 178 | X52: 0 | Y52: 205 | Z52: 205 | AA52: 0 | AB52: 3 | AC52: 21 | AD52: 24 | AE52: Y
A53: PCT 49 | B53: 1346 | C53: 0 | D53: 52 | E53: 866 | F53: 4 | G53: 1 | H53: 922 | I53: 52 | J53: 426 | K53: 4 | L53: 1 | M53: 482 | N53: 0 | O53: 1 | P53: 0 | Q53: 0 | R53: 1 | S53: 17 | T53: 4 | U53: 465 | V53: 52 | W53: 409 | X53: 4 | Y53: 465 | Z53: 465 | AA53: 1 | AB53: 3 | AC53: 21 | AD53: 24 | AE53: Y
A54: PCT 50 | B54: 1296 | C54: 4 | D54: 67 | E54: 895 | F54: 3 | G54: 5 | H54: 965 | I54: 67 | J54: 496 | K54: 3 | L54: 4 | M54: 566 | N54: 0 | O54: 5 | P54: 0 | Q54: 0 | R54: 5 | S54: 14 | T54: 9 | U54: 552 | V54: 67 | W54: 482 | X54: 3 | Y54: 552 | Z54: 552 | AA54: 4 | AB54: 3 | AC54: 21 | AD54: 24 | AE54: Y
A55: PCT 51 | B55: 1849 | C55: 2 | D55: 110 | E55: 1228 | F55: 5 | G55: 2 | H55: 1343 | I55: 110 | J55: 696 | K55: 5 | L55: 0 | M55: 811 | N55: 0 | O55: 4 | P55: 0 | Q55: 0 | R55: 4 | S55: 12 | T55: 11 | U55: 799 | V55: 110 | W55: 684 | X55: 5 | Y55: 799 | Z55: 799 | AA55: 0 | AB55: 3 | AC55: 21 | AD55: 24 | AE55: Y
A56: PCT 52 | B56: 1769 | C56: 1 | D56: 95 | E56: 1213 | F56: 1 | G56: 1 | H56: 1309 | I56: 95 | J56: 708 | K56: 2 | L56: 1 | M56: 805 | N56: 0 | O56: 7 | P56: 0 | Q56: 0 | R56: 7 | S56: 17 | T56: 14 | U56: 788 | V56: 95 | W56: 691 | X56: 2 | Y56: 788 | Z56: 788 | AA56: 1 | AB56: 3 | AC56: 21 | AD56: 24 | AE56: Y
A57: PCT 53 | B57: 1262 | C57: 0 | D57: 93 | E57: 745 | F57: 6 | G57: 1 | H57: 844 | I57: 93 | J57: 416 | K57: 5 | L57: 1 | M57: 514 | N57: 0 | O57: 9 | P57: 1 | Q57: 0 | R57: 10 | S57: 7 | T57: 9 | U57: 507 | V57: 93 | W57: 409 | X57: 5 | Y57: 507 | Z57: 507 | AA57: 1 | AB57: 3 | AC57: 21 | AD57: 24 | AE57: Y
A58: PCT 54 | B58: 1876 | C58: 2 | D58: 80 | E58: 1212 | F58: 11 | G58: 5 | H58: 1303 | I58: 80 | J58: 700 | K58: 9 | L58: 3 | M58: 789 | N58: 0 | O58: 14 | P58: 3 | Q58: 0 | R58: 17 | S58: 16 | T58: 9 | U58: 773 | V58: 80 | W58: 684 | X58: 9 | Y58: 773 | Z58: 773 | AA58: 3 | AB58: 3 | AC58: 21 | AD58: 24 | AE58: Y
A59: PCT 55 | B59: 1630 | C59: 0 | D59: 61 | E59: 933 | F59: 11 | G59: 6 | H59: 1005 | I59: 61 | J59: 461 | K59: 11 | L59: 3 | M59: 533 | N59: 0 | O59: 7 | P59: 1 | Q59: 0 | R59: 8 | S59: 16 | T59: 8 | U59: 517 | V59: 61 | W59: 445 | X59: 11 | Y59: 517 | Z59: 517 | AA59: 3 | AB59: 3 | AC59: 21 | AD59: 24 | AE59: Y
A60: PCT 56 | B60: 0 | C60: 0 | D60: 0 | E60: 0 | F60: 0 | G60: 0 | H60: 0 | I60: 0 | J60: 0 | K60: 0 | L60: 0 | M60: 0 | N60: 0 | O60: 0 | P60: 0 | Q60: 0 | R60: 0 | S60: - | T60: 0 | U60: 0 | V60: 0 | W60: 0 | X60: 0 | Y60: 0 | Z60: 0 | AA60: 0 | AB60: 3 | AC60: 21 | AD60: 24 | AE60: Y
A61: Total | B61: 85683 | C61: 100 | D61: 3949 | E61: 52359 | F61: 345 | G61: 154 | H61: 56653 | I61: 3949 | J61: 26766 | K61: 362 | L61: 53 | M61: 31077 | N61: 0 | O61: 341 | P61: 9 | Q61: 0 | R61: 350 | S61: 684 | T61: 471 | U61: 30393 | V61: 3952 | W61: 26083 | X61: 362 | Y61: 30397 | Z61: 30397 | AA61: 53 | AB61: 170 | AC61: 1190 | AD61: 1360
B68: 948
B69: 171523

Sheet Gallatin
A1: 2026 Primary Election Reconciliation Report - Gallatin County
B2: Registered Voters | D2: Ballots Issued | I2: Ballots Accepted | N2: Ballots Rejected | U2: Votes Cast (Ballots Counted) | AB2: Test Ballots | AE2: Reconciled | AF2: Comments / Explanations
A3: Precinct | B3: Total | C3: Election Day | D3: Poll | E3: Absentee | F3: Provisional | G3: UOCAVA (included in Absentee Totals) | H3: Total | I3: Poll | J3: Absentee | K3: Provisional | L3: UOCAVA (included in Absentee Totals) | M3: Total | N3: Poll | O3: Absentee | P3: Provisional | Q3: UOCAVA (Included in Absentee Totals) | R3: Total Rejected - No Voter Credit Assigned | S3: Rejected by Prep Team - Post Voter Credit | T3: Total Ballots Voided | U3: Total Ballots Accepted - sent to count | V3: Poll | W3: Absentee | X3: Provisional | Y3: Subtotal of Counted Ballots | Z3: Total ballots counted - entered from tabulator / hand count report | AA3: UOCAVA (included in Absentee Totals) | AB3: Total Printed | AC3: Used for Testing | AD3: Counted | AE3: Y/N? | AF3: Note any variance and / or discrepancies
A4: 57A | B4: 1004 | C4: 0 | D4: 16 | E4: 770 | F4: 1 | G4: 0 | H4: 787 | I4: 16 | J4: 403 | K4: 1 | L4: 0 | M4: 420 | N4: 0 | O4: 2 | P4: 0 | Q4: 0 | R4: 2 | S4: 3 | T4: 10 | U4: 417 | V4: 16 | W4: 400 | X4: 1 | Y4: 417 | Z4: 417 | AA4: 0 | AB4: 48 | AC4: 40 | AD4: 40 | AE4: Y
A5: 57B | B5: 1385 | C5: 7 | D5: 26 | E5: 1013 | F5: 7 | G5: 5 | H5: 1046 | I5: 26 | J5: 512 | K5: 7 | L5: 5 | M5: 545 | N5: 0 | O5: 0 | P5: 0 | Q5: 0 | R5: 0 | S5: 7 | T5: 22 | U5: 538 | V5: 26 | W5: 505 | X5: 7 | Y5: 538 | Z5: 538 | AA5: 0 | AB5: 48 | AC5: 40 | AD5: 40 | AE5: Y
A6: 57C | B6: 1556 | C6: 3 | D6: 17 | E6: 1094 | F6: 7 | G6: 8 | H6: 1118 | I6: 15 | J6: 589 | K6: 7 | L6: 8 | M6: 611 | N6: 0 | O6: 2 | P6: 0 | Q6: 0 | R6: 2 | S6: 18 | T6: 17 | U6: 593 | V6: 15 | W6: 571 | X6: 7 | Y6: 593 | Z6: 593 | AA6: 0 | AB6: 48 | AC6: 40 | AD6: 40 | AE6: Y | AF6: 66D found in 57C at count & 67C found in 57C at count & 57C Found in 66D at count & (+1)source unkonwn
A7: 59A | B7: 2962 | C7: 6 | D7: 30 | E7: 2016 | F7: 7 | G7: 5 | H7: 2053 | I7: 29 | J7: 799 | K7: 7 | L7: 5 | M7: 835 | N7: 0 | O7: 7 | P7: 0 | Q7: 0 | R7: 7 | S7: 25 | T7: 21 | U7: 810 | V7: 29 | W7: 774 | X7: 7 | Y7: 810 | Z7: 810 | AA7: 2 | AB7: 48 | AC7: 40 | AD7: 40 | AE7: Y
A8: 59B | B8: 2537 | C8: 2 | D8: 35 | E8: 2058 | F8: 6 | G8: 13 | H8: 2099 | I8: 35 | J8: 1090 | K8: 5 | L8: 13 | M8: 1130 | N8: 0 | O8: 14 | P8: 1 | Q8: 0 | R8: 15 | S8: 14 | T8: 18 | U8: 1116 | V8: 35 | W8: 1076 | X8: 5 | Y8: 1116 | Z8: 1116 | AA8: 4 | AB8: 48 | AC8: 40 | AD8: 40 | AE8: Y | AF8: 59B found in 59C at opening & 59C found in 59B at count
A9: 59C | B9: 2270 | C9: 4 | D9: 11 | E9: 1830 | F9: 7 | G9: 11 | H9: 1848 | I9: 11 | J9: 1073 | K9: 7 | L9: 11 | M9: 1091 | N9: 0 | O9: 5 | P9: 0 | Q9: 0 | R9: 5 | S9: 10 | T9: 31 | U9: 1081 | V9: 11 | W9: 1062 | X9: 7 | Y9: 1080 | Z9: 1080 | AA9: 2 | AB9: 48 | AC9: 40 | AD9: 40 | AE9: N | AF9: 59B found in 59C at opening & 59C found in 59B at count & (-1)source unknown
A10: 59D | B10: 2301 | C10: 2 | D10: 23 | E10: 1811 | F10: 3 | G10: 8 | H10: 1837 | I10: 23 | J10: 925 | K10: 3 | L10: 8 | M10: 951 | N10: 0 | O10: 7 | P10: 0 | Q10: 0 | R10: 7 | S10: 14 | T10: 15 | U10: 937 | V10: 23 | W10: 912 | X10: 3 | Y10: 938 | Z10: 938 | AA10: 3 | AB10: 48 | AC10: 40 | AD10: 40 | AE10: N | AF10: (+1)ballot found during count source unknown
A11: 60A | B11: 2330 | C11: 0 | D11: 51 | E11: 1624 | F11: 10 | G11: 4 | H11: 1685 | I11: 51 | J11: 772 | K11: 9 | L11: 4 | M11: 832 | N11: 0 | O11: 7 | P11: 1 | Q11: 0 | R11: 8 | S11: 21 | T11: 20 | U11: 811 | V11: 51 | W11: 752 | X11: 8 | Y11: 811 | Z11: 811 | AA11: 2 | AB11: 48 | AC11: 40 | AD11: 40 | AE11: Y
A12: 60B | B12: 1984 | C12: 1 | D12: 32 | E12: 1573 | F12: 6 | G12: 7 | H12: 1611 | I12: 29 | J12: 857 | K12: 6 | L12: 7 | M12: 892 | N12: 0 | O12: 6 | P12: 0 | Q12: 0 | R12: 6 | S12: 22 | T12: 12 | U12: 870 | V12: 29 | W12: 835 | X12: 6 | Y12: 870 | Z12: 870 | AA12: 0 | AB12: 48 | AC12: 40 | AD12: 40 | AE12: Y | AF12: 62D found in 60B at count & 60B found in 62D at opening
A13: 60C | B13: 1417 | C13: 0 | D13: 25 | E13: 899 | F13: 6 | G13: 4 | H13: 930 | I13: 24 | J13: 340 | K13: 6 | L13: 4 | M13: 370 | N13: 0 | O13: 2 | P13: 0 | Q13: 0 | R13: 2 | S13: 4 | T13: 17 | U13: 366 | V13: 24 | W13: 336 | X13: 6 | Y13: 366 | Z13: 366 | AA13: 0 | AB13: 48 | AC13: 40 | AD13: 40 | AE13: Y
A14: 60D | B14: 1542 | C14: 2 | D14: 21 | E14: 906 | F14: 7 | G14: 1 | H14: 934 | I14: 20 | J14: 285 | K14: 7 | L14: 1 | M14: 312 | N14: 0 | O14: 7 | P14: 0 | Q14: 0 | R14: 7 | S14: 8 | T14: 17 | U14: 304 | V14: 20 | W14: 277 | X14: 7 | Y14: 304 | Z14: 304 | AA14: 0 | AB14: 48 | AC14: 40 | AD14: 40 | AE14: Y
A15: 60E | B15: 1358 | C15: 1 | D15: 26 | E15: 894 | F15: 5 | G15: 1 | H15: 925 | I15: 24 | J15: 348 | K15: 3 | L15: 1 | M15: 375 | N15: 0 | O15: 2 | P15: 2 | Q15: 0 | R15: 4 | S15: 16 | T15: 15 | U15: 359 | V15: 24 | W15: 333 | X15: 3 | Y15: 360 | Z15: 360 | AA15: 0 | AB15: 48 | AC15: 40 | AD15: 40 | AE15: N | AF15: 60E found in 62A at count
A16: 61A | B16: 2250 | C16: 2 | D16: 12 | E16: 686 | F16: 4 | G16: 1 | H16: 702 | I16: 12 | J16: 90 | K16: 4 | L16: 1 | M16: 106 | N16: 0 | O16: 1 | P16: 0 | Q16: 0 | R16: 1 | S16: 3 | T16: 21 | U16: 103 | V16: 12 | W16: 87 | X16: 4 | Y16: 103 | Z16: 103 | AA16: 0 | AB16: 48 | AC16: 40 | AD16: 40 | AE16: Y
A17: 61B | B17: 2310 | C17: 12 | D17: 23 | E17: 1371 | F17: 11 | G17: 20 | H17: 1405 | I17: 23 | J17: 607 | K17: 11 | L17: 20 | M17: 641 | N17: 0 | O17: 2 | P17: 0 | Q17: 0 | R17: 2 | S17: 12 | T17: 33 | U17: 629 | V17: 23 | W17: 595 | X17: 11 | Y17: 629 | Z17: 629 | AA17: 6 | AB17: 48 | AC17: 40 | AD17: 40 | AE17: Y | AF17: 66D Found in 61B at count & 61B found in 66D at count
A18: 61C | B18: 2355 | C18: 3 | D18: 11 | E18: 1245 | F18: 5 | G18: 6 | H18: 1261 | I18: 11 | J18: 404 | K18: 3 | L18: 6 | M18: 418 | N18: 0 | O18: 0 | P18: 2 | Q18: 0 | R18: 2 | S18: 6 | T18: 26 | U18: 412 | V18: 11 | W18: 398 | X18: 3 | Y18: 412 | Z18: 412 | AA18: 2 | AB18: 48 | AC18: 40 | AD18: 40 | AE18: Y
A19: 62A | B19: 2254 | C19: 0 | D19: 21 | E19: 1654 | F19: 1 | G19: 3 | H19: 1676 | I19: 21 | J19: 695 | K19: 1 | L19: 3 | M19: 717 | N19: 0 | O19: 11 | P19: 0 | Q19: 0 | R19: 11 | S19: 17 | T19: 12 | U19: 700 | V19: 21 | W19: 677 | X19: 1 | Y19: 699 | Z19: 699 | AA19: 3 | AB19: 48 | AC19: 40 | AD19: 40 | AE19: N | AF19: 60E found in 62A at count
A20: 62B | B20: 2348 | C20: 6 | D20: 21 | E20: 1381 | F20: 8 | G20: 2 | H20: 1410 | I20: 20 | J20: 547 | K20: 8 | L20: 2 | M20: 575 | N20: 0 | O20: 3 | P20: 0 | Q20: 0 | R20: 3 | S20: 19 | T20: 18 | U20: 556 | V20: 20 | W20: 527 | X20: 8 | Y20: 555 | Z20: 555 | AA20: 1 | AB20: 48 | AC20: 40 | AD20: 40 | AE20: N | AF20: 67B found in 62B at count
A21: 62C | B21: 2016 | C21: 4 | D21: 22 | E21: 1091 | F21: 2 | G21: 8 | H21: 1115 | I21: 21 | J21: 366 | K21: 2 | L21: 8 | M21: 389 | N21: 0 | O21: 2 | P21: 0 | Q21: 0 | R21: 2 | S21: 10 | T21: 21 | U21: 379 | V21: 21 | W21: 356 | X21: 2 | Y21: 379 | Z21: 379 | AA21: 5 | AB21: 48 | AC21: 40 | AD21: 40 | AE21: Y
A22: 62D | B22: 2352 | C22: 3 | D22: 27 | E22: 1504 | F22: 7 | G22: 4 | H22: 1538 | I22: 27 | J22: 566 | K22: 7 | L22: 4 | M22: 600 | N22: 0 | O22: 3 | P22: 0 | Q22: 0 | R22: 3 | S22: 13 | T22: 17 | U22: 587 | V22: 27 | W22: 554 | X22: 7 | Y22: 588 | Z22: 588 | AA22: 1 | AB22: 48 | AC22: 40 | AD22: 40 | AE22: N | AF22: 62D found in 60B at count & 60B found in 62D at opening & (+1)ballot found at opening source unknown
A23: 63A | B23: 2269 | C23: 6 | D23: 24 | E23: 1590 | F23: 6 | G23: 4 | H23: 1620 | I23: 24 | J23: 622 | K23: 6 | L23: 4 | M23: 652 | N23: 0 | O23: 6 | P23: 0 | Q23: 0 | R23: 6 | S23: 26 | T23: 15 | U23: 626 | V23: 24 | W23: 596 | X23: 6 | Y23: 626 | Z23: 626 | AA23: 1 | AB23: 48 | AC23: 40 | AD23: 40 | AE23: Y
A24: 63B | B24: 2616 | C24: 6 | D24: 27 | E24: 1550 | F24: 8 | G24: 4 | H24: 1585 | I24: 27 | J24: 488 | K24: 8 | L24: 4 | M24: 523 | N24: 0 | O24: 4 | P24: 0 | Q24: 0 | R24: 4 | S24: 14 | T24: 20 | U24: 509 | V24: 27 | W24: 474 | X24: 8 | Y24: 509 | Z24: 509 | AA24: 0 | AB24: 48 | AC24: 40 | AD24: 40 | AE24: Y
A25: 63C | B25: 2128 | C25: 5 | D25: 15 | E25: 1387 | F25: 7 | G25: 5 | H25: 1409 | I25: 15 | J25: 530 | K25: 4 | L25: 5 | M25: 549 | N25: 0 | O25: 3 | P25: 3 | Q25: 0 | R25: 6 | S25: 12 | T25: 15 | U25: 537 | V25: 15 | W25: 518 | X25: 4 | Y25: 537 | Z25: 537 | AA25: 1 | AB25: 48 | AC25: 40 | AD25: 40 | AE25: Y
A26: 63D | B26: 2034 | C26: 6 | D26: 17 | E26: 1399 | F26: 4 | G26: 14 | H26: 1420 | I26: 16 | J26: 619 | K26: 4 | L26: 14 | M26: 639 | N26: 0 | O26: 7 | P26: 0 | Q26: 0 | R26: 7 | S26: 10 | T26: 20 | U26: 629 | V26: 16 | W26: 609 | X26: 4 | Y26: 629 | Z26: 629 | AA26: 2 | AB26: 48 | AC26: 40 | AD26: 40 | AE26: Y
A27: 64A | B27: 2316 | C27: 1 | D27: 22 | E27: 1641 | F27: 5 | G27: 3 | H27: 1668 | I27: 22 | J27: 726 | K27: 5 | L27: 3 | M27: 753 | N27: 0 | O27: 7 | P27: 0 | Q27: 0 | R27: 7 | S27: 12 | T27: 15 | U27: 741 | V27: 22 | W27: 714 | X27: 5 | Y27: 741 | Z27: 741 | AA27: 2 | AB27: 48 | AC27: 40 | AD27: 40 | AE27: Y
A28: 64B | B28: 2212 | C28: 4 | D28: 25 | E28: 1196 | F28: 7 | G28: 4 | H28: 1228 | I28: 25 | J28: 416 | K28: 6 | L28: 4 | M28: 447 | N28: 0 | O28: 5 | P28: 1 | Q28: 0 | R28: 6 | S28: 16 | T28: 10 | U28: 431 | V28: 25 | W28: 400 | X28: 6 | Y28: 431 | Z28: 431 | AA28: 1 | AB28: 48 | AC28: 40 | AD28: 40 | AE28: Y
A29: 64C | B29: 2306 | C29: 5 | D29: 25 | E29: 1523 | F29: 2 | G29: 3 | H29: 1550 | I29: 25 | J29: 609 | K29: 2 | L29: 3 | M29: 636 | N29: 0 | O29: 7 | P29: 0 | Q29: 0 | R29: 7 | S29: 18 | T29: 18 | U29: 618 | V29: 25 | W29: 591 | X29: 2 | Y29: 618 | Z29: 618 | AA29: 1 | AB29: 48 | AC29: 40 | AD29: 40 | AE29: Y
A30: 64D | B30: 2217 | C30: 2 | D30: 21 | E30: 1462 | F30: 5 | G30: 8 | H30: 1488 | I30: 21 | J30: 618 | K30: 5 | L30: 8 | M30: 644 | N30: 0 | O30: 5 | P30: 0 | Q30: 0 | R30: 5 | S30: 22 | T30: 32 | U30: 622 | V30: 21 | W30: 595 | X30: 5 | Y30: 621 | Z30: 621 | AA30: 3 | AB30: 48 | AC30: 40 | AD30: 40 | AE30: N | AF30: 65D found in 64D at count
A31: 65A | B31: 2156 | C31: 4 | D31: 24 | E31: 1692 | F31: 4 | G31: 4 | H31: 1720 | I31: 23 | J31: 908 | K31: 4 | L31: 4 | M31: 935 | N31: 0 | O31: 6 | P31: 0 | Q31: 0 | R31: 6 | S31: 12 | T31: 15 | U31: 923 | V31: 23 | W31: 896 | X31: 4 | Y31: 923 | Z31: 923 | AA31: 3 | AB31: 48 | AC31: 40 | AD31: 40 | AE31: Y
A32: 65B | B32: 2375 | C32: 2 | D32: 26 | E32: 1878 | F32: 4 | G32: 5 | H32: 1908 | I32: 26 | J32: 984 | K32: 3 | L32: 5 | M32: 1013 | N32: 0 | O32: 6 | P32: 1 | Q32: 0 | R32: 7 | S32: 29 | T32: 39 | U32: 984 | V32: 26 | W32: 957 | X32: 3 | Y32: 986 | Z32: 986 | AA32: 2 | AB32: 48 | AC32: 40 | AD32: 40 | AE32: N | AF32: (+1)ballot found at opening source unknown & (+1)ballot found at opening source unknown
A33: 65C | B33: 2182 | C33: 5 | D33: 16 | E33: 1241 | F33: 9 | G33: 14 | H33: 1266 | I33: 15 | J33: 515 | K33: 9 | L33: 14 | M33: 539 | N33: 0 | O33: 4 | P33: 0 | Q33: 0 | R33: 4 | S33: 16 | T33: 29 | U33: 523 | V33: 15 | W33: 499 | X33: 9 | Y33: 523 | Z33: 523 | AA33: 5 | AB33: 48 | AC33: 40 | AD33: 40 | AE33: Y
A34: 65D | B34: 2206 | C34: 9 | D34: 20 | E34: 1220 | F34: 16 | G34: 4 | H34: 1256 | I34: 20 | J34: 460 | K34: 16 | L34: 4 | M34: 496 | N34: 0 | O34: 1 | P34: 0 | Q34: 0 | R34: 1 | S34: 10 | T34: 32 | U34: 486 | V34: 20 | W34: 450 | X34: 16 | Y34: 486 | Z34: 486 | AA34: 1 | AB34: 48 | AC34: 40 | AD34: 40 | AE34: Y | AF34: 66D found in 65D at opening & 65D found in 64D at count
A35: 66A | B35: 2416 | C35: 1 | D35: 52 | E35: 1823 | F35: 0 | G35: 6 | H35: 1875 | I35: 51 | J35: 889 | K35: 0 | L35: 6 | M35: 940 | N35: 0 | O35: 9 | P35: 0 | Q35: 0 | R35: 9 | S35: 17 | T35: 11 | U35: 923 | V35: 51 | W35: 872 | X35: 0 | Y35: 923 | Z35: 923 | AA35: 2 | AB35: 48 | AC35: 40 | AD35: 40 | AE35: Y
A36: 66B | B36: 2367 | C36: 2 | D36: 31 | E36: 1942 | F36: 7 | G36: 15 | H36: 1980 | I36: 30 | J36: 1064 | K36: 5 | L36: 15 | M36: 1099 | N36: 0 | O36: 11 | P36: 2 | Q36: 0 | R36: 13 | S36: 21 | T36: 26 | U36: 1078 | V36: 30 | W36: 1043 | X36: 5 | Y36: 1078 | Z36: 1078 | AA36: 3 | AB36: 48 | AC36: 40 | AD36: 40 | AE36: Y
A37: 66C | B37: 2618 | C37: 10 | D37: 35 | E37: 1708 | F37: 12 | G37: 11 | H37: 1755 | I37: 32 | J37: 817 | K37: 9 | L37: 11 | M37: 858 | N37: 0 | O37: 3 | P37: 3 | Q37: 0 | R37: 6 | S37: 22 | T37: 35 | U37: 836 | V37: 32 | W37: 794 | X37: 9 | Y37: 835 | Z37: 835 | AA37: 3 | AB37: 48 | AC37: 40 | AD37: 40 | AE37: N | AF37: (-1)ballot at count
A38: 66D | B38: 2254 | C38: 14 | D38: 33 | E38: 1535 | F38: 14 | G38: 11 | H38: 1582 | I38: 32 | J38: 767 | K38: 14 | L38: 11 | M38: 813 | N38: 0 | O38: 2 | P38: 0 | Q38: 0 | R38: 2 | S38: 9 | T38: 42 | U38: 804 | V38: 32 | W38: 759 | X38: 14 | Y38: 805 | Z38: 805 | AA38: 2 | AB38: 48 | AC38: 40 | AD38: 40 | AE38: N | AF38: 66D found in 65D at opening & 66D found in 57C at count & 57C Found in 66D at count & 61B found in 66D at count
A39: 67A | B39: 2803 | C39: 9 | D39: 40 | E39: 1674 | F39: 13 | G39: 2 | H39: 1727 | I39: 37 | J39: 572 | K39: 9 | L39: 2 | M39: 618 | N39: 0 | O39: 5 | P39: 4 | Q39: 0 | R39: 9 | S39: 30 | T39: 31 | U39: 588 | V39: 36 | W39: 544 | X39: 9 | Y39: 589 | Z39: 589 | AA39: 1 | AB39: 48 | AC39: 40 | AD39: 40 | AE39: N | AF39: Poll judges short 1 ballot at closing & (+2) ballots at opening source unknown
A40: 67B | B40: 2029 | C40: 1 | D40: 38 | E40: 1398 | F40: 6 | G40: 5 | H40: 1442 | I40: 38 | J40: 616 | K40: 6 | L40: 5 | M40: 660 | N40: 0 | O40: 2 | P40: 0 | Q40: 0 | R40: 2 | S40: 17 | T40: 14 | U40: 643 | V40: 38 | W40: 600 | X40: 6 | Y40: 644 | Z40: 644 | AA40: 0 | AB40: 48 | AC40: 40 | AD40: 40 | AE40: N | AF40: 67B found in 62B at count
A41: 67C | B41: 1969 | C41: 2 | D41: 48 | E41: 1227 | F41: 10 | G41: 2 | H41: 1285 | I41: 48 | J41: 559 | K41: 8 | L41: 2 | M41: 615 | N41: 0 | O41: 2 | P41: 2 | Q41: 0 | R41: 4 | S41: 16 | T41: 10 | U41: 599 | V41: 48 | W41: 544 | X41: 8 | Y41: 600 | Z41: 600 | AA41: 0 | AB41: 48 | AC41: 40 | AD41: 40 | AE41: N | AF41: 67C found in 57C at count
A42: 67D | B42: 2215 | C42: 4 | D42: 33 | E42: 1413 | F42: 7 | G42: 4 | H42: 1453 | I42: 33 | J42: 555 | K42: 7 | L42: 4 | M42: 595 | N42: 0 | O42: 7 | P42: 0 | Q42: 0 | R42: 7 | S42: 15 | T42: 16 | U42: 580 | V42: 33 | W42: 541 | X42: 7 | Y42: 581 | Z42: 581 | AA42: 1 | AB42: 48 | AC42: 40 | AD42: 40 | AE42: N | AF42: (+1) source unkown
A43: 68A | B43: 1917 | C43: 2 | D43: 79 | E43: 1382 | F43: 7 | G43: 3 | H43: 1468 | I43: 79 | J43: 722 | K43: 7 | L43: 3 | M43: 808 | N43: 0 | O43: 6 | P43: 0 | Q43: 0 | R43: 6 | S43: 18 | T43: 10 | U43: 790 | V43: 79 | W43: 704 | X43: 7 | Y43: 790 | Z43: 790 | AA43: 0 | AB43: 48 | AC43: 40 | AD43: 40 | AE43: Y
A44: 68B | B44: 1967 | C44: 2 | D44: 39 | E44: 1423 | F44: 2 | G44: 4 | H44: 1464 | I44: 39 | J44: 639 | K44: 1 | L44: 4 | M44: 679 | N44: 0 | O44: 6 | P44: 1 | Q44: 0 | R44: 7 | S44: 24 | T44: 8 | U44: 655 | V44: 39 | W44: 615 | X44: 1 | Y44: 655 | Z44: 655 | AA44: 1 | AB44: 48 | AC44: 40 | AD44: 40 | AE44: N | AF44: 68B found in 68C at count & (-1)source unkown
A45: 68C | B45: 1883 | C45: 0 | D45: 47 | E45: 1221 | F45: 10 | G45: 0 | H45: 1278 | I45: 43 | J45: 481 | K45: 7 | L45: 0 | M45: 531 | N45: 0 | O45: 2 | P45: 3 | Q45: 0 | R45: 5 | S45: 10 | T45: 19 | U45: 521 | V45: 43 | W45: 471 | X45: 7 | Y45: 521 | Z45: 521 | AA45: 0 | AB45: 48 | AC45: 40 | AD45: 40 | AE45: N | AF45: 68B found in 68C at count & (+1)ballot at count
A46: 68D | B46: 1934 | C46: 0 | D46: 51 | E46: 1406 | F46: 3 | G46: 3 | H46: 1460 | I46: 51 | J46: 661 | K46: 2 | L46: 3 | M46: 714 | N46: 0 | O46: 2 | P46: 1 | Q46: 0 | R46: 3 | S46: 17 | T46: 11 | U46: 697 | V46: 51 | W46: 644 | X46: 2 | Y46: 697 | Z46: 697 | AA46: 2 | AB46: 48 | AC46: 40 | AD46: 40 | AE46: Y
A47: 69A | B47: 1518 | C47: 1 | D47: 37 | E47: 1050 | F47: 5 | G47: 0 | H47: 1092 | I47: 37 | J47: 469 | K47: 4 | L47: 0 | M47: 510 | N47: 0 | O47: 3 | P47: 1 | Q47: 0 | R47: 4 | S47: 26 | T47: 8 | U47: 484 | V47: 39 | W47: 443 | X47: 4 | Y47: 486 | Z47: 486 | AA47: 0 | AB47: 48 | AC47: 40 | AD47: 40 | AE47: N | AF47: Poll judges noted 2 unvoted party ballots placed in ballot box in error
A48: 77A | B48: 1641 | C48: 2 | D48: 37 | E48: 1129 | F48: 4 | G48: 1 | H48: 1170 | I48: 36 | J48: 451 | K48: 4 | L48: 1 | M48: 491 | N48: 0 | O48: 2 | P48: 0 | Q48: 0 | R48: 2 | S48: 14 | T48: 9 | U48: 477 | V48: 36 | W48: 437 | X48: 4 | Y48: 477 | Z48: 477 | AA48: 0 | AB48: 48 | AC48: 40 | AD48: 40 | AE48: Y
A49: 77B | B49: 1539 | C49: 0 | D49: 39 | E49: 1087 | F49: 1 | G49: 1 | H49: 1127 | I49: 38 | J49: 492 | K49: 1 | L49: 1 | M49: 531 | N49: 0 | O49: 4 | P49: 0 | Q49: 0 | R49: 4 | S49: 9 | T49: 12 | U49: 522 | V49: 38 | W49: 483 | X49: 1 | Y49: 522 | Z49: 522 | AA49: 0 | AB49: 48 | AC49: 40 | AD49: 40 | AE49: Y
A50: Total | B50: 96618 | C50: 163 | D50: 1351 | E50: 64617 | F50: 288 | G50: 251 | H50: 66256 | I50: 1321 | J50: 28517 | K50: 260 | L50: 251 | M50: 30098 | N50: 0 | O50: 210 | P50: 28 | Q50: 0 | R50: 238 | S50: 704 | T50: 885 | U50: 29394 | V50: 1322 | W50: 27820 | X50: 259 | Y50: 29401 | Z50: 29401 | AA50: 68 | AB50: 2208 | AC50: 1840 | AD50: 1840
B68: 948
B69: 193733

Sheet Garfield
A1: 2026 Primary Election Reconciliation Report - Garfield County
B2: Registered Voters | D2: Ballots Issued | I2: Ballots Accepted | N2: Ballots Rejected | U2: Votes Cast (Ballots Counted) | AB2: Test Ballots | AE2: Reconciled | AF2: Comments / Explanations
A3: Precinct | B3: Total | C3: Election Day | D3: Poll | E3: Absentee | F3: Provisional | G3: UOCAVA (included in Absentee Totals) | H3: Total | I3: Poll | J3: Absentee | K3: Provisional | L3: UOCAVA (included in Absentee Totals) | M3: Total | N3: Poll | O3: Absentee | P3: Provisional | Q3: UOCAVA (Included in Absentee Totals) | R3: Total Rejected - No Voter Credit Assigned | S3: Rejected by Prep Team - Post Voter Credit | T3: Total Ballots Voided | U3: Total Ballots Accepted - sent to count | V3: Poll | W3: Absentee | X3: Provisional | Y3: Subtotal of Counted Ballots | Z3: Total ballots counted - entered from tabulator / hand count report | AA3: UOCAVA (included in Absentee Totals) | AB3: Total Printed | AC3: Used for Testing | AD3: Counted | AE3: Y/N? | AF3: Note any variance and / or discrepancies
A4: PRECINCT 01 | B4: 518 | C4: 4 | D4: 78 | E4: 293 | F4: 0 | G4: 0 | H4: 371 | I4: 78 | J4: 152 | K4: 0 | L4: 0 | M4: 230 | N4: 0 | O4: 1 | P4: 0 | Q4: 0 | R4: 1 | S4: 0 | T4: 4 | U4: 232 | V4: 78 | W4: 156 | X4: 0 | Y4: 234 | Z4: 234 | AA4: 0 | AF4: 4 election day voters were issued regular ballots instead of provisional ballots.
A5: PRECINCT 07 | B5: 108 | C5: 0 | D5: 18 | E5: 70 | F5: 0 | G5: 0 | H5: 88 | I5: 18 | J5: 40 | K5: 0 | L5: 0 | M5: 58 | N5: 0 | O5: 1 | P5: 0 | Q5: 0 | R5: 1 | S5: 0 | T5: 0 | U5: 60 | V5: 18 | W5: 40 | X5: 0 | Y5: 58 | Z5: 58 | AA5: 0
A6: PRECINCT 14 | B6: 125 | C6: 0 | D6: 9 | E6: 88 | F6: 0 | G6: 0 | H6: 97 | I6: 9 | J6: 59 | K6: 0 | L6: 0 | M6: 68 | N6: 0 | O6: 1 | P6: 0 | Q6: 0 | R6: 1 | S6: 0 | T6: 0 | U6: 68 | V6: 9 | W6: 59 | X6: 0 | Y6: 68 | Z6: 68 | AA6: 0
A7: PRECINCT 19 | B7: 113 | C7: 0 | D7: 22 | E7: 57 | F7: 0 | G7: 0 | H7: 79 | I7: 22 | J7: 30 | K7: 0 | L7: 0 | M7: 52 | N7: 0 | O7: 0 | P7: 0 | Q7: 0 | R7: 0 | S7: 0 | T7: 2 | U7: 52 | V7: 22 | W7: 30 | X7: 0 | Y7: 52 | Z7: 52 | AA7: 0
A8: Total | B8: 864 | C8: 4 | D8: 127 | E8: 508 | F8: 0 | G8: 0 | H8: 635 | I8: 127 | J8: 281 | K8: 0 | L8: 0 | M8: 408 | N8: 0 | O8: 3 | P8: 0 | Q8: 0 | R8: 3 | S8: 0 | T8: 6 | U8: 412 | V8: 127 | W8: 285 | X8: 0 | Y8: 412 | Z8: 412 | AA8: 0
B68: 948
B69: 3656

Sheet Glacier
A1: 2026 Primary Election Reconciliation Report - Glacier County
B2: Registered Voters | D2: Ballots Issued | I2: Ballots Accepted | N2: Ballots Rejected | U2: Votes Cast (Ballots Counted) | AB2: Test Ballots | AE2: Reconciled | AF2: Comments / Explanations
A3: Precinct | B3: Total | C3: Election Day | D3: Poll | E3: Absentee | F3: Provisional | G3: UOCAVA (included in Absentee Totals) | H3: Total | I3: Poll | J3: Absentee | K3: Provisional | L3: UOCAVA (included in Absentee Totals) | M3: Total | N3: Poll | O3: Absentee | P3: Provisional | Q3: UOCAVA (Included in Absentee Totals) | R3: Total Rejected - No Voter Credit Assigned | S3: Rejected by Prep Team - Post Voter Credit | T3: Total Ballots Voided | U3: Total Ballots Accepted - sent to count | V3: Poll | W3: Absentee | X3: Provisional | Y3: Subtotal of Counted Ballots | Z3: Total ballots counted - entered from tabulator / hand count report | AA3: UOCAVA (included in Absentee Totals) | AB3: Total Printed | AC3: Used for Testing | AD3: Counted | AE3: Y/N? | AF3: Note any variance and / or discrepancies
A4: PCT 01 | B4: 550 | C4: 2 | D4: 41 | E4: 346 | F4: 2 | G4: 0 | H4: 389 | I4: 41 | J4: 179 | K4: 2 | L4: 0 | M4: 222 | N4: 0 | O4: 2 | P4: 0 | Q4: 0 | R4: 2 | S4: 0 | T4: 2 | U4: 220 | V4: 41 | W4: 179 | Y4: 220 | Z4: 220 | AB4: 9 | AC4: 9 | AD4: 9
A5: PCT 02 | B5: 485 | C5: 1 | D5: 30 | E5: 277 | F5: 0 | G5: 0 | H5: 307 | I5: 30 | J5: 136 | K5: 0 | L5: 0 | M5: 166 | N5: 0 | O5: 0 | R5: 0 | S5: 3 | T5: 3 | U5: 163 | V5: 30 | W5: 133 | Y5: 163 | Z5: 163 | AB5: 9 | AC5: 9 | AD5: 9
A6: PCT 03 | B6: 412 | C6: 1 | D6: 30 | E6: 229 | F6: 8 | G6: 0 | H6: 267 | I6: 30 | J6: 127 | K6: 8 | L6: 0 | M6: 165 | N6: 0 | O6: 0 | R6: 0 | S6: 5 | T6: 5 | U6: 160 | V6: 30 | W6: 130 | Y6: 160 | Z6: 160 | AB6: 9 | AC6: 9 | AD6: 9
A7: PCT 04 | B7: 309 | C7: 3 | D7: 23 | E7: 157 | F7: 2 | G7: 0 | H7: 182 | I7: 23 | J7: 78 | K7: 2 | L7: 0 | M7: 103 | N7: 0 | O7: 0 | R7: 0 | S7: 2 | T7: 2 | U7: 101 | V7: 23 | W7: 78 | Y7: 101 | Z7: 101 | AB7: 9 | AC7: 9 | AD7: 9
A8: PCT 05 | B8: 735 | C8: 3 | D8: 48 | E8: 437 | F8: 7 | H8: 492 | I8: 48 | J8: 249 | K8: 11 | L8: 0 | M8: 308 | N8: 0 | O8: 1 | P8: 0 | R8: 4 | S8: 9 | T8: 13 | U8: 295 | V8: 48 | W8: 247 | Y8: 295 | Z8: 295 | AB8: 9 | AC8: 9 | AD8: 9
A9: PCT 06 | B9: 92 | C9: 0 | D9: 2 | E9: 68 | F9: 0 | G9: 0 | H9: 70 | I9: 2 | J9: 45 | K9: 0 | L9: 0 | M9: 47 | N9: 0 | O9: 0 | R9: 0 | S9: 1 | T9: 2 | U9: 46 | V9: 2 | W9: 47 | Y9: 49 | Z9: 49 | AB9: 9 | AC9: 9 | AD9: 9
A10: PCT 07 | B10: 105 | C10: 1 | D10: 8 | E10: 69 | F10: 0 | G10: 0 | H10: 77 | I10: 8 | J10: 35 | K10: 0 | L10: 0 | M10: 43 | N10: 0 | O10: 1 | R10: 1 | S10: 1 | T10: 2 | U10: 42 | V10: 8 | W10: 34 | Y10: 42 | Z10: 42 | AB10: 9 | AC10: 9 | AD10: 9
A11: PCT 08 | B11: 787 | C11: 14 | D11: 65 | E11: 454 | F11: 2 | G11: 1 | H11: 521 | I11: 65 | J11: 195 | K11: 3 | L11: 0 | M11: 263 | N11: 0 | O11: 0 | R11: 0 | S11: 4 | T11: 4 | U11: 259 | V11: 65 | W11: 194 | Y11: 259 | Z11: 259 | AB11: 9 | AC11: 9 | AD11: 9
A12: PCT 09 | B12: 1994 | C12: 30 | D12: 175 | E12: 1043 | F12: 1 | H12: 1219 | I12: 175 | J12: 361 | K12: 1 | L12: 0 | M12: 537 | N12: 0 | O12: 1 | R12: 1 | S12: 11 | T12: 9 | U12: 517 | V12: 175 | W12: 339 | Y12: 514 | Z12: 514 | AB12: 10 | AC12: 10 | AD12: 10
A13: PCT 10 | B13: 364 | C13: 3 | D13: 18 | E13: 222 | F13: 12 | G13: 0 | H13: 252 | I13: 18 | J13: 105 | K13: 11 | L13: 0 | M13: 134 | N13: 0 | O13: 1 | P13: 0 | R13: 1 | S13: 8 | T13: 9 | U13: 136 | V13: 18 | W13: 118 | Y13: 136 | Z13: 136 | AB13: 10 | AC13: 10 | AD13: 10
A14: PCT 11 | B14: 270 | C14: 1 | D14: 6 | E14: 139 | F14: 0 | G14: 0 | H14: 145 | I14: 6 | J14: 62 | K14: 0 | L14: 0 | M14: 68 | N14: 0 | O14: 0 | R14: 0 | S14: 3 | T14: 3 | U14: 65 | V14: 6 | W14: 59 | Y14: 65 | Z14: 65 | AB14: 9 | AC14: 9 | AD14: 9
A15: PCT 12 | B15: 365 | C15: 5 | D15: 22 | E15: 207 | F15: 0 | G15: 1 | H15: 229 | I15: 22 | J15: 78 | K15: 0 | L15: 0 | M15: 100 | N15: 0 | O15: 1 | R15: 1 | S15: 0 | T15: 2 | U15: 100 | V15: 22 | W15: 78 | Y15: 100 | Z15: 100 | AB15: 9 | AC15: 9 | AD15: 9
A16: PCT 13 | B16: 203 | C16: 3 | D16: 10 | E16: 97 | F16: 0 | G16: 0 | H16: 107 | I16: 10 | J16: 30 | K16: 0 | L16: 0 | M16: 40 | N16: 0 | O16: 0 | R16: 0 | S16: 4 | T16: 4 | U16: 36 | V16: 10 | W16: 26 | Y16: 36 | Z16: 36 | AB16: 9 | AC16: 9 | AD16: 9
A17: PCT 15 | B17: 362 | C17: 3 | D17: 29 | E17: 223 | F17: 9 | G17: 0 | H17: 261 | I17: 29 | J17: 113 | K17: 9 | L17: 0 | M17: 151 | N17: 0 | O17: 0 | R17: 0 | S17: 6 | T17: 6 | U17: 145 | V17: 29 | W17: 116 | Y17: 145 | Z17: 145 | AB17: 9 | AC17: 9 | AD17: 9
A18: PCT 19 | B18: 267 | C18: 2 | D18: 18 | E18: 138 | F18: 0 | G18: 0 | H18: 156 | I18: 18 | J18: 47 | K18: 0 | L18: 0 | M18: 65 | N18: 0 | R18: 0 | S18: 2 | T18: 3 | U18: 62 | V18: 18 | W18: 44 | Y18: 62 | Z18: 62 | AB18: 9 | AC18: 9 | AD18: 9
A19: PCT 21C | B19: 493 | C19: 4 | D19: 28 | E19: 222 | F19: 0 | G19: 0 | H19: 250 | I19: 28 | J19: 51 | K19: 0 | L19: 0 | M19: 79 | N19: 0 | O19: 0 | R19: 0 | S19: 0 | T19: 0 | U19: 79 | V19: 28 | W19: 51 | Y19: 79 | Z19: 79 | AB19: 9 | AC19: 9 | AD19: 9
A20: Total | B20: 7793 | C20: 76 | D20: 553 | E20: 4328 | F20: 43 | G20: 2 | H20: 4924 | I20: 553 | J20: 1891 | K20: 47 | L20: 0 | M20: 2491 | N20: 0 | O20: 7 | P20: 0 | Q20: 0 | R20: 10 | S20: 59 | T20: 69 | U20: 2426 | V20: 553 | W20: 1873 | Y20: 2426 | Z20: 2426 | AA20: 0 | AB20: 146 | AC20: 146 | AD20: 146
B68: 948
B69: 17227

Sheet Golden Valley
A1: 2026 Primary Election Reconciliation Report - Golden Valley County
B2: Registered Voters | D2: Ballots Issued | I2: Ballots Accepted | N2: Ballots Rejected | U2: Votes Cast (Ballots Counted) | AB2: Test Ballots | AE2: Reconciled | AF2: Comments / Explanations
A3: Precinct | B3: Total | C3: Election Day | D3: Poll | E3: Absentee | F3: Provisional | G3: UOCAVA (included in Absentee Totals) | H3: Total | I3: Poll | J3: Absentee | K3: Provisional | L3: UOCAVA (included in Absentee Totals) | M3: Total | N3: Poll | O3: Absentee | P3: Provisional | Q3: UOCAVA (Included in Absentee Totals) | R3: Total Rejected - No Voter Credit Assigned | S3: Rejected by Prep Team - Post Voter Credit | T3: Total Ballots Voided | U3: Total Ballots Accepted - sent to count | V3: Poll | W3: Absentee | X3: Provisional | Y3: Subtotal of Counted Ballots | Z3: Total ballots counted - entered from tabulator / hand count report | AA3: UOCAVA (included in Absentee Totals) | AB3: Total Printed | AC3: Used for Testing | AD3: Counted | AE3: Y/N? | AF3: Note any variance and / or discrepancies
A4: LAVINA | B4: 292 | C4: 1 | D4: 18 | E4: 183 | F4: 0 | G4: 1 | H4: 201 | I4: 18 | J4: 110 | K4: 0 | L4: 0 | M4: 128 | N4: 0 | O4: 7 | P4: 0 | R4: 7 | S4: 2 | T4: 0 | U4: 126 | V4: 18 | W4: 108 | Y4: 126 | Z4: 126 | AE4: Y | AF4: 2 Voters Voted all three ballots
A5: RYEGATE | B5: 313 | C5: 0 | D5: 19 | E5: 235 | F5: 0 | G5: 0 | H5: 254 | I5: 19 | J5: 149 | M5: 168 | O5: 0 | R5: 0 | S5: 3 | T5: 3 | U5: 165 | V5: 19 | W5: 146 | Y5: 165 | Z5: 165 | AE5: Y | AF5: 3 Voters Voted all three ballots
A6: Total | B6: =SUM(B4:B5) -> 605 | C6: 1 | D6: 37 | E6: 418 | F6: 0 | G6: 1 | H6: 455 | I6: 37 | J6: 259 | K6: 0 | L6: 0 | M6: 296 | N6: 0 | O6: 7 | P6: 0 | Q6: 0 | R6: 7 | S6: 5 | T6: 3 | U6: 291 | V6: 37 | W6: 254 | X6: 0 | Y6: 291 | Z6: 291 | AA6: 0 | AB6: 0 | AC6: 0 | AD6: 0
AF7: All Ballots go to count we do not have a prep team.
B68: 948
B69: 2658

Sheet Granite
A1: 2026 Primary Election Reconciliation Report - Granite County
B2: Registered Voters | D2: Ballots Issued | I2: Ballots Accepted | N2: Ballots Rejected | U2: Votes Cast (Ballots Counted) | AB2: Test Ballots | AE2: Reconciled | AF2: Comments / Explanations
A3: Precinct | B3: Total | C3: Election Day | D3: Poll | E3: Absentee | F3: Provisional | G3: UOCAVA (included in Absentee Totals) | H3: Total | I3: Poll | J3: Absentee | K3: Provisional | L3: UOCAVA (included in Absentee Totals) | M3: Total | N3: Poll | O3: Absentee | P3: Provisional | Q3: UOCAVA (Included in Absentee Totals) | R3: Total Rejected - No Voter Credit Assigned | S3: Rejected by Prep Team - Post Voter Credit | T3: Total Ballots Voided | U3: Total Ballots Accepted - sent to count | V3: Poll | W3: Absentee | X3: Provisional | Y3: Subtotal of Counted Ballots | Z3: Total ballots counted - entered from tabulator / hand count report | AA3: UOCAVA (included in Absentee Totals) | AB3: Total Printed | AC3: Used for Testing | AD3: Counted | AE3: Y/N? | AF3: Note any variance and / or discrepancies
A4: PRECINCT #1 | B4: 724 | C4: 1 | D4: 76 | E4: 429 | F4: 1 | G4: 1 | H4: 506 | I4: 76 | J4: 271 | K4: 1 | L4: 1 | M4: 348 | N4: 0 | O4: 4 | P4: 0 | Q4: 0 | R4: 4 | S4: 5 | T4: 2 | U4: 343 | V4: 76 | W4: 266 | X4: 1 | Y4: 343 | Z4: 343 | AA4: 1 | AB4: 30 | AC4: 30 | AD4: 30 | AE4: Y
A5: PRECINCT #10 | B5: 696 | C5: 0 | D5: 85 | E5: 400 | F5: 1 | G5: 1 | H5: 486 | I5: 84 | J5: 228 | K5: 1 | L5: 0 | M5: 313 | N5: 1 | O5: 1 | P5: 0 | Q5: 0 | R5: 2 | S5: 5 | T5: 4 | U5: 308 | V5: 84 | W5: 223 | X5: 1 | Y5: 308 | Z5: 308 | AA5: 0 | AB5: 30 | AC5: 30 | AD5: 30 | AE5: Y
A6: PRECINCT #2 | B6: 801 | C6: 0 | D6: 100 | E6: 467 | F6: 0 | G6: 2 | H6: 567 | I6: 100 | J6: 310 | K6: 0 | L6: 1 | M6: 410 | N6: 0 | O6: 0 | P6: 0 | Q6: 0 | R6: 0 | S6: 12 | T6: 13 | U6: 398 | V6: 100 | W6: 298 | X6: 0 | Y6: 398 | Z6: 398 | AA6: 1 | AB6: 30 | AC6: 30 | AD6: 30 | AE6: Y
A7: PRECINCT #9 | B7: 529 | C7: 0 | D7: 89 | E7: 274 | F7: 1 | G7: 0 | H7: 364 | I7: 89 | J7: 155 | K7: 1 | L7: 0 | M7: 245 | N7: 0 | O7: 2 | P7: 0 | Q7: 0 | R7: 2 | S7: 3 | T7: 3 | U7: 242 | V7: 89 | W7: 152 | X7: 1 | Y7: 242 | Z7: 242 | AA7: 0 | AB7: 10 | AC7: 10 | AD7: 10 | AE7: Y
A8: Total | B8: 2750 | C8: 1 | D8: 350 | E8: 1570 | F8: 3 | G8: 4 | H8: 1923 | I8: 349 | J8: 964 | K8: 3 | L8: 2 | M8: 1316 | N8: 1 | O8: 7 | P8: 0 | Q8: 0 | R8: 8 | S8: 25 | T8: 22 | U8: 1291 | V8: 349 | W8: 939 | X8: 3 | Y8: 1291 | Z8: 1291 | AA8: 2 | AB8: 100 | AC8: 100 | AD8: 100
B68: 948
B69: 6752

Sheet Hill
A1: 2026 Primary Election Reconciliation Report - Hill County
B2: Registered Voters | D2: Ballots Issued | I2: Ballots Accepted | N2: Ballots Rejected | U2: Votes Cast (Ballots Counted) | AB2: Test Ballots | AE2: Reconciled | AF2: Comments / Explanations
A3: Precinct | B3: Total | C3: Election Day | D3: Poll | E3: Absentee | F3: Provisional | G3: UOCAVA (included in Absentee Totals) | H3: Total | I3: Poll | J3: Absentee | K3: Provisional | L3: UOCAVA (included in Absentee Totals) | M3: Total | N3: Poll | O3: Absentee | P3: Provisional | Q3: UOCAVA (Included in Absentee Totals) | R3: Total Rejected - No Voter Credit Assigned | S3: Rejected by Prep Team - Post Voter Credit | T3: Total Ballots Voided | U3: Total Ballots Accepted - sent to count | V3: Poll | W3: Absentee | X3: Provisional | Y3: Subtotal of Counted Ballots | Z3: Total ballots counted - entered from tabulator / hand count report | AA3: UOCAVA (included in Absentee Totals) | AB3: Total Printed | AC3: Used for Testing | AD3: Counted | AE3: Y/N? | AF3: Note any variance and / or discrepancies
A4: PRECINCT #01 | B4: 867 | C4: 1 | D4: 17 | E4: 506 | F4: 0 | G4: 1 | H4: 523 | I4: 17 | J4: 272 | K4: 0 | L4: 0 | M4: 289 | N4: 0 | O4: 1 | P4: 0 | Q4: 0 | R4: 1 | S4: 6 | T4: 5 | U4: 282 | V4: 17 | W4: 265 | X4: 0 | Y4: 282 | Z4: 282 | AA4: 0 | AB4: 11 | AC4: 12 | AD4: 12 | AE4: yes
A5: PRECINCT #02 | B5: 504 | C5: 0 | D5: 12 | E5: 245 | F5: 0 | G5: 2 | H5: 257 | I5: 12 | J5: 120 | K5: 0 | L5: 0 | M5: 132 | N5: 0 | O5: 2 | P5: 0 | Q5: 0 | R5: 2 | S5: 3 | T5: 2 | U5: 126 | V5: 12 | W5: 114 | X5: 0 | Y5: 126 | Z5: 126 | AA5: 0 | AB5: 9 | AC5: 10 | AD5: 10 | AE5: yes
A6: PRECINCT #03 | B6: 750 | C6: 0 | D6: 27 | E6: 481 | F6: 1 | G6: 1 | H6: 509 | I6: 26 | J6: 281 | K6: 1 | L6: 0 | M6: 308 | N6: 0 | O6: 1 | P6: 0 | Q6: 0 | R6: 1 | S6: 7 | T6: 3 | U6: 301 | V6: 26 | W6: 274 | X6: 1 | Y6: 301 | Z6: 301 | AA6: 0 | AB6: 9 | AC6: 10 | AD6: 10 | AE6: yes
A7: PRECINCT #07 | B7: 889 | C7: 1 | D7: 22 | E7: 550 | F7: 4 | G7: 0 | H7: 576 | I7: 18 | J7: 317 | K7: 4 | L7: 0 | M7: 339 | N7: 0 | O7: 1 | P7: 0 | Q7: 0 | R7: 1 | S7: 6 | T7: 2 | U7: 333 | V7: 18 | W7: 311 | X7: 4 | Y7: 333 | Z7: 333 | AA7: 0 | AB7: 9 | AC7: 10 | AD7: 10 | AE7: yes
A8: PRECINCT #08 | B8: 729 | C8: 1 | D8: 34 | E8: 508 | F8: 2 | G8: 1 | H8: 544 | I8: 31 | J8: 322 | K8: 2 | L8: 0 | M8: 355 | N8: 0 | O8: 1 | P8: 0 | Q8: 0 | R8: 1 | S8: 7 | T8: 1 | U8: 346 | V8: 31 | W8: 313 | X8: 2 | Y8: 346 | Z8: 346 | AA8: 0 | AB8: 9 | AC8: 11 | AD8: 11 | AE8: yes
A9: PRECINCT #09 | B9: 659 | C9: 0 | D9: 16 | E9: 461 | F9: 0 | G9: 0 | H9: 477 | I9: 16 | J9: 263 | K9: 0 | L9: 0 | M9: 279 | N9: 0 | O9: 2 | P9: 0 | Q9: 0 | R9: 2 | S9: 13 | T9: 8 | U9: 265 | V9: 16 | W9: 249 | X9: 0 | Y9: 265 | Z9: 265 | AA9: 0 | AB9: 9 | AC9: 10 | AD9: 10 | AE9: yes
A10: PRECINCT #10 | B10: 521 | C10: 1 | D10: 12 | E10: 267 | F10: 0 | G10: 1 | H10: 279 | I10: 10 | J10: 127 | K10: 0 | L10: 0 | M10: 137 | N10: 0 | O10: 2 | P10: 0 | Q10: 0 | R10: 2 | S10: 1 | T10: 4 | U10: 126 | V10: 10 | W10: 126 | X10: 0 | Y10: 126 | Z10: 126 | AA10: 0 | AB10: 9 | AC10: 11 | AD10: 126 | AE10: yes
A11: PRECINCT #13 | B11: 338 | C11: 0 | D11: 7 | E11: 218 | F11: 0 | G11: 1 | H11: 225 | I11: 7 | J11: 134 | K11: 0 | L11: 0 | M11: 141 | N11: 0 | O11: 0 | P11: 0 | Q11: 0 | R11: 0 | S11: 9 | T11: 2 | U11: 134 | V11: 7 | W11: 127 | X11: 0 | Y11: 134 | Z11: 134 | AA11: 0 | AB11: 9 | AC11: 9 | AD11: 9 | AE11: yes
A12: PRECINCT #14 | B12: 474 | C12: 0 | D12: 18 | E12: 335 | F12: 0 | G12: 1 | H12: 353 | I12: 18 | J12: 193 | K12: 0 | L12: 1 | M12: 211 | N12: 0 | O12: 0 | P12: 0 | Q12: 0 | R12: 0 | S12: 11 | T12: 1 | U12: 203 | V12: 18 | W12: 185 | X12: 0 | Y12: 203 | Z12: 203 | AA12: 1 | AB12: 9 | AC12: 10 | AD12: 10 | AE12: yes
A13: PRECINCT #15 | B13: 291 | C13: 0 | D13: 17 | E13: 205 | F13: 0 | G13: 1 | H13: 222 | I13: 17 | J13: 115 | K13: 0 | L13: 1 | M13: 132 | N13: 0 | O13: 0 | P13: 0 | Q13: 0 | R13: 0 | S13: 12 | T13: 8 | U13: 128 | V13: 17 | W13: 111 | X13: 0 | Y13: 128 | Z13: 128 | AA13: 1 | AB13: 9 | AC13: 11 | AD13: 11 | AE13: yes
A14: PRECINCT #16 | B14: 757 | C14: 0 | D14: 32 | E14: 476 | F14: 0 | G14: 0 | H14: 508 | I14: 32 | J14: 247 | K14: 0 | L14: 0 | M14: 279 | N14: 0 | O14: 1 | P14: 0 | Q14: 0 | R14: 1 | S14: 9 | T14: 3 | U14: 269 | V14: 32 | W14: 237 | X14: 0 | Y14: 269 | Z14: 269 | AA14: 0 | AB14: 9 | AC14: 10 | AD14: 10 | AE14: yes
A15: PRECINCT #18 | B15: 251 | C15: 1 | D15: 18 | E15: 113 | F15: 5 | G15: 0 | H15: 136 | I15: 14 | J15: 30 | K15: 5 | L15: 0 | M15: 49 | N15: 0 | O15: 1 | P15: 0 | Q15: 0 | R15: 1 | S15: 3 | T15: 1 | U15: 45 | V15: 14 | W15: 26 | X15: 5 | Y15: 45 | Z15: 45 | AA15: 0 | AB15: 9 | AC15: 10 | AD15: 10 | AE15: yes
... A20: PRECINCT #28 | B20: 924 | C20: 3 | D20: 62 | E20: 334 | F20: 7 | G20: 0 | H20: 403 | I20: 50 | J20: 51 | K20: 6 | L20: 0 | M20: 107 | N20: 0 | O20: 1 | P20: 1 | Q20: 0 | R20: 2 | S20: 9 | T20: 1 | U20: 96 | V20: 50 | W20: 40 | X20: 6 | Y20: 96 | Z20: 96 | AA20: 0 | AB20: 9 | AC20: 10 | AD20: 9 | AE20: yes
A21: Total | B21: 9242 | C21: 9 | D21: 369 | E21: 5636 | F21: 20 | G21: 9 | H21: 6025 | I21: 342 | J21: 3114 | K21: 19 | L21: 2 | M21: 3475 | N21: 0 | O21: 18 | P21: 1 | Q21: 0 | R21: 19 | S21: 103 | T21: 49 | U21: 3362 | V21: 343 | W21: 3010 | X21: 19 | Y21: 3362 | Z21: 3362 | AA21: 2 | AB21: 155 | AC21: 170 | AD21: 284 | AF21: comment attached
B68: 948
B69: 19787

Sheet Jefferson
A1: 2026 Primary Election Reconciliation Report - Jefferson County
B2: Registered Voters | D2: Ballots Issued | I2: Ballots Accepted | N2: Ballots Rejected | U2: Votes Cast (Ballots Counted) | AB2: Test Ballots | AE2: Reconciled | AF2: Comments / Explanations
A3: Precinct | B3: Total | C3: Election Day | D3: Poll | E3: Absentee | F3: Provisional | G3: UOCAVA (included in Absentee Totals) | H3: Total | I3: Poll | J3: Absentee | K3: Provisional | L3: UOCAVA (included in Absentee Totals) | M3: Total | N3: Poll | O3: Absentee | P3: Provisional | Q3: UOCAVA (Included in Absentee Totals) | R3: Total Rejected - No Voter Credit Assigned | S3: Rejected by Prep Team - Post Voter Credit | T3: Total Ballots Voided | U3: Total Ballots Accepted - sent to count | V3: Poll | W3: Absentee | X3: Provisional | Y3: Subtotal of Counted Ballots | Z3: Total ballots counted - entered from tabulator / hand count report | AA3: UOCAVA (included in Absentee Totals) | AB3: Total Printed | AC3: Used for Testing | AD3: Counted | AE3: Y/N? | AF3: Note any variance and / or discrepancies
A4: 01-69 | B4: 541 | C4: 0 | D4: 38 | E4: 356 | F4: 0 | G4: 0 | H4: 394 | I4: 38 | J4: 164 | K4: 0 | L4: 0 | M4: 202 | O4: 2 | P4: 0 | Q4: 0 | R4: 2 | S4: 3 | T4: 3 | U4: 199 | V4: 38 | W4: 161 | X4: 0 | Y4: 199 | Z4: 199 | AA4: 0 | AB4: 0 | AC4: 27 | AD4: 22 | AE4: Y | AF4: *no ballots were printed specifically for testing, absentee and polling place ballots were pulled from from the bottom of each party in ea. Prec. For testing not all were used.
A5: 02-75 | B5: 1828 | C5: 0 | D5: 129 | E5: 1120 | F5: 0 | G5: 4 | H5: 1249 | I5: 129 | J5: 650 | K5: 0 | L5: 2 | M5: 779 | O5: 6 | P5: 0 | Q5: 0 | R5: 6 | S5: 11 | T5: 8 | U5: 768 | V5: 129 | W5: 639 | X5: 0 | Y5: 768 | Z5: 768 | AA5: 2 | AB5: 0 | AC5: 27 | AD5: 22 | AE5: Y
A6: 03-75 | B6: 460 | C6: 0 | D6: 35 | E6: 265 | F6: 0 | G6: 1 | H6: 300 | I6: 35 | J6: 151 | K6: 0 | L6: 1 | M6: 186 | O6: 1 | P6: 0 | Q6: 0 | R6: 1 | S6: 2 | T6: 3 | U6: 184 | V6: 35 | W6: 149 | X6: 0 | Y6: 184 | Z6: 184 | AA6: 1 | AB6: 0 | AC6: 27 | AD6: 22 | AE6: Y
A7: 04-75 | B7: 1485 | C7: 3 | D7: 88 | E7: 886 | F7: 1 | G7: 4 | H7: 975 | I7: 88 | J7: 470 | K7: 1 | L7: 1 | M7: 559 | O7: 14 | P7: 0 | Q7: 0 | R7: 14 | S7: 17 | T7: 25 | U7: 542 | V7: 88 | W7: 453 | X7: 1 | Y7: 542 | Z7: 542 | AA7: 1 | AB7: 0 | AC7: 27 | AD7: 17 | AE7: Y
A8: 05-75 | B8: 220 | C8: 0 | D8: 21 | E8: 118 | F8: 0 | G8: 2 | H8: 139 | I8: 20 | J8: 62 | K8: 0 | L8: 2 | M8: 82 | N8: 1 | O8: 0 | P8: 0 | Q8: 0 | R8: 1 | S8: 1 | T8: 1 | U8: 81 | V8: 20 | W8: 61 | X8: 0 | Y8: 81 | Z8: 81 | AA8: 2 | AB8: 0 | AC8: 27 | AD8: 20 | AE8: Y
A9: 06-75 | B9: 759 | C9: 0 | D9: 44 | E9: 501 | F9: 0 | G9: 2 | H9: 545 | I9: 44 | J9: 224 | K9: 0 | L9: 0 | M9: 268 | O9: 5 | P9: 0 | Q9: 0 | R9: 5 | S9: 2 | T9: 8 | U9: 266 | V9: 44 | W9: 222 | X9: 0 | Y9: 266 | Z9: 266 | AA9: 0 | AB9: 0 | AC9: 27 | AD9: 22 | AE9: Y
A10: 07-75 | B10: 1277 | C10: 1 | D10: 55 | E10: 887 | F10: 0 | G10: 6 | H10: 942 | I10: 54 | J10: 436 | K10: 0 | L10: 5 | M10: 490 | N10: 1 | O10: 12 | P10: 0 | Q10: 0 | R10: 13 | S10: 9 | T10: 9 | U10: 481 | V10: 54 | W10: 427 | X10: 0 | Y10: 481 | Z10: 481 | AA10: 5 | AB10: 0 | AC10: 27 | AD10: 22 | AE10: Y
A11: 08-75 | B11: 674 | C11: 1 | D11: 33 | E11: 472 | F11: 1 | G11: 0 | H11: 506 | I11: 32 | J11: 230 | K11: 1 | L11: 0 | M11: 263 | N11: 1 | O11: 7 | P11: 0 | Q11: 0 | R11: 8 | S11: 3 | T11: 7 | U11: 260 | V11: 32 | W11: 227 | X11: 1 | Y11: 260 | Z11: 260 | AA11: 0 | AB11: 0 | AC11: 27 | AD11: 21 | AE11: Y | AF11: many absentees were rejected due to multiple party ballots being returned
A12: 09-75 | B12: 1309 | C12: 0 | D12: 54 | E12: 957 | F12: 0 | G12: 4 | H12: 1011 | I12: 54 | J12: 503 | K12: 0 | L12: 2 | M12: 557 | O12: 29 | P12: 0 | Q12: 0 | R12: 29 | S12: 8 | T12: 5 | U12: 549 | V12: 54 | W12: 495 | X12: 0 | Y12: 549 | Z12: 549 | AA12: 2 | AB12: 0 | AC12: 27 | AD12: 21 | AE12: Y
A13: 10-75 | B13: 957 | C13: 0 | D13: 38 | E13: 674 | F13: 0 | G13: 3 | H13: 712 | I13: 37 | J13: 363 | K13: 0 | L13: 3 | M13: 400 | N13: 1 | O13: 9 | P13: 0 | Q13: 0 | R13: 10 | S13: 7 | T13: 5 | U13: 393 | V13: 37 | W13: 356 | X13: 0 | Y13: 393 | Z13: 393 | AA13: 3 | AB13: 0 | AC13: 27 | AD13: 23 | AE13: Y
A14: 11-79 | B14: 528 | C14: 0 | D14: 14 | E14: 412 | F14: 0 | G14: 1 | H14: 426 | I14: 14 | J14: 218 | K14: 0 | L14: 1 | M14: 232 | O14: 5 | P14: 0 | Q14: 0 | R14: 5 | S14: 5 | T14: 5 | U14: 227 | V14: 14 | W14: 213 | X14: 0 | Y14: 227 | Z14: 227 | AA14: 1 | AB14: 0 | AC14: 27 | AD14: 22 | AE14: Y
A15: 12-75 | B15: 93 | C15: 0 | D15: 15 | E15: 59 | F15: 0 | G15: 0 | H15: 74 | I15: 15 | J15: 33 | K15: 0 | L15: 0 | M15: 48 | O15: 0 | P15: 0 | Q15: 0 | R15: 0 | S15: 0 | T15: 2 | U15: 48 | V15: 15 | W15: 33 | X15: 0 | Y15: 48 | Z15: 48 | AA15: 0 | AB15: 0 | AC15: 27 | AD15: 23 | AE15: Y
A16: Total | B16: 10131 | C16: 5 | D16: 564 | E16: 6707 | F16: 2 | G16: 27 | H16: 7273 | I16: 560 | J16: 3504 | K16: 2 | L16: 17 | M16: 4066 | N16: 4 | O16: 90 | P16: 0 | Q16: 0 | R16: 94 | S16: 68 | T16: 81 | U16: 3998 | V16: 560 | W16: 3436 | X16: 2 | Y16: 3998 | Z16: 3998 | AA16: 17 | AB16: 0 | AC16: 324 | AD16: 257
B68: 948
B69: 21855

Sheet Judith Basin
A1: 2026 Primary Election Reconciliation Report - Judith Basin County
B2: Registered Voters | D2: Ballots Issued | I2: Ballots Accepted | N2: Ballots Rejected | U2: Votes Cast (Ballots Counted) | AB2: Test Ballots | AE2: Reconciled | AF2: Comments / Explanations
A3: Precinct | B3: Total | C3: Election Day | D3: Poll | E3: Absentee | F3: Provisional | G3: UOCAVA (included in Absentee Totals) | H3: Total | I3: Poll | J3: Absentee | K3: Provisional | L3: UOCAVA (included in Absentee Totals) | M3: Total | N3: Poll | O3: Absentee | P3: Provisional | Q3: UOCAVA (Included in Absentee Totals) | R3: Total Rejected - No Voter Credit Assigned | S3: Rejected by Prep Team - Post Voter Credit | T3: Total Ballots Voided | U3: Total Ballots Accepted - sent to count | V3: Poll | W3: Absentee | X3: Provisional | Y3: Subtotal of Counted Ballots | Z3: Total ballots counted - entered from tabulator / hand count report | AA3: UOCAVA (included in Absentee Totals) | AB3: Total Printed | AC3: Used for Testing | AD3: Counted | AE3: Y/N? | AF3: Note any variance and / or discrepancies
A4: PRECINCT 1 | B4: 149 | C4: 0 | D4: 18 | E4: 85 | F4: 0 | G4: 2 | H4: 103 | I4: 18 | J4: 44 | K4: 0 | L4: 2 | M4: 62 | O4: 1 | P4: 0 | Q4: 0 | R4: 1 | S4: 2 | T4: 0 | U4: 60 | V4: 18 | W4: 42 | Y4: 60 | Z4: 60 | AA4: 2 | AB4: 50 | AC4: 30 | AD4: 30 | AE4: Y
A5: PRECINCT 2 | B5: 192 | C5: 0 | D5: 32 | E5: 113 | F5: 0 | G5: 0 | H5: 145 | I5: 32 | J5: 59 | K5: 0 | L5: 0 | M5: 91 | O5: 4 | P5: 0 | Q5: 0 | R5: 4 | S5: 3 | T5: 0 | U5: 88 | V5: 32 | W5: 56 | Y5: 88 | Z5: 88 | AB5: 50 | AC5: 30 | AD5: 30 | AE5: Y
A6: PRECINCT 3 | B6: 615 | C6: 1 | D6: 83 | E6: 375 | F6: 0 | G6: 1 | H6: 458 | I6: 83 | J6: 216 | K6: 0 | L6: 0 | M6: 299 | O6: 4 | P6: 0 | Q6: 0 | R6: 4 | S6: 3 | T6: 5 | U6: 296 | V6: 83 | W6: 213 | Y6: 296 | Z6: 296 | AB6: 100 | AC6: 30 | AD6: 30 | AE6: Y
A7: PRECINCT 4 | B7: 616 | C7: 0 | D7: 64 | E7: 394 | F7: 0 | G7: 0 | H7: 458 | I7: 63 | J7: 228 | K7: 0 | L7: 0 | M7: 291 | O7: 12 | P7: 0 | Q7: 0 | R7: 12 | S7: 2 | T7: 7 | U7: 289 | V7: 63 | W7: 226 | Y7: 289 | Z7: 289 | AB7: 100 | AC7: 30 | AD7: 30 | AE7: Y
A8: Total | B8: 1572 | C8: 1 | D8: 197 | E8: 967 | F8: 0 | G8: 3 | H8: 1164 | I8: 196 | J8: 547 | K8: 0 | L8: 2 | M8: 743 | N8: 0 | O8: 21 | P8: 0 | Q8: 0 | R8: 21 | S8: 10 | T8: 12 | U8: 733 | V8: 196 | W8: 537 | X8: 0 | Y8: 733 | Z8: 733 | AA8: 2 | AB8: 300 | AC8: 120 | AD8: 120
B68: 948
B69: 4582

Sheet Lake
A1: 2026 Primary Election Reconciliation Report - Lake County
B2: Registered Voters | D2: Ballots Issued | I2: Ballots Accepted | N2: Ballots Rejected | U2: Votes Cast (Ballots Counted) | AB2: Test Ballots | AE2: Reconciled | AF2: Comments / Explanations
A3: Precinct | B3: Total | C3: Election Day | D3: Poll | E3: Absentee | F3: Provisional | G3: UOCAVA (included in Absentee Totals) | H3: Total | I3: Poll | J3: Absentee | K3: Provisional | L3: UOCAVA (included in Absentee Totals) | M3: Total | N3: Poll | O3: Absentee | P3: Provisional | Q3: UOCAVA (Included in Absentee Totals) | R3: Total Rejected - No Voter Credit Assigned | S3: Rejected by Prep Team - Post Voter Credit | T3: Total Ballots Voided | U3: Total Ballots Accepted - sent to count | V3: Poll | W3: Absentee | X3: Provisional | Y3: Subtotal of Counted Ballots | Z3: Total ballots counted - entered from tabulator / hand count report | AA3: UOCAVA (included in Absentee Totals) | AB3: Total Printed | AC3: Used for Testing | AD3: Counted | AE3: Y/N? | AF3: Note any variance and / or discrepancies
A4: ARL 01 HD91 | B4: 1336 | C4: 0 | D4: 82 | E4: 833 | F4: 10 | G4: 0 | H4: 925 | I4: 82 | J4: 340 | K4: 10 | L4: 0 | M4: 432 | N4: 0 | O4: 3 | P4: 1 | Q4: 0 | S4: 8 | T4: 14 | U4: 423 | V4: 82 | W4: 332 | X4: 9 | Y4: 423 | Z4: 423 | AA4: 0 | AB4: 30 | AC4: 24 | AD4: 24
A5: BEA 01 HD12 | B5: 1010 | C5: 0 | D5: 55 | E5: 624 | F5: 3 | G5: 2 | H5: 682 | I5: 55 | J5: 307 | K5: 3 | L5: 2 | M5: 365 | N5: 0 | O5: 5 | P5: 0 | Q5: 0 | S5: 6 | T5: 8 | U5: 359 | V5: 55 | W5: 301 | X5: 3 | Y5: 359 | Z5: 359 | AA5: 2 | AB5: 30 | AC5: 24 | AD5: 24
A6: CHA 01 HD91 | B6: 1002 | C6: 0 | D6: 64 | E6: 654 | F6: 7 | G6: 1 | H6: 725 | I6: 64 | J6: 287 | K6: 7 | L6: 0 | M6: 358 | N6: 0 | O6: 1 | P6: 0 | Q6: 0 | S6: 5 | T6: 8 | U6: 353 | V6: 63 | W6: 283 | X6: 7 | Y6: 353 | Z6: 353 | AA6: 0 | AB6: 30 | AC6: 24 | AD6: 24
A7: DAY 01 HD12 | B7: 955 | C7: 1 | D7: 52 | E7: 607 | F7: 4 | G7: 3 | H7: 663 | I7: 52 | J7: 318 | K7: 4 | L7: 2 | M7: 374 | N7: 0 | O7: 3 | P7: 1 | Q7: 0 | S7: 13 | T7: 8 | U7: 360 | V7: 52 | W7: 305 | X7: 3 | Y7: 360 | Z7: 360 | AA7: 2 | AB7: 30 | AC7: 24 | AD7: 24
A8: FER 01 HD12 | B8: 1251 | C8: 1 | D8: 89 | E8: 801 | F8: 11 | G8: 4 | H8: 901 | I8: 89 | J8: 390 | K8: 11 | L8: 0 | M8: 490 | N8: 0 | O8: 3 | P8: 0 | Q8: 0 | S8: 10 | T8: 14 | U8: 480 | V8: 89 | W8: 380 | X8: 11 | Y8: 480 | Z8: 480 | AA8: 0 | AB8: 30 | AC8: 24 | AD8: 24
A9: PAB 01 HD13 | B9: 650 | C9: 2 | D9: 32 | E9: 398 | F9: 5 | G9: 0 | H9: 435 | I9: 32 | J9: 207 | K9: 5 | L9: 0 | M9: 244 | N9: 0 | O9: 0 | P9: 0 | Q9: 0 | S9: 8 | T9: 4 | U9: 236 | V9: 32 | W9: 199 | X9: 5 | Y9: 236 | Z9: 236 | AA9: 0 | AB9: 30 | AC9: 24 | AD9: 24
A10: PAB 02 HD15 | B10: 1674 | C10: 5 | D10: 76 | E10: 911 | F10: 12 | G10: 1 | H10: 999 | I10: 76 | J10: 367 | K10: 12 | L10: 0 | M10: 455 | N10: 0 | O10: 3 | P10: 0 | Q10: 0 | S10: 12 | T10: 13 | U10: 443 | V10: 76 | W10: 355 | X10: 12 | Y10: 443 | Z10: 443 | AA10: 0 | AB10: 30 | AC10: 24 | AD10: 24
A11: POL 01 HD12 | B11: 1047 | C11: 2 | D11: 37 | E11: 725 | F11: 3 | G11: 1 | H11: 765 | I11: 37 | J11: 398 | K11: 2 | L11: 0 | M11: 437 | N11: 0 | O11: 6 | P11: 0 | Q11: 0 | S11: 8 | T11: 20 | U11: 429 | V11: 37 | W11: 390 | X11: 2 | Y11: 429 | Z11: 429 | AA11: 0 | AB11: 30 | AC11: 24 | AD11: 24
A12: POL 02 HD13 | B12: 552 | C12: 0 | D12: 29 | E12: 395 | F12: 2 | G12: 1 | H12: 426 | I12: 31 | J12: 255 | K12: 2 | L12: 0 | M12: 288 | N12: 0 | O12: 1 | P12: 0 | Q12: 0 | S12: 4 | T12: 6 | U12: 284 | V12: 31 | W12: 251 | X12: 2 | Y12: 284 | Z12: 284 | AA12: 0 | AB12: 30 | AC12: 24 | AD12: 24 | AF12: 29 ballots issued in pollbook 31 ballots returned to be counted
A13: POL 03 HD13 | B13: 1238 | C13: 1 | D13: 59 | E13: 869 | F13: 5 | G13: 1 | H13: 933 | I13: 60 | J13: 564 | K13: 4 | L13: 1 | M13: 628 | N13: 0 | O13: 6 | P13: 1 | Q13: 0 | S13: 18 | T13: 16 | U13: 609 | V13: 60 | W13: 547 | X13: 3 | Y13: 610 | Z13: 610 | AA13: 1 | AB13: 30 | AC13: 24 | AD13: 24 | AF13: 59 ballots issued in pollbook 60 ballots returned to be counted
A14: POL 04 HD13 | B14: 1199 | C14: 3 | D14: 54 | E14: 748 | F14: 2 | G14: 1 | H14: 804 | I14: 54 | J14: 415 | K14: 2 | L14: 0 | M14: 471 | N14: 0 | O14: 4 | P14: 0 | Q14: 0 | S14: 10 | T14: 20 | U14: 461 | V14: 54 | W14: 405 | X14: 2 | Y14: 461 | Z14: 461 | AA14: 0 | AB14: 30 | AC14: 24 | AD14: 24
A15: POL 05 HD13 | B15: 2193 | C15: 4 | D15: 139 | E15: 1404 | F15: 8 | G15: 0 | H15: 1551 | I15: 139 | J15: 862 | K15: 8 | L15: 0 | M15: 1009 | N15: 0 | O15: 5 | P15: 1 | Q15: 0 | S15: 21 | T15: 29 | U15: 987 | V15: 139 | W15: 844 | X15: 7 | Y15: 990 | Z15: 990 | AA15: 0 | AB15: 30 | AC15: 24 | AD15: 24 | AF15: 2 over in CC -should have been rejected for 3 voted ballots
A16: POL 06 HD13 | B16: 1452 | C16: 2 | D16: 81 | E16: 997 | F16: 4 | G16: 0 | H16: 1082 | I16: 81 | J16: 669 | K16: 4 | L16: 0 | M16: 754 | N16: 0 | O16: 0 | P16: 0 | Q16: 0 | S16: 14 | T16: 17 | U16: 740 | V16: 81 | W16: 655 | X16: 4 | Y16: 740 | Z16: 740 | AA16: 0 | AB16: 30 | AC16: 24 | AD16: 24
A17: POL 07 HD13 | B17: 530 | C17: 1 | D17: 37 | E17: 328 | F17: 2 | G17: 0 | H17: 367 | I17: 37 | J17: 182 | K17: 2 | L17: 0 | M17: 221 | N17: 0 | O17: 1 | P17: 0 | Q17: 0 | S17: 1 | T17: 8 | U17: 220 | V17: 37 | W17: 181 | X17: 2 | Y17: 220 | Z17: 220 | AA17: 0 | AB17: 30 | AC17: 24 | AD17: 24
A18: POL 08 HD12 | B18: 732 | C18: 1 | D18: 31 | E18: 518 | F18: 2 | G18: 3 | H18: 551 | I18: 31 | J18: 303 | K18: 2 | L18: 3 | M18: 336 | N18: 0 | O18: 3 | P18: 0 | Q18: 0 | S18: 5 | T18: 16 | U18: 331 | V18: 31 | W18: 298 | X18: 2 | Y18: 331 | Z18: 331 | AA18: 3 | AB18: 30 | AC18: 24 | AD18: 24
A19: RON 01 HD91 | B19: 1805 | C19: 3 | D19: 103 | E19: 1055 | F19: 11 | G19: 2 | H19: 1169 | I19: 103 | J19: 465 | K19: 11 | L19: 1 | M19: 579 | N19: 0 | O19: 3 | P19: 0 | Q19: 0 | S19: 20 | T19: 17 | U19: 559 | V19: 103 | W19: 445 | X19: 11 | Y19: 559 | Z19: 559 | AA19: 1 | AB19: 30 | AC19: 24 | AD19: 24
A20: RON 02 HD15 | B20: 1076 | C20: 1 | D20: 57 | E20: 583 | F20: 6 | G20: 1 | H20: 646 | I20: 57 | J20: 241 | K20: 5 | L20: 1 | M20: 303 | N20: 0 | O20: 1 | P20: 0 | Q20: 0 | S20: 10 | T20: 12 | U20: 293 | V20: 57 | W20: 231 | X20: 5 | Y20: 293 | Z20: 293 | AA20: 1 | AB20: 30 | AC20: 24 | AD20: 24
A21: RON-03 HD13 | B21: 211 | C21: 0 | D21: 10 | E21: 153 | F21: 1 | G21: 0 | H21: 164 | I21: 10 | J21: 85 | K21: 1 | L21: 0 | M21: 96 | N21: 0 | O21: 1 | P21: 0 | Q21: 0 | S21: 2 | T21: 1 | U21: 94 | V21: 10 | W21: 83 | X21: 1 | Y21: 94 | Z21: 94 | AA21: 0 | AB21: 30 | AC21: 24 | AD21: 24
A22: STI 01 HD91 | B22: 822 | C22: 0 | D22: 44 | E22: 501 | F22: 5 | G22: 1 | H22: 550 | I22: 44 | J22: 242 | K22: 5 | L22: 1 | M22: 291 | N22: 0 | O22: 0 | P22: 0 | Q22: 0 | S22: 10 | T22: 8 | U22: 281 | V22: 44 | W22: 232 | X22: 5 | Y22: 281 | Z22: 281 | AA22: 1 | AB22: 30 | AC22: 24 | AD22: 24
A23: STI 02 HD15 | B23: 1457 | C23: 0 | D23: 66 | E23: 876 | F23: 13 | G23: 3 | H23: 955 | I23: 66 | J23: 382 | K23: 12 | L23: 0 | M23: 460 | N23: 0 | O23: 5 | P23: 0 | Q23: 0 | S23: 9 | T23: 12 | U23: 451 | V23: 66 | W23: 373 | X23: 12 | Y23: 451 | Z23: 451 | AA23: 0 | AB23: 30 | AC23: 24 | AD23: 24
A24: SWA 01 HD12 | B24: 132 | C24: 0 | D24: 12 | E24: 93 | F24: 0 | G24: 0 | H24: 105 | I24: 12 | J24: 55 | K24: 0 | L24: 0 | M24: 67 | N24: 0 | O24: 2 | P24: 0 | Q24: 0 | S24: 1 | T24: 2 | U24: 66 | V24: 12 | W24: 54 | X24: 0 | Y24: 66 | Z24: 66 | AA24: 0 | AB24: 30 | AC24: 24 | AD24: 24
A25: SWA 02 HD15 | B25: 189 | C25: 0 | D25: 13 | E25: 128 | F25: 2 | G25: 0 | H25: 143 | I25: 13 | J25: 70 | K25: 2 | L25: 0 | M25: 85 | N25: 0 | O25: 1 | P25: 0 | Q25: 0 | S25: 0 | T25: 0 | U25: 85 | V25: 13 | W25: 70 | X25: 2 | Y25: 85 | Z25: 85 | AA25: 0 | AB25: 30 | AC25: 24 | AD25: 24
A26: Total | B26: 22513 | C26: 27 | D26: 1222 | E26: 14201 | F26: 118 | G26: 25 | H26: 15541 | I26: 1225 | J26: 7404 | K26: 114 | L26: 11 | M26: 8743 | N26: 0 | O26: 57 | P26: 4 | Q26: 0 | R26: 0 | S26: 195 | T26: 253 | U26: 8544 | V26: 1224 | W26: 7214 | X26: 110 | Y26: 8548 | Z26: 8548 | AA26: 11 | AB26: 660 | AC26: 528 | AD26: 528
B68: 948
B69: 46077

Sheet Lewis and Clark
A1: 2026 Primary Election Reconciliation Report - Lewis and Clark County
B2: Registered Voters | D2: Ballots Issued | I2: Ballots Accepted | N2: Ballots Rejected | U2: Votes Cast (Ballots Counted) | AB2: Test Ballots | AE2: Reconciled | AF2: Comments / Explanations
A3: Precinct | B3: Total | C3: Election Day | D3: Poll | E3: Absentee | F3: Provisional | G3: UOCAVA (included in Absentee Totals) | H3: Total | I3: Poll | J3: Absentee | K3: Provisional | L3: UOCAVA (included in Absentee Totals) | M3: Total | N3: Poll | O3: Absentee | P3: Provisional | Q3: UOCAVA (Included in Absentee Totals) | R3: Total Rejected - No Voter Credit Assigned | S3: Rejected by Prep Team - Post Voter Credit | T3: Total Ballots Voided | U3: Total Ballots Accepted - sent to count | V3: Poll | W3: Absentee | X3: Provisional | Y3: Subtotal of Counted Ballots | Z3: Total ballots counted - entered from tabulator / hand count report | AA3: UOCAVA (included in Absentee Totals) | AB3: Total Printed | AC3: Used for Testing | AD3: Counted | AE3: Y/N? | AF3: Note any variance and / or discrepancies
A4: PRECINCT 1 | B4: 787 | C4: 0 | D4: 34 | E4: 586 | F4: 2 | G4: 1 | H4: 622 | I4: 34 | J4: 322 | K4: 2 | L4: 0 | M4: 358 | O4: 4 | P4: 0 | Q4: 0 | R4: 4 | S4: 4 | T4: 9 | U4: 354 | V4: 34 | W4: 318 | X4: 2 | Y4: 354 | Z4: 354 | AB4: 150 | AC4: 33 | AD4: 24 | AE4: Y
A5: PRECINCT 10 | B5: 2029 | C5: 6 | D5: 80 | E5: 1369 | F5: 6 | G5: 3 | H5: 1455 | I5: 80 | J5: 722 | K5: 5 | L5: 2 | M5: 807 | O5: 8 | P5: 1 | Q5: 0 | R5: 9 | S5: 21 | T5: 32 | U5: 786 | V5: 80 | W5: 701 | X5: 5 | Y5: 786 | Z5: 786 | AA5: 2 | AB5: 150 | AC5: 33 | AD5: 24 | AE5: Y | AF5: All precincts - Rejected Ballots include: secrecy envelope(s) containing more than 1 voted ballot, secrecy envelope(s) containing only non-voted multiple ballots, secrecy or affirmation envelope(s) were empty, secrecy envelope(s) did not contain a ballot for current election, or the ballot had identifying marks.
A6: PRECINCT 11 | B6: 1964 | C6: 1 | D6: 73 | E6: 1441 | F6: 5 | G6: 6 | H6: 1519 | I6: 73 | J6: 764 | K6: 5 | L6: 1 | M6: 842 | O6: 6 | P6: 0 | Q6: 0 | R6: 6 | S6: 19 | T6: 21 | U6: 823 | V6: 73 | W6: 745 | X6: 5 | Y6: 823 | Z6: 823 | AA6: 1 | AB6: 150 | AC6: 33 | AD6: 24 | AE6: Y
A7: PRECINCT 12 | B7: 2237 | C7: 0 | D7: 61 | E7: 1653 | F7: 3 | G7: 11 | H7: 1717 | I7: 61 | J7: 840 | K7: 3 | L7: 6 | M7: 904 | O7: 9 | P7: 0 | Q7: 0 | R7: 9 | S7: 23 | T7: 29 | U7: 881 | V7: 61 | W7: 817 | X7: 3 | Y7: 881 | Z7: 881 | AA7: 1 | AB7: 150 | AC7: 33 | AD7: 24 | AE7: Y
A8: PRECINCT 13 | B8: 2038 | C8: 2 | D8: 95 | E8: 1523 | F8: 6 | G8: 8 | H8: 1624 | I8: 95 | J8: 968 | K8: 6 | L8: 1 | M8: 1069 | O8: 7 | P8: 0 | Q8: 0 | R8: 7 | S8: 19 | T8: 35 | U8: 1050 | V8: 95 | W8: 949 | X8: 6 | Y8: 1050 | Z8: 1050 | AB8: 150 | AC8: 33 | AD8: 24 | AE8: Y
A9: PRECINCT 14 | B9: 2010 | C9: 1 | D9: 74 | E9: 1371 | F9: 4 | G9: 8 | H9: 1449 | I9: 74 | J9: 723 | K9: 4 | L9: 3 | M9: 801 | O9: 5 | P9: 0 | Q9: 0 | R9: 5 | S9: 27 | T9: 24 | U9: 774 | V9: 74 | W9: 696 | X9: 4 | Y9: 774 | Z9: 774 | AA9: 3 | AB9: 150 | AC9: 33 | AD9: 24 | AE9: Y
A10: PRECINCT 15 | B10: 1219 | C10: 0 | D10: 54 | E10: 700 | F10: 5 | G10: 1 | H10: 759 | I10: 54 | J10: 291 | K10: 4 | L10: 0 | M10: 349 | O10: 6 | P10: 1 | Q10: 0 | R10: 7 | S10: 11 | T10: 14 | U10: 338 | V10: 54 | W10: 280 | X10: 4 | Y10: 338 | Z10: 338 | AB10: 150 | AC10: 33 | AD10: 24 | AE10: Y
A11: PRECINCT 16 | B11: 2054 | C11: 0 | D11: 78 | E11: 1391 | F11: 8 | G11: 7 | H11: 1477 | I11: 78 | J11: 617 | K11: 8 | L11: 2 | M11: 703 | O11: 5 | P11: 0 | Q11: 0 | R11: 5 | S11: 24 | T11: 16 | U11: 679 | V11: 78 | W11: 593 | X11: 8 | Y11: 679 | Z11: 679 | AA11: 2 | AB11: 150 | AC11: 33 | AD11: 24 | AE11: Y
A12: PRECINCT 17 | B12: 1781 | C12: 4 | D12: 64 | E12: 1480 | F12: 4 | G12: 2 | H12: 1548 | I12: 64 | J12: 940 | K12: 4 | L12: 2 | M12: 1008 | O12: 10 | P12: 0 | Q12: 0 | R12: 10 | S12: 12 | T12: 38 | U12: 996 | V12: 66 | W12: 928 | X12: 4 | Y12: 998 | Z12: 998 | AA12: 2 | AB12: 150 | AC12: 33 | AD12: 24 | AE12: Y | AF12: Precinct 17-1 Poll voter placed all 3 voted party ballots in voted ballot box instead of returning ballots to election judge to deposit ballots in voted & non-voted ballot boxes.
A13: PRECINCT 18 | B13: 2223 | C13: 3 | D13: 88 | E13: 1698 | F13: 10 | G13: 3 | H13: 1796 | I13: 88 | J13: 944 | K13: 6 | L13: 0 | M13: 1038 | O13: 10 | P13: 4 | Q13: 0 | R13: 14 | S13: 34 | T13: 48 | U13: 1004 | V13: 88 | W13: 910 | X13: 6 | Y13: 1004 | Z13: 1004 | AB13: 150 | AC13: 33 | AD13: 24 | AE13: Y
A14: PRECINCT 19 | B14: 1638 | C14: 0 | D14: 35 | E14: 1167 | F14: 5 | G14: 1 | H14: 1207 | I14: 35 | J14: 578 | K14: 5 | L14: 1 | M14: 618 | O14: 11 | P14: 0 | Q14: 0 | R14: 11 | S14: 21 | T14: 28 | U14: 597 | V14: 35 | W14: 557 | X14: 5 | Y14: 597 | Z14: 597 | AA14: 1 | AB14: 150 | AC14: 33 | AD14: 24 | AE14: Y
A15: PRECINCT 2 | B15: 2341 | C15: 3 | D15: 85 | E15: 1796 | F15: 6 | G15: 12 | H15: 1887 | I15: 85 | J15: 1088 | K15: 3 | L15: 2 | M15: 1176 | O15: 5 | P15: 3 | Q15: 0 | R15: 8 | S15: 13 | T15: 39 | U15: 1163 | V15: 85 | W15: 1075 | X15: 3 | Y15: 1163 | Z15: 1163 | AA15: 2 | AB15: 150 | AC15: 33 | AD15: 24 | AE15: Y
A16: PRECINCT 20 | B16: 2619 | C16: 2 | D16: 116 | E16: 1717 | F16: 7 | G16: 2 | H16: 1840 | I16: 116 | J16: 756 | K16: 6 | L16: 0 | M16: 878 | N16: 1 | O16: 10 | P16: 1 | Q16: 0 | R16: 12 | S16: 25 | T16: 19 | U16: 852 | V16: 115 | W16: 731 | X16: 6 | Y16: 852 | Z16: 852 | AB16: 150 | AC16: 33 | AD16: 24 | AE16: Y | AF16: Precinct 20 (& Precinct 6)-In each precinct a poll voter placed voted & non-voted party ballots in unvoted ballot box, instead of returning ballots to election judge to deposit ballots in voted & non-voted ballot boxes. This led to each poll voter's ballot being not counted and classified as rejected.
A17: PRECINCT 21 | B17: 2520 | C17: 5 | D17: 88 | E17: 1751 | F17: 13 | G17: 1 | H17: 1852 | I17: 88 | J17: 832 | K17: 12 | L17: 0 | M17: 932 | O17: 5 | P17: 1 | Q17: 0 | R17: 6 | S17: 26 | T17: 32 | U17: 906 | V17: 88 | W17: 806 | X17: 12 | Y17: 906 | Z17: 906 | AB17: 150 | AC17: 33 | AD17: 24 | AE17: Y
A18: PRECINCT 22 | B18: 1969 | C18: 0 | D18: 61 | E18: 1526 | F18: 7 | G18: 7 | H18: 1594 | I18: 61 | J18: 874 | K18: 7 | L18: 7 | M18: 942 | O18: 12 | P18: 0 | Q18: 0 | R18: 12 | S18: 13 | T18: 23 | U18: 929 | V18: 61 | W18: 861 | X18: 7 | Y18: 929 | Z18: 929 | AA18: 7 | AB18: 150 | AC18: 33 | AD18: 24 | AE18: Y
A19: PRECINCT 23 | B19: 1359 | C19: 0 | D19: 86 | E19: 984 | F19: 2 | G19: 1 | H19: 1072 | I19: 86 | J19: 536 | K19: 2 | L19: 1 | M19: 624 | O19: 6 | P19: 0 | Q19: 0 | R19: 6 | S19: 10 | T19: 11 | U19: 614 | V19: 86 | W19: 526 | X19: 2 | Y19: 614 | Z19: 614 | AA19: 1 | AB19: 150 | AC19: 33 | AD19: 24 | AE19: Y
A20: PRECINCT 24 | B20: 2308 | C20: 1 | D20: 120 | E20: 1629 | F20: 5 | G20: 3 | H20: 1754 | I20: 120 | J20: 766 | K20: 4 | L20: 0 | M20: 890 | O20: 14 | P20: 1 | Q20: 0 | R20: 15 | S20: 14 | T20: 27 | U20: 876 | V20: 120 | W20: 752 | X20: 4 | Y20: 876 | Z20: 876 | AB20: 150 | AC20: 33 | AD20: 24 | AE20: Y
A21: PRECINCT 25 | B21: 784 | C21: 0 | D21: 46 | E21: 564 | F21: 1 | G21: 1 | H21: 611 | I21: 46 | J21: 302 | K21: 1 | L21: 0 | M21: 349 | O21: 5 | P21: 0 | Q21: 0 | R21: 5 | S21: 4 | T21: 6 | U21: 345 | V21: 46 | W21: 298 | X21: 1 | Y21: 345 | Z21: 345 | AB21: 150 | AC21: 33 | AD21: 24 | AE21: Y
A22: PRECINCT 26 | B22: 122 | C22: 0 | D22: 6 | E22: 91 | F22: 0 | G22: 0 | H22: 97 | I22: 6 | J22: 43 | K22: 0 | L22: 0 | M22: 49 | O22: 1 | P22: 0 | Q22: 0 | R22: 1 | S22: 0 | T22: 2 | U22: 49 | V22: 6 | W22: 43 | X22: 0 | Y22: 49 | Z22: 49 | AB22: 150 | AC22: 33 | AD22: 24 | AE22: Y
A23: PRECINCT 27 | B23: 1322 | C23: 1 | D23: 78 | E23: 965 | F23: 3 | G23: 2 | H23: 1046 | I23: 78 | J23: 516 | K23: 3 | L23: 1 | M23: 597 | O23: 9 | P23: 0 | Q23: 0 | R23: 9 | S23: 15 | T23: 13 | U23: 582 | V23: 78 | W23: 501 | X23: 3 | Y23: 582 | Z23: 582 | AA23: 1 | AB23: 150 | AC23: 33 | AD23: 24 | AE23: Y
A24: PRECINCT 28 | B24: 1400 | C24: 2 | D24: 69 | E24: 948 | F24: 1 | G24: 2 | H24: 1018 | I24: 69 | J24: 492 | K24: 1 | L24: 2 | M24: 562 | O24: 5 | P24: 0 | Q24: 0 | R24: 5 | S24: 17 | T24: 11 | U24: 545 | V24: 69 | W24: 475 | X24: 1 | Y24: 545 | Z24: 545 | AA24: 2 | AB24: 150 | AC24: 33 | AD24: 24 | AE24: Y
A25: PRECINCT 29 | B25: 1034 | C25: 0 | D25: 110 | E25: 653 | F25: 4 | G25: 0 | H25: 767 | I25: 110 | J25: 361 | K25: 1 | L25: 0 | M25: 472 | O25: 6 | P25: 3 | Q25: 0 | R25: 9 | S25: 12 | T25: 7 | U25: 460 | V25: 110 | W25: 349 | X25: 1 | Y25: 460 | Z25: 460 | AB25: 150 | AC25: 33 | AD25: 24 | AE25: Y | AF25: All Precincts-Test Ballots "Used for Testing" includes all counted and resolution board ballots from test deck.
A26: PRECINCT 3 | B26: 2289 | C26: 1 | D26: 77 | E26: 1740 | F26: 7 | G26: 4 | H26: 1824 | I26: 77 | J26: 937 | K26: 7 | L26: 1 | M26: 1021 | O26: 6 | P26: 0 | Q26: 0 | R26: 6 | S26: 18 | T26: 35 | U26: 1003 | V26: 77 | W26: 919 | X26: 7 | Y26: 1003 | Z26: 1003 | AA26: 1 | AB26: 150 | AC26: 33 | AD26: 24 | AE26: Y
A27: PRECINCT 30 | B27: 568 | C27: 0 | D27: 47 | E27: 380 | F27: 3 | G27: 1 | H27: 430 | I27: 47 | J27: 206 | K27: 3 | L27: 1 | M27: 256 | O27: 9 | P27: 0 | Q27: 0 | R27: 9 | S27: 1 | T27: 2 | U27: 255 | V27: 47 | W27: 205 | X27: 3 | Y27: 255 | Z27: 255 | AB27: 150 | AC27: 33 | AD27: 24 | AE27: Y
A28: PRECINCT 31 | B28: 87 | C28: 0 | D28: 8 | E28: 57 | F28: 1 | G28: 1 | H28: 66 | I28: 8 | J28: 34 | K28: 1 | L28: 1 | M28: 43 | O28: 0 | P28: 0 | Q28: 0 | R28: 0 | S28: 0 | T28: 0 | U28: 43 | V28: 8 | W28: 34 | X28: 1 | Y28: 43 | Z28: 43 | AA28: 1 | AB28: 150 | AC28: 33 | AD28: 24 | AE28: Y | AF28: All Precincts-difference in Test Ballots "Counted" and Test Ballots Used for Testing equal the test deck ballots that need to be reviewed by a resolution board.
A29: PRECINCT 32 | B29: 538 | C29: 0 | D29: 71 | E29: 316 | F29: 5 | G29: 0 | H29: 392 | I29: 71 | J29: 201 | K29: 5 | L29: 0 | M29: 277 | O29: 3 | P29: 0 | Q29: 0 | R29: 3 | S29: 7 | T29: 3 | U29: 270 | V29: 71 | W29: 194 | X29: 5 | Y29: 270 | Z29: 270 | AB29: 150 | AC29: 33 | AD29: 24 | AE29: Y
A30: PRECINCT 4 | B30: 2469 | C30: 3 | D30: 98 | E30: 1767 | F30: 5 | G30: 7 | H30: 1870 | I30: 98 | J30: 865 | K30: 5 | L30: 5 | M30: 968 | O30: 6 | P30: 0 | Q30: 0 | R30: 6 | S30: 19 | T30: 34 | U30: 949 | V30: 98 | W30: 846 | X30: 5 | Y30: 949 | Z30: 949 | AA30: 5 | AB30: 150 | AC30: 33 | AD30: 24 | AE30: Y
A31: PRECINCT 5 | B31: 1770 | C31: 2 | D31: 46 | E31: 1199 | F31: 5 | G31: 2 | H31: 1250 | I31: 46 | J31: 573 | K31: 5 | L31: 0 | M31: 624 | O31: 11 | P31: 0 | Q31: 0 | R31: 11 | S31: 25 | T31: 21 | U31: 599 | V31: 46 | W31: 548 | X31: 5 | Y31: 599 | Z31: 599 | AB31: 150 | AC31: 33 | AD31: 24 | AE31: Y
A32: PRECINCT 6 | B32: 2054 | C32: 0 | D32: 80 | E32: 1392 | F32: 4 | G32: 1 | H32: 1476 | I32: 80 | J32: 679 | K32: 2 | L32: 0 | M32: 761 | N32: 1 | O32: 7 | P32: 2 | Q32: 0 | R32: 10 | S32: 13 | T32: 23 | U32: 747 | V32: 79 | W32: 666 | X32: 2 | Y32: 747 | Z32: 747 | AB32: 150 | AC32: 33 | AD32: 24 | AE32: Y | AF32: Precinct 6-Refer to note under Precinct 20.
A33: PRECINCT 7 | B33: 1636 | C33: 3 | D33: 50 | E33: 1141 | F33: 4 | G33: 2 | H33: 1195 | I33: 50 | J33: 613 | K33: 4 | L33: 1 | M33: 667 | O33: 1 | P33: 0 | Q33: 0 | R33: 1 | S33: 11 | T33: 18 | U33: 656 | V33: 50 | W33: 602 | X33: 4 | Y33: 656 | Z33: 656 | AA33: 1 | AB33: 150 | AC33: 33 | AD33: 24 | AE33: Y
A34: PRECINCT 8 | B34: 1818 | C34: 3 | D34: 62 | E34: 1223 | F34: 6 | G34: 8 | H34: 1291 | I34: 62 | J34: 623 | K34: 4 | L34: 2 | M34: 689 | O34: 5 | P34: 2 | Q34: 1 | R34: 7 | S34: 16 | T34: 17 | U34: 673 | V34: 62 | W34: 607 | X34: 4 | Y34: 673 | Z34: 672 | AA34: 2 | AB34: 150 | AC34: 33 | AD34: 24 | AE34: Y | AF34: Precinct 8 voter received a Precinct 9 ballot.
A35: PRECINCT 9 | B35: 2044 | C35: 5 | D35: 77 | E35: 1373 | F35: 5 | G35: 13 | H35: 1455 | I35: 77 | J35: 725 | K35: 5 | L35: 5 | M35: 807 | O35: 1 | P35: 0 | Q35: 0 | R35: 1 | S35: 11 | T35: 43 | U35: 796 | V35: 77 | W35: 714 | X35: 5 | Y35: 796 | Z35: 797 | AA35: 5 | AB35: 150 | AC35: 33 | AD35: 24 | AE35: Y | AF35: Precinct 8 voter received a Precinct 9 ballot.
A36: Total | B36: 53031 | C36: 48 | D36: 2217 | E36: 37591 | F36: 152 | G36: 121 | H36: 39960 | I36: 2217 | J36: 19731 | K36: 133 | L36: 47 | M36: 22081 | N36: 2 | O36: 208 | P36: 19 | Q36: 1 | R36: 229 | S36: 485 | T36: 680 | U36: 21594 | V36: 2217 | W36: 19246 | X36: 133 | Y36: 21596 | Z36: 21596 | AA36: 40 | AB36: 4800 | AC36: 1056 | AD36: 768 | AE36: Y | AF36: Off by 2 ballots-poll voter Precinct 17-see note above
B68: 948
B69: 106151

Sheet Liberty
A1: 2026 Primary Election Reconciliation Report - Liberty County
B2: Registered Voters | D2: Ballots Issued | I2: Ballots Accepted | N2: Ballots Rejected | U2: Votes Cast (Ballots Counted) | AB2: Test Ballots | AE2: Reconciled | AF2: Comments / Explanations
A3: Precinct | B3: Total | C3: Election Day | D3: Poll | E3: Absentee | F3: Provisional | G3: UOCAVA (included in Absentee Totals) | H3: Total | I3: Poll | J3: Absentee | K3: Provisional | L3: UOCAVA (included in Absentee Totals) | M3: Total | N3: Poll | O3: Absentee | P3: Provisional | Q3: UOCAVA (Included in Absentee Totals) | R3: Total Rejected - No Voter Credit Assigned | S3: Rejected by Prep Team - Post Voter Credit | T3: Total Ballots Voided | U3: Total Ballots Accepted - sent to count | V3: Poll | W3: Absentee | X3: Provisional | Y3: Subtotal of Counted Ballots | Z3: Total ballots counted - entered from tabulator / hand count report | AA3: UOCAVA (included in Absentee Totals) | AB3: Total Printed | AC3: Used for Testing | AD3: Counted | AE3: Y/N? | AF3: Note any variance and / or discrepancies
A4: #1 PRECINCT - WEST | B4: 371 | D4: 34 | E4: 248 | H4: 282 | I4: 34 | J4: 156 | M4: 190 | O4: 2 | R4: 2 | S4: 5 | T4: 4 | U4: 185 | V4: 34 | W4: 151 | Y4: 185 | Z4: 185 | AB4: 20 | AC4: 10 | AD4: 10 | AE4: YES | AF4: Some absentee ballots were rejected by Prep Team due to multiple party ballots being voted.
A5: #2 PRECINCT - NORTH | B5: 279 | C5: 2 | D5: 32 | E5: 187 | G5: 1 | H5: 219 | I5: 32 | J5: 102 | M5: 134 | R5: 0 | S5: 5 | T5: 2 | U5: 129 | V5: 32 | W5: 97 | Y5: 129 | Z5: 129 | AB5: 20 | AC5: 10 | AD5: 10 | AE5: YES
A6: #3 PRECINCT - SOUTH | B6: 284 | D6: 29 | E6: 182 | G6: 2 | H6: 211 | I6: 29 | J6: 119 | L6: 2 | M6: 148 | O6: 1 | R6: 1 | S6: 2 | T6: 6 | U6: 146 | V6: 29 | W6: 117 | Y6: 146 | Z6: 146 | AA6: 2 | AB6: 20 | AC6: 10 | AD6: 10 | AE6: YES
A7: #4 PRECINCT - JOPLIN | B7: 242 | C7: 1 | D7: 32 | E7: 156 | G7: 2 | H7: 188 | I7: 32 | J7: 96 | L7: 2 | M7: 128 | R7: 0 | S7: 5 | T7: 4 | U7: 123 | V7: 32 | W7: 91 | Y7: 123 | Z7: 123 | AA7: 2 | AB7: 20 | AC7: 10 | AD7: 10 | AE7: YES
A8: Total | B8: 1176 | C8: 3 | D8: 127 | E8: 773 | F8: 0 | G8: 5 | H8: 900 | I8: 127 | J8: 473 | K8: 0 | L8: 4 | M8: 600 | N8: 0 | O8: 3 | P8: 0 | Q8: 0 | R8: 3 | S8: 17 | T8: 16 | U8: 583 | V8: 127 | W8: 456 | X8: 0 | Y8: 583 | Z8: 583 | AA8: 4 | AB8: 80 | AC8: 40 | AD8: 40
B68: 948
B69: 4121

Sheet Lincoln
A1: 2026 Primary Election Reconciliation Report - Lincoln County
B2: Registered Voters | D2: Ballots Issued | I2: Ballots Accepted | N2: Ballots Rejected | U2: Votes Cast (Ballots Counted) | AB2: Test Ballots | AE2: Reconciled | AF2: Comments / Explanations
A3: Precinct | B3: Total | C3: Election Day | D3: Poll | E3: Absentee | F3: Provisional | G3: UOCAVA (included in Absentee Totals) | H3: Total | I3: Poll | J3: Absentee | K3: Provisional | L3: UOCAVA (included in Absentee Totals) | M3: Total | N3: Poll | O3: Absentee | P3: Provisional | Q3: UOCAVA (Included in Absentee Totals) | R3: Total Rejected - No Voter Credit Assigned | S3: Rejected by Prep Team - Post Voter Credit | T3: Total Ballots Voided | U3: Total Ballots Accepted - sent to count | V3: Poll | W3: Absentee | X3: Provisional | Y3: Subtotal of Counted Ballots | Z3: Total ballots counted - entered from tabulator / hand count report | AA3: UOCAVA (included in Absentee Totals) | AB3: Total Printed | AC3: Used for Testing | AD3: Counted | AE3: Y/N? | AF3: Note any variance and / or discrepancies
A4: FORTINE 1 | B4: 848 | C4: 0 | D4: 83 | E4: 495 | F4: 4 | G4: 1 | H4: 582 | I4: 83 | J4: 260 | K4: 4 | L4: 1 | M4: 347 | N4: 0 | O4: 6 | P4: 0 | Q4: 0 | R4: 6 | S4: * | T4: 3 | U4: 345 | V4: ** | W4: ** | X4: 4 | Y4: ** | Z4: 345 | AA4: 1 | AB4: 25 | AC4: 8 | AD4: 8 | AE4: YES | AF4: * (all precincts) Rejected by Prep Team was not kept track in a reliable method
A5: TREGO 2 | B5: 499 | C5: 0 | D5: 40 | E5: 299 | F5: 0 | G5: 2 | H5: 339 | I5: 40 | J5: 161 | K5: 0 | L5: 2 | M5: 201 | N5: 0 | O5: 3 | P5: 0 | Q5: 0 | R5: 3 | S5: * | T5: 3 | U5: 198 | V5: ** | W5: ** | X5: 0 | Y5: ** | Z5: 198 | AA5: 2 | AB5: 25 | AC5: 8 | AD5: 8 | AE5: YES | AF5: ** (all precincts) Poll and Absentee ballots were not separated when ballots were retabulated after tabulatator roller were repaired. Ballot separation between the two got mixed.
A6: TOWN OF REXFORD 3 | B6: 63 | C6: 0 | D6: 8 | E6: 36 | F6: 0 | G6: 0 | H6: 44 | I6: 8 | J6: 17 | K6: 0 | L6: 0 | M6: 25 | N6: 0 | O6: 0 | P6: 0 | Q6: 0 | R6: 0 | S6: * | T6: 1 | U6: 25 | V6: ** | W6: ** | X6: 0 | Y6: ** | Z6: 25 | AB6: 25 | AC6: 8 | AD6: 8 | AE6: YES
A7: TOWN OF EUREKA 4 | B7: 770 | C7: 0 | D7: 82 | E7: 399 | F7: 1 | G7: 1 | H7: 482 | I7: 82 | J7: 200 | K7: 1 | L7: 1 | M7: 283 | N7: 0 | O7: 5 | P7: 0 | Q7: 0 | R7: 5 | S7: * | T7: 11 | U7: 277 | V7: ** | W7: ** | X7: 1 | Y7: ** | Z7: 277 | AA7: 1 | AB7: 25 | AC7: 8 | AD7: 8 | AE7: YES
A8: YAAK 5 | B8: 271 | C8: 0 | D8: 20 | E8: 176 | F8: 1 | G8: 0 | H8: 197 | I8: 20 | J8: 97 | K8: 1 | L8: 0 | M8: 118 | N8: 0 | O8: 3 | P8: 0 | Q8: 0 | R8: 3 | S8: * | T8: 1 | U8: 118 | V8: ** | W8: ** | X8: 1 | Y8: ** | Z8: 118 | AB8: 25 | AC8: 8 | AD8: 8 | AE8: YES
A9: MCCORMICK 6 | B9: 371 | C9: 1 | D9: 35 | E9: 233 | F9: 4 | G9: 0 | H9: 272 | I9: 35 | J9: 125 | K9: 4 | L9: 0 | M9: 164 | N9: 0 | O9: 0 | P9: 0 | Q9: 0 | R9: 0 | S9: * | T9: 6 | U9: 158 | V9: ** | W9: ** | X9: 4 | Y9: ** | Z9: 158 | AB9: 25 | AC9: 9 | AD9: 9 | AE9: YES
A10: CITY OF TROY 7 | B10: 583 | C10: 0 | D10: 80 | E10: 331 | F10: 3 | G10: 0 | H10: 414 | I10: 80 | J10: 170 | K10: 3 | L10: 0 | M10: 253 | N10: 0 | O10: 2 | P10: 0 | Q10: 0 | R10: 2 | S10: * | T10: 14 | U10: 276 | V10: ** | W10: ** | X10: 3 | Y10: ** | Z10: 276 | AB10: 25 | AC10: 9 | AD10: 9 | AE10: YES
A11: TROY SOUTH 8 | B11: 1229 | C11: 4 | D11: 102 | E11: 771 | F11: 2 | G11: 0 | H11: 875 | I11: 102 | J11: 443 | K11: 2 | L11: 0 | M11: 547 | N11: 0 | O11: 9 | P11: 0 | Q11: 0 | R11: 9 | S11: * | T11: 16 | U11: 537 | V11: ** | W11: ** | X11: 2 | Y11: ** | Z11: 537 | AB11: 25 | AC11: 9 | AD11: 9 | AE11: YES
A12: CITY OF LIBBY 9 | B12: 1743 | C12: 11 | D12: 184 | E12: 1030 | F12: 12 | G12: 0 | H12: 1226 | I12: 184 | J12: 602 | K12: 11 | L12: 0 | M12: 797 | N12: 0 | O12: 11 | P12: 1 | Q12: 0 | R12: 12 | S12: * | T12: 23 | U12: 776 | V12: ** | W12: ** | X12: 11 | Y12: ** | Z12: 776 | AA12: 1 | AB12: 25 | AC12: 10 | AD12: 10 | AE12: YES
A13: LIBBY NORTH 10 | B13: 777 | C13: 4 | D13: 101 | E13: 468 | F13: 1 | G13: 2 | H13: 570 | I13: 101 | J13: 307 | K13: 1 | L13: 1 | M13: 409 | N13: 0 | O13: 3 | P13: 0 | Q13: 0 | R13: 3 | S13: * | T13: 16 | U13: 401 | V13: ** | W13: ** | X13: 1 | Y13: ** | Z13: 401 | AA13: 1 | AB13: 25 | AC13: 10 | AD13: 10 | AE13: YES
A14: LIBBY EAST 11 | B14: 1292 | C14: 2 | D14: 104 | E14: 915 | F14: 2 | G14: 4 | H14: 1021 | I14: 104 | J14: 550 | K14: 2 | L14: 2 | M14: 656 | N14: 0 | O14: 16 | P14: 0 | Q14: 0 | R14: 16 | S14: * | T14: 24 | U14: 646 | V14: ** | W14: ** | X14: 2 | Y14: ** | Z14: 646 | AA14: 2 | AB14: 25 | AC14: 10 | AD14: 10 | AE14: YES
A15: LIBBY SOUTH 12 | B15: 1600 | C15: 10 | D15: 184 | E15: 920 | F15: 0 | G15: 4 | H15: 1104 | I15: 184 | J15: 540 | K15: 0 | L15: 4 | M15: 724 | N15: 0 | O15: 7 | P15: 0 | Q15: 0 | R15: 7 | S15: * | T15: 20 | U15: 715 | V15: ** | W15: ** | X15: 0 | Y15: ** | Z15: 715 | AA15: 3 | AB15: 25 | AC15: 10 | AD15: 10 | AE15: YES
A16: LIBBY WEST 13 | B16: 1325 | C16: 2 | D16: 145 | E16: 820 | F16: 1 | G16: 0 | H16: 966 | I16: 145 | J16: 510 | K16: 1 | L16: 0 | M16: 656 | N16: 0 | O16: 7 | P16: 0 | Q16: 0 | R16: 7 | S16: * | T16: 19 | U16: 667 | V16: ** | W16: ** | X16: 1 | Y16: ** | Z16: 667 | AB16: 25 | AC16: 10 | AD16: 10 | AE16: YES
A17: TROY NORTH 14 | B17: 380 | C17: 0 | D17: 47 | E17: 220 | F17: 2 | G17: 3 | H17: 269 | I17: 47 | J17: 112 | K17: 2 | L17: 2 | M17: 161 | N17: 0 | O17: 2 | P17: 0 | Q17: 0 | R17: 2 | S17: * | T17: 2 | U17: 150 | V17: ** | W17: ** | X17: 2 | Y17: ** | Z17: 150 | AA17: 2 | AB17: 25 | AC17: 10 | AD17: 10 | AE17: YES
A18: EUREKA SOUTH 15 | B18: 1337 | C18: 0 | D18: 139 | E18: 789 | F18: 4 | G18: 2 | H18: 932 | I18: 139 | J18: 431 | K18: 4 | L18: 0 | M18: 574 | N18: 0 | O18: 8 | P18: 0 | Q18: 0 | R18: 8 | S18: * | T18: 28 | U18: 578 | V18: ** | W18: ** | X18: 4 | Y18: ** | Z18: 578 | AB18: 25 | AC18: 10 | AD18: 10 | AE18: YES
A19: EUREKA NORTH 16 | B19: 1752 | C19: 0 | D19: 207 | E19: 1059 | F19: 3 | G19: 5 | H19: 1269 | I19: 207 | J19: 501 | K19: 3 | L19: 0 | M19: 711 | N19: 0 | O19: 9 | P19: 0 | Q19: 0 | R19: 9 | S19: * | T19: 42 | U19: 693 | V19: ** | W19: ** | X19: 3 | Y19: ** | Z19: 693 | AB19: 25 | AC19: 8 | AD19: 8 | AE19: YES
A20: Total | B20: 14840 | C20: 34 | D20: 1561 | E20: 8961 | F20: 40 | G20: 24 | H20: 10562 | I20: 1561 | J20: 5026 | K20: 39 | L20: 13 | M20: 6626 | N20: 0 | O20: 91 | P20: 1 | Q20: 0 | R20: 92 | S20: * | T20: 229 | U20: 6560 | V20: 0 | W20: 0 | X20: 39 | Y20: 0 | Z20: 6560 | AA20: 13 | AB20: 400 | AC20: 145 | AD20: 145
B68: 948
B69: 31670

Sheet Madison
A1: 2026 Primary Election Reconciliation Report - Madison County
B2: Registered Voters | D2: Ballots Issued | I2: Ballots Accepted | N2: Ballots Rejected | U2: Votes Cast (Ballots Counted) | AB2: Test Ballots | AE2: Reconciled | AF2: Comments / Explanations
A3: Precinct | B3: Total | C3: Election Day | D3: Poll | E3: Absentee | F3: Provisional | G3: UOCAVA (included in Absentee Totals) | H3: Total | I3: Poll | J3: Absentee | K3: Provisional | L3: UOCAVA (included in Absentee Totals) | M3: Total | N3: Poll | O3: Absentee | P3: Provisional | Q3: UOCAVA (Included in Absentee Totals) | R3: Total Rejected - No Voter Credit Assigned | S3: Rejected by Prep Team - Post Voter Credit | T3: Total Ballots Voided | U3: Total Ballots Accepted - sent to count | V3: Poll | W3: Absentee | X3: Provisional | Y3: Subtotal of Counted Ballots | Z3: Total ballots counted - entered from tabulator / hand count report | AA3: UOCAVA (included in Absentee Totals) | AB3: Total Printed | AC3: Used for Testing | AD3: Counted | AE3: Y/N? | AF3: Note any variance and / or discrepancies
A4: ALDER | B4: 250 | C4: 1 | D4: 55 | E4: 133 | F4: 1 | G4: 1 | H4: 189 | I4: 54 | J4: 72 | K4: 1 | L4: 1 | M4: 127 | N4: 1 | O4: 3 | P4: 0 | Q4: 0 | R4: 4 | S4: 1 | T4: 1 | U4: 125 | V4: 54 | W4: 71 | X4: 1 | Y4: 126 | Z4: 125 | AA4: 1 | AB4: 30 | AC4: 30 | AD4: 30 | AE4: YES | AF4: think the provisional was also added to absentee count
A5: BIG SKY HD60 | B5: 490 | C5: 0 | D5: 8 | E5: 305 | G5: 2 | H5: 313 | I5: 8 | J5: 60 | K5: 0 | L5: 0 | M5: 68 | N5: 0 | O5: 7 | P5: 0 | Q5: 0 | R5: 7 | S5: 7 | T5: 5 | U5: 61 | V5: 8 | W5: 53 | X5: 0 | Y5: 61 | Z5: 61 | AA5: 0 | AB5: 30 | AC5: 30 | AD5: 30 | AE5: YES
A6: BIG SKY HD69 | B6: 29 | C6: 0 | D6: 0 | E6: 23 | G6: 1 | H6: 23 | I6: 0 | J6: 5 | K6: 0 | L6: 0 | M6: 5 | N6: 0 | O6: 1 | P6: 0 | Q6: 0 | R6: 1 | S6: 0 | T6: 0 | U6: 5 | V6: 0 | W6: 5 | X6: 0 | Y6: 5 | Z6: 5 | AA6: 0 | AB6: 30 | AC6: 30 | AD6: 30 | AE6: YES
A7: ENNIS - RURAL | B7: 1653 | C7: 0 | D7: 126 | E7: 1142 | G7: 10 | H7: 1268 | I7: 126 | J7: 574 | K7: 0 | L7: 3 | M7: 700 | N7: 0 | O7: 3 | P7: 0 | Q7: 0 | R7: 3 | S7: 23 | T7: 24 | U7: 677 | V7: 126 | W7: 551 | X7: 0 | Y7: 677 | Z7: 677 | AA7: 3 | AB7: 30 | AC7: 30 | AD7: 30 | AE7: YES
A8: ENNIS - TOWN | B8: 845 | C8: 1 | D8: 71 | E8: 486 | G8: 1 | H8: 557 | I8: 71 | J8: 220 | K8: 0 | L8: 1 | M8: 291 | N8: 0 | O8: 2 | P8: 0 | Q8: 0 | R8: 2 | S8: 8 | T8: 13 | U8: 283 | V8: 71 | W8: 212 | X8: 0 | Y8: 283 | Z8: 283 | AA8: 1 | AB8: 30 | AC8: 30 | AD8: 30 | AE8: YES
A9: ENNIS CD1 | B9: 1023 | C9: 1 | D9: 84 | E9: 667 | G9: 2 | H9: 751 | I9: 84 | J9: 380 | K9: 0 | L9: 1 | M9: 464 | N9: 0 | O9: 2 | P9: 0 | Q9: 0 | R9: 2 | S9: 19 | T9: 5 | U9: 445 | V9: 84 | W9: 361 | X9: 0 | Y9: 445 | Z9: 447 | AA9: 1 | AB9: 30 | AC9: 30 | AD9: 30 | AE9: YES | AF9: think one person put all three ballots in voted ballot box
A10: HARRISON | B10: 521 | C10: 0 | D10: 54 | E10: 332 | G10: 4 | H10: 386 | I10: 54 | J10: 175 | K10: 0 | L10: 2 | M10: 229 | N10: 0 | O10: 3 | P10: 0 | Q10: 0 | R10: 3 | S10: 7 | T10: 6 | U10: 222 | V10: 54 | W10: 168 | X10: 0 | Y10: 222 | Z10: 222 | AA10: 2 | AB10: 30 | AC10: 30 | AD10: 30 | AE10: YES
A11: JEFF ISLAND | B11: 319 | C11: 1 | D11: 40 | E11: 201 | G11: 1 | H11: 241 | I11: 40 | J11: 104 | K11: 0 | L11: 1 | M11: 144 | N11: 0 | O11: 1 | P11: 0 | Q11: 0 | R11: 1 | S11: 2 | T11: 1 | U11: 142 | V11: 40 | W11: 102 | X11: 0 | Y11: 142 | Z11: 142 | AA11: 1 | AB11: 30 | AC11: 30 | AD11: 30 | AE11: YES
A12: SHERIDAN | B12: 1388 | C12: 1 | D12: 222 | E12: 915 | G12: 5 | H12: 1137 | I12: 221 | J12: 632 | K12: 0 | L12: 2 | M12: 853 | N12: 1 | O12: 4 | P12: 0 | Q12: 0 | R12: 5 | S12: 27 | T12: 16 | U12: 826 | V12: 221 | W12: 605 | X12: 0 | Y12: 826 | Z12: 825 | AA12: 2 | AB12: 30 | AC12: 30 | AD12: 30 | AE12: YES | AF12: possible one pulled at early prep but forgot to write down
A13: TWIN BRIDGES | B13: 1016 | C13: 1 | D13: 140 | E13: 610 | G13: 4 | H13: 750 | I13: 140 | J13: 374 | K13: 0 | L13: 3 | M13: 514 | N13: 0 | O13: 3 | P13: 0 | Q13: 0 | R13: 3 | S13: 20 | T13: 16 | U13: 494 | V13: 140 | W13: 354 | X13: 0 | Y13: 494 | Z13: 493 | AA13: 3 | AB13: 30 | AC13: 30 | AD13: 30 | AE13: YES | AF13: possible one pulled at early prep but forgot to write down
A14: VIRGINIA CITY | B14: 259 | C14: 0 | D14: 40 | E14: 161 | G14: 0 | H14: 201 | I14: 38 | J14: 90 | K14: 0 | L14: 0 | M14: 128 | N14: 2 | O14: 1 | P14: 0 | Q14: 0 | R14: 3 | S14: 2 | T14: 5 | U14: 126 | V14: 38 | W14: 88 | X14: 0 | Y14: 126 | Z14: 127 | AA14: 0 | AB14: 30 | AC14: 30 | AD14: 30 | AE14: YES | AF14: know one unvoted ballot got put in w/voted ballots
A15: Total | B15: 7793 | C15: 6 | D15: 840 | E15: 4975 | F15: 1 | G15: 31 | H15: 5816 | I15: 836 | J15: 2686 | K15: 1 | L15: 14 | M15: 3523 | N15: 4 | O15: 30 | P15: 0 | Q15: 0 | R15: 34 | S15: 116 | T15: 92 | U15: 3406 | V15: 836 | W15: 2570 | X15: 1 | Y15: 3407 | Z15: 3407 | AA15: 14 | AB15: 330 | AC15: 330 | AD15: 330 | AE15: YES
B68: 948
B69: 17610

Sheet McCone
A1: 2026 Primary Election Reconciliation Report - McCone County
B2: Registered Voters | D2: Ballots Issued | I2: Ballots Accepted | N2: Ballots Rejected | U2: Votes Cast (Ballots Counted) | AB2: Test Ballots | AE2: Reconciled | AF2: Comments / Explanations
A3: Precinct | B3: Total | C3: Election Day | D3: Poll | E3: Absentee | F3: Provisional | G3: UOCAVA (included in Absentee Totals) | H3: Total | I3: Poll | J3: Absentee | K3: Provisional | L3: UOCAVA (included in Absentee Totals) | M3: Total | N3: Poll | O3: Absentee | P3: Provisional | Q3: UOCAVA (Included in Absentee Totals) | R3: Total Rejected - No Voter Credit Assigned | S3: Rejected by Prep Team - Post Voter Credit | T3: Total Ballots Voided | U3: Total Ballots Accepted - sent to count | V3: Poll | W3: Absentee | X3: Provisional | Y3: Subtotal of Counted Ballots | Z3: Total ballots counted - entered from tabulator / hand count report | AA3: UOCAVA (included in Absentee Totals) | AB3: Total Printed | AC3: Used for Testing | AD3: Counted | AE3: Y/N? | AF3: Note any variance and / or discrepancies
A4: PRECINCT 27 | B4: 329 | D4: 41 | E4: 179 | H4: 220 | I4: 47 | J4: 112 | L4: 1 | M4: 159 | N4: 0 | O4: 0 | P4: 0 | Q4: 0 | R4: 0 | S4: 0 | T4: 0 | U4: 159 | V4: * | W4: * | Y4: 0 | Z4: 159 | AA4: 1 | AB4: 50 | AC4: 10 | AD4: 0 | AE4: y | AF4: Poll and Absentee ballots were not separated when counted
A5: PRECINCT 4 | B5: 535 | D5: 144 | E5: 240 | H5: 384 | I5: 150 | J5: 138 | K5: 0 | L5: 0 | M5: 288 | N5: 2 | O5: 1 | P5: 0 | Q5: 0 | R5: 3 | S5: 4 | T5: 1 | U5: 284 | V5: * | W5: * | Y5: 0 | Z5: 284 | AB5: 50 | AC5: 10 | AE5: y
A6: PRECINCT 8 | B6: 385 | D6: 92 | E6: 201 | H6: 293 | I6: 96 | J6: 122 | L6: 0 | M6: 218 | N6: 1 | O6: 3 | P6: 1 | R6: 5 | S6: 5 | T6: 1 | U6: 212 | V6: * | W6: * | Y6: 0 | Z6: 212 | AB6: 50 | AC6: 10 | AE6: y
A7: Total | B7: 1249 | C7: 0 | D7: 277 | E7: 620 | F7: 0 | G7: 0 | H7: 897 | I7: 293 | J7: 372 | K7: 0 | L7: 1 | M7: 665 | N7: 3 | O7: 4 | P7: 1 | Q7: 0 | R7: 8 | S7: 9 | T7: 2 | U7: 655 | V7: 0 | W7: 0 | X7: 0 | Y7: 0 | Z7: 655 | AA7: 1 | AB7: 150 | AC7: 30 | AD7: 0
B68: 948
B69: 4166

Sheet Meagher
A1: 2026 Primary Election Reconciliation Report - Meagher County
B2: Registered Voters | D2: Ballots Issued | I2: Ballots Accepted | N2: Ballots Rejected | U2: Votes Cast (Ballots Counted) | AB2: Test Ballots | AE2: Reconciled | AF2: Comments / Explanations
A3: Precinct | B3: Total | C3: Election Day | D3: Poll | E3: Absentee | F3: Provisional | G3: UOCAVA (included in Absentee Totals) | H3: Total | I3: Poll | J3: Absentee | K3: Provisional | L3: UOCAVA (included in Absentee Totals) | M3: Total | N3: Poll | O3: Absentee | P3: Provisional | Q3: UOCAVA (Included in Absentee Totals) | R3: Total Rejected - No Voter Credit Assigned | S3: Rejected by Prep Team - Post Voter Credit | T3: Total Ballots Voided | U3: Total Ballots Accepted - sent to count | V3: Poll | W3: Absentee | X3: Provisional | Y3: Subtotal of Counted Ballots | Z3: Total ballots counted - entered from tabulator / hand count report | AA3: UOCAVA (included in Absentee Totals) | AB3: Total Printed | AC3: Used for Testing | AD3: Counted | AE3: Y/N? | AF3: Note any variance and / or discrepancies
A4: Precinct 5 | B4: 1437 | C4: 3 | D4: 64 | E4: 1001 | F4: 0 | G4: 0 | H4: 1065 | I4: 64 | J4: 595 | K4: 0 | L4: 0 | M4: 659 | N4: 0 | O4: 2 | P4: 0 | Q4: 0 | S4: 4 | T4: 8 | U4: 655 | V4: 64 | W4: 588 | X4: 3 | Y4: 655 | Z4: 655 | AA4: 0 | AE4: Y
A5: Total | B5: 1437 | C5: 3 | D5: 64 | E5: 1001 | F5: 0 | G5: 0 | H5: 1065 | I5: 64 | J5: 595 | K5: 0 | L5: 0 | M5: 659 | N5: 0 | O5: 2 | P5: 0 | Q5: 0 | R5: 0 | S5: 4 | T5: 8 | U5: 655 | V5: 64 | W5: 588 | X5: 3 | Y5: 655 | Z5: 655 | AA5: 0 | AB5: 0 | AC5: 0 | AD5: 0 | AE5: Y
B68: 948
B69: 4927

Sheet Mineral
A1: 2026 Primary Election Reconciliation Report - Mineral County
B2: Registered Voters | D2: Ballots Issued | I2: Ballots Accepted | N2: Ballots Rejected | U2: Votes Cast (Ballots Counted) | AB2: Test Ballots | AE2: Reconciled | AF2: Comments / Explanations
A3: Precinct | B3: Total | C3: Election Day | D3: Poll | E3: Absentee | F3: Provisional | G3: UOCAVA (included in Absentee Totals) | H3: Total | I3: Poll | J3: Absentee | K3: Provisional | L3: UOCAVA (included in Absentee Totals) | M3: Total | N3: Poll | O3: Absentee | P3: Provisional | Q3: UOCAVA (Included in Absentee Totals) | R3: Total Rejected - No Voter Credit Assigned | S3: Rejected by Prep Team - Post Voter Credit | T3: Total Ballots Voided | U3: Total Ballots Accepted - sent to count | V3: Poll | W3: Absentee | X3: Provisional | Y3: Subtotal of Counted Ballots | Z3: Total ballots counted - entered from tabulator / hand count report | AA3: UOCAVA (included in Absentee Totals) | AB3: Total Printed | AC3: Used for Testing | AD3: Counted | AE3: Y/N? | AF3: Note any variance and / or discrepancies
A4: ALBERTON | B4: 782 | C4: 2 | D4: 47 | E4: 455 | F4: 5 | G4: 1 | H4: 507 | I4: 47 | J4: 198 | K4: 5 | L4: 1 | M4: 250 | N4: 0 | O4: 3 | P4: 0 | R4: 3 | S4: 14 | T4: 5 | U4: 236 | V4: 47 | W4: 185 | X4: 4 | Y4: 236 | Z4: 236 | AA4: 1 | AC4: 22 | AD4: 22 | AE4: y | AF4: none
A5: ST. REGIS | B5: 783 | C5: 8 | D5: 108 | E5: 433 | F5: 7 | H5: 548 | I5: 108 | J5: 293 | K5: 7 | M5: 408 | N5: 0 | O5: 1 | P5: 0 | Q5: 0 | R5: 1 | S5: 20 | T5: 3 | U5: 388 | V5: 108 | W5: 274 | X5: 6 | Y5: 388 | Z5: 388 | AC5: 19 | AD5: 19 | AE5: y | AF5: none
A6: SUPERIOR_24 | B6: 300 | C6: 2 | D6: 25 | E6: 170 | F6: 2 | G6: 1 | H6: 197 | I6: 25 | J6: 127 | K6: 2 | L6: 1 | M6: 154 | N6: 0 | O6: 0 | P6: 0 | R6: 0 | S6: 9 | T6: 3 | U6: 145 | V6: 25 | W6: 118 | X6: 2 | Y6: 145 | Z6: 145 | AA6: 1 | AC6: 16 | AD6: 16 | AE6: y | AF6: none
A7: SUPERIOR_25 | B7: 711 | C7: 2 | D7: 80 | E7: 415 | F7: 1 | H7: 496 | I7: 80 | J7: 299 | K7: 1 | M7: 380 | N7: 0 | O7: 0 | P7: 0 | Q7: 0 | R7: 0 | S7: 10 | T7: 4 | U7: 370 | V7: 80 | W7: 289 | X7: 1 | Y7: 370 | Z7: 370 | AC7: 13 | AD7: 13 | AE7: y | AF7: none
A8: SUPERIOR_30 | B8: 1129 | C8: 1 | D8: 118 | E8: 715 | F8: 13 | G8: 2 | H8: 846 | I8: 118 | J8: 523 | K8: 12 | L8: 2 | M8: 653 | N8: 0 | O8: 2 | P8: 0 | R8: 2 | S8: 18 | T8: 10 | U8: 635 | V8: 118 | W8: 504 | X8: 13 | Y8: 635 | Z8: 635 | AA8: 2 | AC8: 20 | AD8: 20 | AE8: y | AF8: none
A9: WEST END | B9: 351 | C9: 5 | D9: 49 | E9: 176 | F9: 4 | G9: 1 | H9: 229 | I9: 49 | J9: 112 | L9: 1 | M9: 161 | N9: 0 | O9: 0 | P9: 0 | R9: 0 | S9: 2 | T9: 1 | U9: 163 | V9: 49 | W9: 110 | X9: 4 | Y9: 163 | Z9: 163 | AA9: 1 | AC9: 19 | AD9: 20 | AE9: y | AF9: none
A10: Total | B10: 4056 | C10: 20 | D10: 427 | E10: 2364 | F10: 32 | G10: 5 | H10: 2823 | I10: 427 | J10: 1552 | K10: 27 | L10: 5 | M10: 2006 | N10: 0 | O10: 6 | P10: 0 | Q10: 0 | R10: 6 | S10: =SUM(S4:S9) -> 73 | T10: 26 | U10: 1937 | V10: 427 | W10: 1480 | X10: 30 | Y10: 1937 | Z10: 1937 | AA10: 5 | AB10: 0 | AC10: 109 | AD10: 110
B68: 948
B69: 9865

Sheet Missoula
A1: 2026 Primary Election Reconciliation Report - Missoula County
B2: Registered Voters | D2: Ballots Issued | I2: Ballots Accepted | N2: Ballots Rejected | U2: Votes Cast (Ballots Counted) | AB2: Test Ballots | AE2: Reconciled | AF2: Comments / Explanations
A3: Precinct | B3: Total | C3: Election Day | D3: Poll | E3: Absentee | F3: Provisional | G3: UOCAVA (included in Absentee Totals) | H3: Total | I3: Poll | J3: Absentee | K3: Provisional | L3: UOCAVA (included in Absentee Totals) | M3: Total | N3: Poll | O3: Absentee | P3: Provisional | Q3: UOCAVA (Included in Absentee Totals) | R3: Total Rejected - No Voter Credit Assigned | S3: Rejected by Prep Team - Post Voter Credit | T3: Total Ballots Voided | U3: Total Ballots Accepted - sent to count | V3: Poll | W3: Absentee | X3: Provisional | Y3: Subtotal of Counted Ballots | Z3: Total ballots counted - entered from tabulator / hand count report | AA3: UOCAVA (included in Absentee Totals) | AB3: Total Printed | AC3: Used for Testing | AD3: Counted | AE3: Y/N? | AF3: Note any variance and / or discrepancies
A4: BONNER 92 | B4: 1129 | C4: 3 | D4: 27 | E4: 770 | F4: 10 | G4: 4 | H4: 807 | I4: 27 | J4: 378 | K4: 10 | L4: 3 | M4: 415 | O4: 4 | P4: 0 | Q4: 0 | R4: 4 | S4: 12 | T4: 8 | U4: 403 | V4: 27 | W4: 365 | X4: 11 | Y4: 403 | Z4: 403 | AA4: 3 | AB4: 36 | AC4: 30 | AD4: 30 | AE4: 0
A5: BONNER 93 | B5: 1023 | C5: 2 | D5: 41 | E5: 758 | F5: 4 | G5: 3 | H5: 803 | I5: 41 | J5: 431 | K5: 4 | L5: 3 | M5: 476 | O5: 10 | P5: 0 | Q5: 0 | R5: 10 | S5: 10 | T5: 12 | U5: 466 | V5: 41 | W5: 420 | X5: 5 | Y5: 466 | Z5: 466 | AA5: 3 | AB5: 36 | AC5: 30 | AD5: 30 | AE5: 0
A6: CLINTON 93 | B6: 1105 | C6: 1 | D6: 49 | E6: 724 | F6: 5 | G6: 2 | H6: 778 | I6: 49 | J6: 363 | K6: 5 | L6: 1 | M6: 417 | O6: 9 | P6: 0 | Q6: 0 | R6: 9 | S6: 12 | T6: 6 | U6: 405 | V6: 49 | W6: 352 | X6: 6 | Y6: 407 | Z6: 407 | AA6: 1 | AB6: 36 | AC6: 30 | AD6: 30 | AE6: 2 | AF6: two more counted than tracked
A7: COLD SPRINGS 89 A | B7: 1983 | C7: 1 | D7: 29 | E7: 1542 | F7: 6 | G7: 7 | H7: 1577 | I7: 29 | J7: 862 | K7: 6 | L7: 3 | M7: 897 | O7: 7 | P7: 0 | Q7: 0 | R7: 7 | S7: 24 | T7: 25 | U7: 873 | V7: 29 | W7: 838 | X7: 6 | Y7: 873 | Z7: 873 | AA7: 3 | AB7: 36 | AC7: 30 | AD7: 30 | AE7: 0
A8: COLD SPRINGS 89 B | B8: 1833 | C8: 4 | D8: 30 | E8: 1363 | F8: 7 | G8: 0 | H8: 1400 | I8: 30 | J8: 755 | K8: 7 | L8: 0 | M8: 792 | O8: 2 | P8: 0 | Q8: 0 | R8: 2 | S8: 15 | T8: 13 | U8: 777 | V8: 30 | W8: 741 | X8: 7 | Y8: 778 | Z8: 778 | AA8: 0 | AB8: 36 | AC8: 30 | AD8: 30 | AE8: 1 | AF8: one more counted than tracked
A9: COLD SPRINGS 93 | B9: 672 | C9: 1 | D9: 17 | E9: 539 | F9: 2 | G9: 1 | H9: 558 | I9: 17 | J9: 310 | K9: 2 | L9: 1 | M9: 329 | O9: 1 | P9: 0 | Q9: 0 | R9: 1 | S9: 3 | T9: 0 | U9: 326 | V9: 17 | W9: 307 | X9: 2 | Y9: 326 | Z9: 326 | AA9: 1 | AB9: 36 | AC9: 30 | AD9: 30 | AE9: 0
A10: COLD SPRINGS 94 A | B10: 2052 | C10: 3 | D10: 32 | E10: 1615 | F10: 5 | G10: 8 | H10: 1652 | I10: 32 | J10: 861 | K10: 5 | L10: 2 | M10: 898 | O10: 3 | P10: 0 | Q10: 0 | R10: 3 | S10: 18 | T10: 14 | U10: 880 | V10: 32 | W10: 842 | X10: 6 | Y10: 880 | Z10: 880 | AA10: 2 | AB10: 36 | AC10: 30 | AD10: 30 | AE10: 0
A11: COLD SPRINGS 94 B | B11: 1908 | C11: 3 | D11: 28 | E11: 1549 | F11: 4 | G11: 5 | H11: 1581 | I11: 28 | J11: 893 | K11: 4 | L11: 0 | M11: 925 | O11: 4 | P11: 0 | Q11: 0 | R11: 4 | S11: 13 | T11: 13 | U11: 912 | V11: 28 | W11: 877 | X11: 4 | Y11: 909 | Z11: 909 | AA11: 0 | AB11: 36 | AC11: 30 | AD11: 30 | AE11: -3 | AF11: three fewer counted than tracked
A12: COLD SPRINGS 94 C | B12: 2066 | C12: 8 | D12: 29 | E12: 1575 | F12: 5 | G12: 4 | H12: 1609 | I12: 29 | J12: 736 | K12: 5 | L12: 1 | M12: 770 | O12: 7 | P12: 0 | Q12: 0 | R12: 7 | S12: 30 | T12: 20 | U12: 740 | V12: 29 | W12: 700 | X12: 8 | Y12: 737 | Z12: 737 | AA12: 1 | AB12: 36 | AC12: 30 | AD12: 30 | AE12: -3 | AF12: three fewer counted than tracked
A13: EAST MISSOULA 92 | B13: 2470 | C13: 5 | D13: 71 | E13: 1746 | F13: 11 | G13: 7 | H13: 1828 | I13: 71 | J13: 979 | K13: 11 | L13: 3 | M13: 1061 | O13: 7 | P13: 0 | Q13: 0 | R13: 7 | S13: 31 | T13: 24 | U13: 1030 | V13: 71 | W13: 937 | X13: 13 | Y13: 1021 | Z13: 1021 | AA13: 3 | AB13: 36 | AC13: 30 | AD13: 30 | AE13: -9 | AF13: Some rejected bsllots were missed from ballot tracking
A14: FRENCHTOWN 90 A | B14: 758 | C14: 0 | D14: 22 | E14: 577 | F14: 3 | G14: 0 | H14: 602 | I14: 22 | J14: 253 | K14: 3 | L14: 0 | M14: 278 | O14: 3 | P14: 0 | Q14: 0 | R14: 3 | S14: 9 | T14: 5 | U14: 269 | V14: 22 | W14: 243 | X14: 3 | Y14: 268 | Z14: 268 | AA14: 0 | AB14: 36 | AC14: 30 | AD14: 30 | AE14: -1 | AF14: One ballot was missed from ballot tracking
A15: FRENCHTOWN 90 B | B15: 1786 | C15: 3 | D15: 57 | E15: 1295 | F15: 7 | G15: 3 | H15: 1359 | I15: 57 | J15: 635 | K15: 5 | L15: 2 | M15: 697 | O15: 9 | P15: 2 | Q15: 1 | R15: 11 | S15: 19 | T15: 11 | U15: 678 | V15: 57 | W15: 616 | X15: 5 | Y15: 678 | Z15: 678 | AA15: 1 | AB15: 36 | AC15: 30 | AD15: 30 | AE15: 0
A16: FRONT 100 A | B16: 1196 | C16: 12 | D16: 39 | E16: 854 | F16: 7 | G16: 1 | H16: 900 | I16: 39 | J16: 499 | K16: 7 | L16: 0 | M16: 545 | O16: 1 | P16: 0 | Q16: 0 | R16: 1 | S16: 11 | T16: 19 | U16: 534 | V16: 39 | W16: 488 | X16: 7 | Y16: 534 | Z16: 534 | AA16: 0 | AB16: 36 | AC16: 30 | AD16: 30 | AE16: 0
A17: FRONT 100 B | B17: 1510 | C17: 11 | D17: 39 | E17: 896 | F17: 10 | G17: 6 | H17: 945 | I17: 39 | J17: 458 | K17: 10 | L17: 1 | M17: 507 | O17: 9 | P17: 0 | Q17: 0 | R17: 9 | S17: 10 | T17: 28 | U17: 497 | V17: 39 | W17: 447 | X17: 10 | Y17: 496 | Z17: 496 | AA17: 1 | AB17: 36 | AC17: 30 | AD17: 30 | AE17: -1 | AF17: one fewer counted than tracked
A18: FRONT 98 | B18: 2047 | C18: 7 | D18: 28 | E18: 1268 | F18: 3 | G18: 4 | H18: 1299 | I18: 28 | J18: 510 | K18: 3 | L18: 1 | M18: 541 | O18: 5 | P18: 0 | Q18: 0 | R18: 5 | S18: 32 | T18: 37 | U18: 509 | V18: 28 | W18: 474 | X18: 5 | Y18: 507 | Z18: 507 | AA18: 1 | AB18: 36 | AC18: 30 | AD18: 30 | AE18: -2 | AF18: one fewer counted than tracked
A19: FRONT 99 | B19: 1215 | C19: 10 | D19: 19 | E19: 774 | F19: 7 | G19: 1 | H19: 800 | I19: 19 | J19: 328 | K19: 7 | L19: 1 | M19: 354 | O19: 3 | P19: 0 | Q19: 0 | R19: 3 | S19: 16 | T19: 17 | U19: 338 | V19: 19 | W19: 309 | X19: 9 | Y19: 337 | Z19: 337 | AA19: 1 | AB19: 36 | AC19: 30 | AD19: 30 | AE19: -1 | AF19: one fewer counted than tracked
A20: GRAY WOLF 91 | B20: 700 | C20: 3 | D20: 25 | E20: 466 | F20: 6 | G20: 2 | H20: 497 | I20: 25 | J20: 200 | K20: 6 | L20: 2 | M20: 231 | O20: 2 | P20: 0 | Q20: 0 | R20: 2 | S20: 16 | T20: 5 | U20: 215 | V20: 25 | W20: 184 | X20: 6 | Y20: 215 | Z20: 215 | AA20: 2 | AB20: 36 | AC20: 30 | AD20: 30 | AE20: 0
A21: HELLGATE 96 | B21: 914 | C21: 0 | D21: 23 | E21: 707 | F21: 0 | G21: 1 | H21: 730 | I21: 23 | J21: 374 | K21: 0 | L21: 0 | M21: 397 | O21: 6 | P21: 0 | Q21: 0 | R21: 6 | S21: 11 | T21: 3 | U21: 386 | V21: 23 | W21: 361 | X21: 2 | Y21: 386 | Z21: 386 | AA21: 0 | AB21: 36 | AC21: 30 | AD21: 30 | AE21: 0
A22: HELLGATE 97 | B22: 1841 | C22: 0 | D22: 42 | E22: 1418 | F22: 7 | G22: 3 | H22: 1467 | I22: 42 | J22: 750 | K22: 7 | L22: 1 | M22: 799 | O22: 5 | P22: 0 | Q22: 0 | R22: 5 | S22: 19 | T22: 7 | U22: 780 | V22: 42 | W22: 730 | X22: 7 | Y22: 779 | Z22: 779 | AA22: 1 | AB22: 36 | AC22: 30 | AD22: 30 | AE22: -1 | AF22: one fewer counted than tracked
A23: HELLGATE 98 A | B23: 2172 | C23: 6 | D23: 29 | E23: 1354 | F23: 8 | G23: 3 | H23: 1391 | I23: 29 | J23: 549 | K23: 7 | L23: 0 | M23: 585 | O23: 7 | P23: 1 | Q23: 0 | R23: 8 | S23: 23 | T23: 39 | U23: 562 | V23: 29 | W23: 521 | X23: 8 | Y23: 558 | Z23: 558 | AA23: 0 | AB23: 36 | AC23: 30 | AD23: 30 | AE23: -4 | AF23: four fewer counted than tracked
A24: HELLGATE 98 B | B24: 2246 | C24: 0 | D24: 32 | E24: 1780 | F24: 7 | G24: 4 | H24: 1819 | I24: 32 | J24: 891 | K24: 5 | L24: 1 | M24: 928 | O24: 14 | P24: 2 | Q24: 0 | R24: 16 | S24: 25 | T24: 12 | U24: 903 | V24: 32 | W24: 866 | X24: 5 | Y24: 903 | Z24: 903 | AA24: 1 | AB24: 36 | AC24: 30 | AD24: 30 | AE24: 0
A25: HELLGATE 98 C | B25: 123 | C25: 0 | D25: 2 | E25: 75 | F25: 0 | G25: 0 | H25: 77 | I25: 2 | J25: 29 | K25: 0 | L25: 0 | M25: 31 | O25: 0 | P25: 0 | Q25: 0 | R25: 0 | S25: 0 | T25: 0 | U25: 31 | V25: 2 | W25: 29 | Y25: 31 | Z25: 31 | AA25: 0 | AB25: 36 | AC25: 30 | AD25: 30 | AE25: 0
A26: HELLGATE 98 D | B26: 2463 | C26: 2 | D26: 42 | E26: 1662 | F26: 10 | G26: 5 | H26: 1714 | I26: 42 | J26: 759 | K26: 10 | L26: 4 | M26: 811 | O26: 7 | P26: 0 | Q26: 0 | R26: 7 | S26: 25 | T26: 25 | U26: 786 | V26: 42 | W26: 731 | X26: 12 | Y26: 785 | Z26: 785 | AA26: 4 | AB26: 36 | AC26: 30 | AD26: 30 | AE26: -1 | AF26: one fewer counted than tracked
A27: HELLGATE 99 A | B27: 1576 | C27: 2 | D27: 21 | E27: 1218 | F27: 2 | G27: 11 | H27: 1241 | I27: 21 | J27: 648 | K27: 2 | L27: 3 | M27: 671 | O27: 4 | P27: 0 | Q27: 0 | R27: 4 | S27: 11 | T27: 24 | U27: 660 | V27: 21 | W27: 638 | X27: 2 | Y27: 661 | Z27: 661 | AA27: 3 | AB27: 36 | AC27: 30 | AD27: 30 | AE27: 1 | AF27: one more counted than tracked
A28: HELLGATE 99 B | B28: 1517 | C28: 2 | D28: 13 | E28: 1005 | F28: 5 | G28: 4 | H28: 1023 | I28: 13 | J28: 390 | K28: 4 | L28: 1 | M28: 407 | O28: 5 | P28: 1 | Q28: 0 | R28: 6 | S28: 15 | T28: 11 | U28: 392 | V28: 13 | W28: 377 | X28: 4 | Y28: 394 | Z28: 394 | AA28: 1 | AB28: 36 | AC28: 30 | AD28: 30 | AE28: 2 | AF28: two more counted than tracked
A29: LIBRARY 100 A | B29: 1336 | C29: 9 | D29: 26 | E29: 764 | F29: 15 | G29: 1 | H29: 805 | I29: 26 | J29: 326 | K29: 15 | L29: 1 | M29: 367 | O29: 2 | P29: 0 | Q29: 0 | R29: 2 | S29: 9 | T29: 25 | U29: 358 | V29: 26 | W29: 318 | X29: 15 | Y29: 359 | Z29: 359 | AA29: 1 | AB29: 36 | AC29: 30 | AD29: 30 | AE29: 1 | AF29: one more counted than tracked
A30: LIBRARY 100 B | B30: 1381 | C30: 11 | D30: 33 | E30: 904 | F30: 10 | G30: 4 | H30: 947 | I30: 33 | J30: 500 | K30: 10 | L30: 2 | M30: 543 | O30: 3 | P30: 0 | Q30: 0 | R30: 3 | S30: 17 | T30: 30 | U30: 526 | V30: 33 | W30: 485 | X30: 11 | Y30: 529 | Z30: 529 | AA30: 2 | AB30: 36 | AC30: 30 | AD30: 30 | AE30: 3 | AF30: three more counted than tracked
